BEGIN:VCALENDAR
VERSION:2.0
PRODID:-//藤沢市市民活動推進センター - ECPv6.15.11//NONSGML v1.0//EN
CALSCALE:GREGORIAN
METHOD:PUBLISH
X-WR-CALNAME:藤沢市市民活動推進センター
X-ORIGINAL-URL:https://fujisawa-npo.jp
X-WR-CALDESC:藤沢市市民活動推進センター のイベント
REFRESH-INTERVAL;VALUE=DURATION:PT1H
X-Robots-Tag:noindex
X-PUBLISHED-TTL:PT1H
BEGIN:VTIMEZONE
TZID:Asia/Tokyo
BEGIN:STANDARD
TZOFFSETFROM:+0900
TZOFFSETTO:+0900
TZNAME:JST
DTSTART:20230101T000000
END:STANDARD
END:VTIMEZONE
BEGIN:VEVENT
DTSTART;TZID=Asia/Tokyo:20240912T100000
DTEND;TZID=Asia/Tokyo:20240912T120000
DTSTAMP:20260420T053844
CREATED:20240809T054622Z
LAST-MODIFIED:20240809T054831Z
UID:13834-1726135200-1726142400@fujisawa-npo.jp
SUMMARY:鶴見川とわたしたち
DESCRIPTION:情報No.112372 \n締切：令和６年９月３日(火) \n\n昔から台風や大雨のたびに氾濫を繰り返し、“暴れ川”と呼ばれた「鶴見川」の歴史と私たちの生活のかかわりについてお話を聞き、考え、情報交換しましょう。 \nゲストスピーカー：「タウンガイド青葉」松尾良信さん
URL:https://fujisawa-npo.jp/event/%e9%b6%b4%e8%a6%8b%e5%b7%9d%e3%81%a8%e3%82%8f%e3%81%9f%e3%81%97%e3%81%9f%e3%81%a1
LOCATION:青葉区役所 / 青葉区区民活動支援センター\, 青葉区市ケ尾町31-4\, 横浜市\, 神奈川県\, 日本
CATEGORIES:イベント
ATTACH;FMTTYPE=image/jpeg:https://fujisawa-npo.jp/wp-content/uploads/2024/08/112372_page-0001.jpg
ORGANIZER;CN="%E9%9D%92%E8%91%89%E5%8C%BA%E5%8C%BA%E6%B0%91%E6%B4%BB%E5%8B%95%E6%94%AF%E6%8F%B4%E3%82%BB%E3%83%B3%E3%82%BF%E3%83%BC":MAILTO:ao-machikatsu@city.yokohama.jp
END:VEVENT
BEGIN:VEVENT
DTSTART;TZID=Asia/Tokyo:20240911T133000
DTEND;TZID=Asia/Tokyo:20240911T151500
DTSTAMP:20260420T053844
CREATED:20240404T123319Z
LAST-MODIFIED:20240404T123328Z
UID:12392-1726061400-1726067700@fujisawa-npo.jp
SUMMARY:福祉の仕事を知る懇談会
DESCRIPTION:日程は画像またはPDFをご覧ください\n※開催日の2週間前を目途に参加の可否をご登録いただいたメールアドレスにお知らせいたします。\nPDF情報No.111741 \n\n仕事の魅力？内容？やりがい？不安？\nそれならば現場で働く方に聞くのが一番！\n2wayコミュニケーションで聞いてみよう！\n※申込み制
URL:https://fujisawa-npo.jp/event/%e7%a6%8f%e7%a5%89%e3%81%ae%e4%bb%95%e4%ba%8b%e3%82%92%e7%9f%a5%e3%82%8b%e6%87%87%e8%ab%87%e4%bc%9a-3
LOCATION:かながわ県民センター\, 神奈川区鶴屋町2-24-2\, 横浜市\, 神奈川県\, 日本
CATEGORIES:イベント
ATTACH;FMTTYPE=image/jpeg:https://fujisawa-npo.jp/wp-content/uploads/2024/04/111741-scaled.jpg
END:VEVENT
BEGIN:VEVENT
DTSTART;VALUE=DATE:20240909
DTEND;VALUE=DATE:20241220
DTSTAMP:20260420T053844
CREATED:20240906T071912Z
LAST-MODIFIED:20240906T071912Z
UID:14287-1725840000-1734652799@fujisawa-npo.jp
SUMMARY:県議会　令和6年　第3回定例会
DESCRIPTION:PDF情報No.112524 \n\n  \n代表質問や一般質問など、県議会の模様は、インターネット中継でもご覧いただけます。
URL:https://fujisawa-npo.jp/event/%e7%9c%8c%e8%ad%b0%e4%bc%9a%e3%80%80%e4%bb%a4%e5%92%8c6%e5%b9%b4%e3%80%80%e7%ac%ac3%e5%9b%9e%e5%ae%9a%e4%be%8b%e4%bc%9a
LOCATION:神奈川県
CATEGORIES:イベント
ATTACH;FMTTYPE=image/jpeg:https://fujisawa-npo.jp/wp-content/uploads/2024/09/112524_page-0001.jpg
END:VEVENT
BEGIN:VEVENT
DTSTART;VALUE=DATE:20240908
DTEND;VALUE=DATE:20241212
DTSTAMP:20260420T053844
CREATED:20240906T065621Z
LAST-MODIFIED:20240906T065621Z
UID:14274-1725753600-1733961599@fujisawa-npo.jp
SUMMARY:19th 湘南邸園文化祭2024
DESCRIPTION:情報No.112521 \n\n湘南邸園文化祭は、今年で19回目を迎えます。今年は、12市町を会場に、55催しを開催いたします。湘南に残る邸園（邸宅・庭園、歴史的建造物等）を舞台とした、各地域のNPO等29団体による様々な催しを行いますので、ぜひ会場まで足をお運びください。\n各催しの詳細は、湘南邸園文化祭2024ガイドブックまたは各会場の記事をご覧ください
URL:https://fujisawa-npo.jp/event/19th-%e6%b9%98%e5%8d%97%e9%82%b8%e5%9c%92%e6%96%87%e5%8c%96%e7%a5%ad2024
LOCATION:神奈川県
CATEGORIES:イベント
ATTACH;FMTTYPE=image/jpeg:https://fujisawa-npo.jp/wp-content/uploads/2024/09/112521_page-0001.jpg
END:VEVENT
BEGIN:VEVENT
DTSTART;TZID=Asia/Tokyo:20240907T150000
DTEND;TZID=Asia/Tokyo:20240907T165000
DTSTAMP:20260420T053844
CREATED:20240516T105500Z
LAST-MODIFIED:20240516T105500Z
UID:12818-1725721200-1725727800@fujisawa-npo.jp
SUMMARY:レ・フレール ピアノ連弾コンサート Boogie Back to ZUSHI
DESCRIPTION:PDF情報No.111947 \n\n結成20周年を迎えたレ・フレールが、時を経ても変わらない感動と興奮、そして時を重ねて熟されたサウンドをお届けします。\nデビュー当時の楽曲と、“いま”のレ・フレール楽曲を壮大なサウンドヒストリーとしてお楽しみください。
URL:https://fujisawa-npo.jp/event/%e3%83%ac%e3%83%bb%e3%83%95%e3%83%ac%e3%83%bc%e3%83%ab-%e3%83%94%e3%82%a2%e3%83%8e%e9%80%a3%e5%bc%be%e3%82%b3%e3%83%b3%e3%82%b5%e3%83%bc%e3%83%88-boogie-back-to-zushi
LOCATION:逗子文化プラザ なぎさホール\, 逗子4-2-10\, 逗子市\, 神奈川県\, 日本
CATEGORIES:イベント
ATTACH;FMTTYPE=image/jpeg:https://fujisawa-npo.jp/wp-content/uploads/2024/05/111947-scaled.jpg
END:VEVENT
BEGIN:VEVENT
DTSTART;VALUE=DATE:20240906
DTEND;VALUE=DATE:20240920
DTSTAMP:20260420T053844
CREATED:20240815T054200Z
LAST-MODIFIED:20240815T054200Z
UID:13928-1725580800-1726790399@fujisawa-npo.jp
SUMMARY:上映会「山里は持続可能な世界だった」
DESCRIPTION:PDF情報No.112419 \n\nかつて村人たちは自然を壊さずに暮らしていた！\nそこに豊かな未来を築くための大切な知恵がある
URL:https://fujisawa-npo.jp/event/%e4%b8%8a%e6%98%a0%e4%bc%9a%e3%80%8c%e5%b1%b1%e9%87%8c%e3%81%af%e6%8c%81%e7%b6%9a%e5%8f%af%e8%83%bd%e3%81%aa%e4%b8%96%e7%95%8c%e3%81%a0%e3%81%a3%e3%81%9f%e3%80%8d
LOCATION:ヒューマントラストシネマ有楽町 他
CATEGORIES:イベント
ATTACH;FMTTYPE=image/jpeg:https://fujisawa-npo.jp/wp-content/uploads/2024/08/112419_page-0001.jpg
ORGANIZER;CN="%E6%98%A0%E7%94%BB%E3%80%8C%E5%B1%B1%E9%87%8C%E3%81%AF%E6%8C%81%E7%B6%9A%E5%8F%AF%E8%83%BD%E3%81%AA%E4%B8%96%E7%95%8C%E3%81%A0%E3%81%A3%E3%81%9F%E3%80%8D%E8%A3%BD%E4%BD%9C%E5%A7%94%E5%93%A1%E4%BC%9A":MAILTO:suzutoshi0620@nifty.com
END:VEVENT
BEGIN:VEVENT
DTSTART;TZID=Asia/Tokyo:20240903T140000
DTEND;TZID=Asia/Tokyo:20240903T160000
DTSTAMP:20260420T053844
CREATED:20240610T052938Z
LAST-MODIFIED:20240610T052938Z
UID:13164-1725372000-1725379200@fujisawa-npo.jp
SUMMARY:ひるまのうたごえ 秋の大うたう会
DESCRIPTION:PDF情報No.112079 \n\n懐かしい歌 思い出の歌をあなたと一緒に
URL:https://fujisawa-npo.jp/event/%e3%81%b2%e3%82%8b%e3%81%be%e3%81%ae%e3%81%86%e3%81%9f%e3%81%94%e3%81%88-%e7%a7%8b%e3%81%ae%e5%a4%a7%e3%81%86%e3%81%9f%e3%81%86%e4%bc%9a
LOCATION:藤沢市民会館\, 251-0026
CATEGORIES:イベント
ATTACH;FMTTYPE=image/jpeg:https://fujisawa-npo.jp/wp-content/uploads/2024/06/112079-scaled.jpg
END:VEVENT
BEGIN:VEVENT
DTSTART;VALUE=DATE:20240902
DTEND;VALUE=DATE:20241028
DTSTAMP:20260420T053844
CREATED:20240919T074603Z
LAST-MODIFIED:20240919T074603Z
UID:14375-1725235200-1730073599@fujisawa-npo.jp
SUMMARY:「文化財と保存と活用」アンケートにご協力をお願いします
DESCRIPTION:PDF情報No.112555 \n期間：9/2（月）～10/27（日） \n\nhttps://forms.office.com/pages/responsepage.aspx?id=CeT-tIerDU-XeCSB6_YDkCQVp5hS_dBKoBS73ZrmgnZURDhDVU9OTzBPN1JNV1ZWOEJXMktSMUc2Ri4u&route=shorturl
URL:https://fujisawa-npo.jp/event/%e3%80%8c%e6%96%87%e5%8c%96%e8%b2%a1%e3%81%a8%e4%bf%9d%e5%ad%98%e3%81%a8%e6%b4%bb%e7%94%a8%e3%80%8d%e3%82%a2%e3%83%b3%e3%82%b1%e3%83%bc%e3%83%88%e3%81%ab%e3%81%94%e5%8d%94%e5%8a%9b%e3%82%92%e3%81%8a
LOCATION:神奈川県
CATEGORIES:イベント
ATTACH;FMTTYPE=image/jpeg:https://fujisawa-npo.jp/wp-content/uploads/2024/09/1726731913449-ab2a0bea-0680-4d06-8a18-f9c13fe28a3e_1.jpg
END:VEVENT
BEGIN:VEVENT
DTSTART;TZID=Asia/Tokyo:20240901T133000
DTEND;TZID=Asia/Tokyo:20240901T133000
DTSTAMP:20260420T053844
CREATED:20240815T055028Z
LAST-MODIFIED:20240815T055028Z
UID:13937-1725197400-1725197400@fujisawa-npo.jp
SUMMARY:外郎売の口上まつり
DESCRIPTION:情報No.112424 \n\n歌舞伎十八番の内「外郎売」を基調とした創作舞台を披露します
URL:https://fujisawa-npo.jp/event/%e5%a4%96%e9%83%8e%e5%a3%b2%e3%81%ae%e5%8f%a3%e4%b8%8a%e3%81%be%e3%81%a4%e3%82%8a
LOCATION:小田原三の丸ホール\, 〒250-0012 神奈川県小田原市本町1丁目7-50\, 小田原市\, 〒250-0012\, 日本
CATEGORIES:イベント
ATTACH;FMTTYPE=image/jpeg:https://fujisawa-npo.jp/wp-content/uploads/2024/08/112424_page-0001-e1723701020308.jpg
END:VEVENT
BEGIN:VEVENT
DTSTART;TZID=Asia/Tokyo:20240901T100000
DTEND;TZID=Asia/Tokyo:20240901T130000
DTSTAMP:20260420T053844
CREATED:20240819T024006Z
LAST-MODIFIED:20240819T024006Z
UID:14059-1725184800-1725195600@fujisawa-npo.jp
SUMMARY:雪道
DESCRIPTION:9月1日（日）\n1回目10:00～\n2回目14:00～\n上映時間121分\nPDF情報No.112459 \n\nずっとふたりで生きてきた\n今も戦争と暴力に苦しむ方々のことを忘れません
URL:https://fujisawa-npo.jp/event/%e9%9b%aa%e9%81%93
LOCATION:藤沢市民会館\, 251-0026
CATEGORIES:イベント
ATTACH;FMTTYPE=image/jpeg:https://fujisawa-npo.jp/wp-content/uploads/2024/08/112459-scaled.jpg
END:VEVENT
BEGIN:VEVENT
DTSTART;VALUE=DATE:20240901
DTEND;VALUE=DATE:20250101
DTSTAMP:20260420T053844
CREATED:20240906T073811Z
LAST-MODIFIED:20240906T073811Z
UID:14292-1725148800-1735689599@fujisawa-npo.jp
SUMMARY:かながわ県民文化祭2024
DESCRIPTION:情報No.112526 \n\n県では、昨年に引き続き、文化の日を中心とした9月から12月に「かながわ県民文化祭」を開催します。\nテーマは「心躍る、花開く、新たな文化」です。
URL:https://fujisawa-npo.jp/event/%e3%81%8b%e3%81%aa%e3%81%8c%e3%82%8f%e7%9c%8c%e6%b0%91%e6%96%87%e5%8c%96%e7%a5%ad2024
LOCATION:神奈川県
CATEGORIES:イベント
ATTACH;FMTTYPE=image/jpeg:https://fujisawa-npo.jp/wp-content/uploads/2024/09/IMG_6012.jpeg
END:VEVENT
BEGIN:VEVENT
DTSTART;VALUE=DATE:20240901
DTEND;VALUE=DATE:20241201
DTSTAMP:20260420T053844
CREATED:20240703T091702Z
LAST-MODIFIED:20240703T091915Z
UID:13445-1725148800-1733011199@fujisawa-npo.jp
SUMMARY:第23回カナガワビエンナーレ国際児童画展 作品募集
DESCRIPTION:PDF情報No.112173 \n\n絵画を通じて明日の世界を担う子どもたちの夢や想像力を育み、お互いの生活や多様な文化を理解するため、海外および神奈川県内と全国の外国人学校から絵画を募集し、展示する国際児童画展です。
URL:https://fujisawa-npo.jp/event/%e7%ac%ac23%e5%9b%9e%e3%82%ab%e3%83%8a%e3%82%ac%e3%83%af%e3%83%93%e3%82%a8%e3%83%b3%e3%83%8a%e3%83%bc%e3%83%ac%e5%9b%bd%e9%9a%9b%e5%85%90%e7%ab%a5%e7%94%bb%e5%b1%95-%e4%bd%9c%e5%93%81%e5%8b%9f
LOCATION:あーすぷらざ (神奈川県立地球市民かながわプラザ)\, 栄区小菅ヶ谷1-2-1\, 横浜市\, 神奈川県\, 247-0007
CATEGORIES:イベント
ATTACH;FMTTYPE=image/jpeg:https://fujisawa-npo.jp/wp-content/uploads/2024/07/112173-scaled.jpg
ORGANIZER;CN="%E3%82%AB%E3%83%8A%E3%82%AC%E3%83%AF%E3%83%93%E3%82%A8%E3%83%B3%E3%83%8A%E3%83%BC%E3%83%AC%E5%9B%BD%E9%9A%9B%E5%85%90%E7%AB%A5%E7%94%BB%E5%B1%95%E4%BA%8B%E5%8B%99%E5%B1%80(%E3%81%82%E3%83%BC%E3%81%99%E3%81%B7%E3%82%89%E3%81%96%E5%86%85)":MAILTO:k-biennial@earthplaza.jp
END:VEVENT
BEGIN:VEVENT
DTSTART;TZID=Asia/Tokyo:20240831T140000
DTEND;TZID=Asia/Tokyo:20240831T153000
DTSTAMP:20260420T053844
CREATED:20240809T061205Z
LAST-MODIFIED:20240809T061304Z
UID:13845-1725112800-1725118200@fujisawa-npo.jp
SUMMARY:鎌倉淡青会公開セミナー2024
DESCRIPTION:情報No.112373 \n\n「御谷騒動と古都保存における鎌倉風致保存会の役割」\n兵藤義郎（(公財)鎌倉風致保存会理事長） \n日本の古都を守る原点となった御谷騒動を振り返り、歴史的景観を保全する大切さを後世に引き継ぐため、日本ナショナルトラスト第１号の鎌倉風致保存会の活動をとおしてその意義を考えます。
URL:https://fujisawa-npo.jp/event/%e9%8e%8c%e5%80%89%e6%b7%a1%e9%9d%92%e4%bc%9a%e5%85%ac%e9%96%8b%e3%82%bb%e3%83%9f%e3%83%8a%e3%83%bc2024
LOCATION:鎌倉商工会議所地下ホール\, 神奈川県鎌倉市御成町17-29\, 鎌倉市\, 248-0012\, 日本
CATEGORIES:イベント
ATTACH;FMTTYPE=image/jpeg:https://fujisawa-npo.jp/wp-content/uploads/2024/08/112373_page-0001.jpg
END:VEVENT
BEGIN:VEVENT
DTSTART;TZID=Asia/Tokyo:20240831T100000
DTEND;TZID=Asia/Tokyo:20240831T160000
DTSTAMP:20260420T053844
CREATED:20240815T051823Z
LAST-MODIFIED:20240815T051856Z
UID:13910-1725098400-1725120000@fujisawa-npo.jp
SUMMARY:FUJISAWA SPORTS PARK
DESCRIPTION:情報No.112414 \n\n2024年8月31日（土曜日）に藤沢駅北口サンパール広場で「FUJISAWA SPORTS PARK」を開催します！\n今回のテーマは「プロスポーツ交流」。\n藤沢ゆかりのプロスポーツチーム、選手との交流や様々なスポーツ体験ができますので、ぜひお立ち寄りください。
URL:https://fujisawa-npo.jp/event/fujisawa-sports-park
LOCATION:藤沢駅前 サンパール広場
CATEGORIES:イベント
ATTACH;FMTTYPE=image/jpeg:https://fujisawa-npo.jp/wp-content/uploads/2024/08/112414_page-0001.jpg
ORGANIZER;CN="%E3%81%B5%E3%81%98%E3%81%95%E3%82%8F%E3%82%B9%E3%83%9D%E3%83%BC%E3%83%84%E3%83%91%E3%83%BC%E3%82%AF%E5%AE%9F%E8%A1%8C%E5%A7%94%E5%93%A1%E4%BC%9A":MAILTO:info@fujisawaeki-amo.com
END:VEVENT
BEGIN:VEVENT
DTSTART;TZID=Asia/Tokyo:20240828T140000
DTEND;TZID=Asia/Tokyo:20240828T150000
DTSTAMP:20260420T053844
CREATED:20240819T031428Z
LAST-MODIFIED:20240819T041638Z
UID:14072-1724853600-1724857200@fujisawa-npo.jp
SUMMARY:Free English　Chat - and a poem
DESCRIPTION:日程\n8/28（水）13:00～14:00\n9/4（水）11:00～12:00\n9/19（木）26（木）11:00～12:00\nPDF情報No.112462 \n\nHi\, what’s your name?\nMy name is Martin.\nI’m from New Zealand. I want to have a relaxed chat and finish with a poem!
URL:https://fujisawa-npo.jp/event/free-english%e3%80%80chat-and-a-poem
LOCATION:藤沢市市民活動推進センター(アーバンセンター藤沢 2F)\, 藤沢1031\, 藤沢市\, 神奈川県\, 日本
CATEGORIES:イベント
ATTACH;FMTTYPE=image/jpeg:https://fujisawa-npo.jp/wp-content/uploads/2024/08/112462-scaled.jpg
END:VEVENT
BEGIN:VEVENT
DTSTART;TZID=Asia/Tokyo:20240827T100000
DTEND;TZID=Asia/Tokyo:20240827T120000
DTSTAMP:20260420T053844
CREATED:20240729T103214Z
LAST-MODIFIED:20240729T103214Z
UID:13742-1724752800-1724760000@fujisawa-npo.jp
SUMMARY:行ってみよう！骨の博物館
DESCRIPTION:PDF情報No.112329 \n\n日本大学生物資源科学部博物館「骨の博物館」には、アフリカゾウ、キリンなどの動物の骨や様々な生物のはく製、昆虫の標本などが数多く展示されています。職員の解説を聞きながら、生物の細部を楽しく観察し生態を学んでみませんか。
URL:https://fujisawa-npo.jp/event/%e8%a1%8c%e3%81%a3%e3%81%a6%e3%81%bf%e3%82%88%e3%81%86%ef%bc%81%e9%aa%a8%e3%81%ae%e5%8d%9a%e7%89%a9%e9%a4%a8
LOCATION:日本大学生物資源科学部\, 亀井野1866\, 藤沢市
CATEGORIES:イベント
ATTACH;FMTTYPE=image/jpeg:https://fujisawa-npo.jp/wp-content/uploads/2024/07/112329-scaled.jpg
END:VEVENT
BEGIN:VEVENT
DTSTART;TZID=Asia/Tokyo:20240826T200000
DTEND;TZID=Asia/Tokyo:20240826T210000
DTSTAMP:20260420T053844
CREATED:20240815T053045Z
LAST-MODIFIED:20240816T042910Z
UID:13923-1724702400-1724706000@fujisawa-npo.jp
SUMMARY:第1回 メタバース交流会
DESCRIPTION:情報No.112416 \n\n本事業は、文部科学省の令和6年度「学校卒業後における障害者の学びの支援推進事業」の委託事業として、認定NPO法人藤沢市民活動推進機構が実施するものです。障害者の生涯学習や余暇にメタバースという選択肢を増やし、高校卒業前からの学びの中に取り入れていくこと、メタバース体験の機会を作ることなどを目的としています。 \n「メタバース交流会」は、その事業の一環として、メタバース空間内で全4回（予定）実施。各回において、障害者のメタバースを活用したコミュニケーション、余暇、学びの事例を、交流をしながら学んでいきます。
URL:https://fujisawa-npo.jp/event/%e7%ac%ac1%e5%9b%9e-%e3%83%a1%e3%82%bf%e3%83%90%e3%83%bc%e3%82%b9%e4%ba%a4%e6%b5%81%e4%bc%9a
LOCATION:メタバース空間「ガイアタウン」
CATEGORIES:イベント
ATTACH;FMTTYPE=image/jpeg:https://fujisawa-npo.jp/wp-content/uploads/2024/08/meta.jpg
ORGANIZER;CN="%E8%AA%8D%E5%AE%9ANPO%E6%B3%95%E4%BA%BA %E8%97%A4%E6%B2%A2%E5%B8%82%E6%B0%91%E6%B4%BB%E5%8B%95%E6%8E%A8%E9%80%B2%E6%A9%9F%E6%A7%8B(%E6%B9%98%E5%8D%97SDGs%E3%83%8D%E3%83%83%E3%83%88%E3%83%AF%E3%83%BC%E3%82%AF)":MAILTO:info@sdgs-shonan.com
END:VEVENT
BEGIN:VEVENT
DTSTART;TZID=Asia/Tokyo:20240825T140000
DTEND;TZID=Asia/Tokyo:20240825T160000
DTSTAMP:20260420T053844
CREATED:20240809T053312Z
LAST-MODIFIED:20240809T053953Z
UID:13830-1724594400-1724601600@fujisawa-npo.jp
SUMMARY:平和を願う音楽朗読劇に出演しませんか？
DESCRIPTION:情報No.112361 \n\n平和＆共生コンサートと体験ワークショップ \n◆音楽朗読劇「ヒロシマのピアノ」出演者を大募集\n事前練習にご参加ください \n◆「共生」をテーマに音楽やダンス発表も！\n被爆ピアノを描いた絵本を朗読し、音楽や身体表現も含む音楽劇です。\n年齢や障がいを越え、近隣の支援学校の皆様にもご参加頂きながらインクルーシブな表現活動を実現しています。\n経験不問、どなたでもお気軽にご参加下さい。
URL:https://fujisawa-npo.jp/event/%e5%b9%b3%e5%92%8c%e3%82%92%e9%a1%98%e3%81%86%e9%9f%b3%e6%a5%bd%e6%9c%97%e8%aa%ad%e5%8a%87%e3%81%ab%e5%87%ba%e6%bc%94%e3%81%97%e3%81%be%e3%81%9b%e3%82%93%e3%81%8b%ef%bc%9f-2
LOCATION:長谷川楽器店\, 幸町22-10\, 茅ヶ崎市\, 神奈川県\, 日本
CATEGORIES:イベント
ATTACH;FMTTYPE=image/jpeg:https://fujisawa-npo.jp/wp-content/uploads/2024/08/112361_page-0001.jpg
ORGANIZER;CN="%E6%B9%98%E5%8D%97SHOW%E7%82%B9":MAILTO:clef-de-sol@jcom.home.ne.jp
END:VEVENT
BEGIN:VEVENT
DTSTART;TZID=Asia/Tokyo:20240825T131500
DTEND;TZID=Asia/Tokyo:20240825T163000
DTSTAMP:20260420T053844
CREATED:20240711T115332Z
LAST-MODIFIED:20240711T115348Z
UID:13513-1724591700-1724603400@fujisawa-npo.jp
SUMMARY:NPO法人会計力検定
DESCRIPTION:PDF情報No.112205 \n\n会計とNPO法人、両方に関する知識とスキルが身につく検定。 こんな人におススメです。
URL:https://fujisawa-npo.jp/event/13513
LOCATION:東京都中央区内
CATEGORIES:イベント
ATTACH;FMTTYPE=image/jpeg:https://fujisawa-npo.jp/wp-content/uploads/2024/07/112205-scaled.jpg
END:VEVENT
BEGIN:VEVENT
DTSTART;TZID=Asia/Tokyo:20240825T110000
DTEND;TZID=Asia/Tokyo:20240825T120000
DTSTAMP:20260420T053844
CREATED:20240722T041930Z
LAST-MODIFIED:20240722T041930Z
UID:13604-1724583600-1724587200@fujisawa-npo.jp
SUMMARY:第11回ふじさわ市民ミュージカル公演「Dear my friend」
DESCRIPTION:A公演　10:30開場11:00開演\nB公演　15:00開場15:30開演 \n前売り券全席指定　¥2\,000\n当日券全席指定　¥2\,500 \nPDF情報No.112283 \n\n人の気持ち？魔法でなんでも出来るじゃない\nDear my friends
URL:https://fujisawa-npo.jp/event/%e7%ac%ac11%e5%9b%9e%e3%81%b5%e3%81%98%e3%81%95%e3%82%8f%e5%b8%82%e6%b0%91%e3%83%9f%e3%83%a5%e3%83%bc%e3%82%b8%e3%82%ab%e3%83%ab%e5%85%ac%e6%bc%94%e3%80%8cdear-my-friend%e3%80%8d
LOCATION:藤沢市民会館\, 251-0026
CATEGORIES:イベント
ATTACH;FMTTYPE=image/jpeg:https://fujisawa-npo.jp/wp-content/uploads/2024/07/112283-scaled.jpg
END:VEVENT
BEGIN:VEVENT
DTSTART;TZID=Asia/Tokyo:20240824T140000
DTEND;TZID=Asia/Tokyo:20240824T160000
DTSTAMP:20260420T053844
CREATED:20240719T053850Z
LAST-MODIFIED:20240719T053850Z
UID:13574-1724508000-1724515200@fujisawa-npo.jp
SUMMARY:やまとで生きた人々への聞き書き　インドシナ難民を支援した地域住民ボランティアへの聞き書きから
DESCRIPTION:PDF情報No.112276 \n\n大和市南林間9丁目には、1980年から1998年までの18年間、インドシナからの難民の定住促進センターがおかれていた。 \n本報告は、インタビュアーとしての調査・分析・解釈の過程を示しているので、これから聞き書きインタビューを始める市民の方達の参考になると思われる。
URL:https://fujisawa-npo.jp/event/%e3%82%84%e3%81%be%e3%81%a8%e3%81%a7%e7%94%9f%e3%81%8d%e3%81%9f%e4%ba%ba%e3%80%85%e3%81%b8%e3%81%ae%e8%81%9e%e3%81%8d%e6%9b%b8%e3%81%8d%e3%80%80%e3%82%a4%e3%83%b3%e3%83%89%e3%82%b7%e3%83%8a%e9%9b%a3
LOCATION:大和市民活動センター(市民活動拠点ベテルギウス1F・2F)\, 深見西1-2-17\, 大和市\, 神奈川県\, 242-0018
CATEGORIES:イベント
ATTACH;FMTTYPE=image/jpeg:https://fujisawa-npo.jp/wp-content/uploads/2024/07/112276-scaled.jpg
ORGANIZER;CN="%E6%AD%B4%E5%8F%B2%E5%B7%A5%E6%88%BF%E3%82%84%E3%81%BE%E3%81%A8":MAILTO:rekishikoboyamato@gmail.com
END:VEVENT
BEGIN:VEVENT
DTSTART;TZID=Asia/Tokyo:20240824T133000
DTEND;TZID=Asia/Tokyo:20240824T160000
DTSTAMP:20260420T053844
CREATED:20240809T063835Z
LAST-MODIFIED:20240809T063835Z
UID:13865-1724506200-1724515200@fujisawa-npo.jp
SUMMARY:第1回 インクルーシブ教育推進フォーラム
DESCRIPTION:情報No.112388 \n\nだれもがともに学べる学校ってどんな学校だろう？ \nこれからの「インクルーシブな学校」について県民のみなさまと共に考えていきます
URL:https://fujisawa-npo.jp/event/%e7%ac%ac1%e5%9b%9e-%e3%82%a4%e3%83%b3%e3%82%af%e3%83%ab%e3%83%bc%e3%82%b7%e3%83%96%e6%95%99%e8%82%b2%e6%8e%a8%e9%80%b2%e3%83%95%e3%82%a9%e3%83%bc%e3%83%a9%e3%83%a0
LOCATION:神奈川県立総合教育センター 講堂\, 善行7-1-1\, 藤沢市\, 神奈川県\, 日本
CATEGORIES:イベント
ATTACH;FMTTYPE=image/jpeg:https://fujisawa-npo.jp/wp-content/uploads/2024/08/112388_page-0001.jpg
END:VEVENT
BEGIN:VEVENT
DTSTART;TZID=Asia/Tokyo:20240824T130000
DTEND;TZID=Asia/Tokyo:20240824T160000
DTSTAMP:20260420T053844
CREATED:20240809T052208Z
LAST-MODIFIED:20240809T052208Z
UID:13816-1724504400-1724515200@fujisawa-npo.jp
SUMMARY:第54回水源環境保全・再生かながわ県民フォーラム
DESCRIPTION:PDF情報No.112360 \n締切：令和6年8月16日(金曜日)17時まで \n\n神奈川県では、県民の皆様に御負担いただいている「水源環境保全税（個人県民税の超過課税）」を活用して、水源環境の保全と再生に取り組んでいます。\nこのたび、県民の皆様と協働して取組を進めていくため、これまでの取組の成果や今後の水源環境の保全に必要なこと等をテーマとした講演や、水源環境を守る取組を紹介する、県民フォーラムを開催します。
URL:https://fujisawa-npo.jp/event/%e7%ac%ac54%e5%9b%9e%e6%b0%b4%e6%ba%90%e7%92%b0%e5%a2%83%e4%bf%9d%e5%85%a8%e3%83%bb%e5%86%8d%e7%94%9f%e3%81%8b%e3%81%aa%e3%81%8c%e3%82%8f%e7%9c%8c%e6%b0%91%e3%83%95%e3%82%a9%e3%83%bc%e3%83%a9%e3%83%a0
LOCATION:横浜シンポジア\, 神奈川県横浜市中区山下町2番地 産業貿易センタービル9階\, 横浜市\, 231-8524\, 日本
CATEGORIES:イベント
ATTACH;FMTTYPE=image/jpeg:https://fujisawa-npo.jp/wp-content/uploads/2024/08/112360_page-0001.jpg
END:VEVENT
BEGIN:VEVENT
DTSTART;TZID=Asia/Tokyo:20240824T100000
DTEND;TZID=Asia/Tokyo:20240824T140000
DTSTAMP:20260420T053844
CREATED:20240809T062926Z
LAST-MODIFIED:20240809T062926Z
UID:13862-1724493600-1724508000@fujisawa-npo.jp
SUMMARY:第9回リサイクルプラザ藤沢フェア～Eco2(エコエコ)夏祭り～
DESCRIPTION:情報No. 112378 \n\nリサイクルプラザ藤沢フェアは、3R（リデュース・リユース・リサイクル）の推進や地球温暖化防止等に関する啓発を目的とした、子どもから大人まで参加しながら楽しく学べるイベントです。「環境活動に関するパネル展示」「商品プラスチック（衣装ケース等）のリユース事業」「ごみ収集車の同乗体験」「清掃施設で働く車のなりきり運転士体験」「各種ワークショップ」「スタンプラリー（参加者にエコバックプレゼント）」など、盛りだくさんの内容となっています。
URL:https://fujisawa-npo.jp/event/%e7%ac%ac9%e5%9b%9e%e3%83%aa%e3%82%b5%e3%82%a4%e3%82%af%e3%83%ab%e3%83%97%e3%83%a9%e3%82%b6%e8%97%a4%e6%b2%a2%e3%83%95%e3%82%a7%e3%82%a2%ef%bd%9eeco2%e3%82%a8%e3%82%b3%e3%82%a8%e3%82%b3%e5%a4%8f
LOCATION:環境啓発施設 リサイクルプラザ藤沢\, 桐原町23-1\, 藤沢市\, 神奈川県\, 日本
CATEGORIES:イベント
ATTACH;FMTTYPE=image/jpeg:https://fujisawa-npo.jp/wp-content/uploads/2024/08/112378_page-0001.jpg
END:VEVENT
BEGIN:VEVENT
DTSTART;VALUE=DATE:20240824
DTEND;VALUE=DATE:20240826
DTSTAMP:20260420T053844
CREATED:20240502T093230Z
LAST-MODIFIED:20240502T093230Z
UID:12696-1724457600-1724630399@fujisawa-npo.jp
SUMMARY:「八ヶ岳の風に耳をすませば」夏の巻
DESCRIPTION:現地集合現地解散\nPDF情報No.111880 \n\n手をのばせば届きそうな青空が広がるところ\nここちよい風がほほをなで冷たく澄んだ水が流れるところ\nそんな八ヶ岳高原の涼風の中で山を歩き川で遊び\n夜には星を見ながら今夜は何を語り合いますか
URL:https://fujisawa-npo.jp/event/%e3%80%8c%e5%85%ab%e3%83%b6%e5%b2%b3%e3%81%ae%e9%a2%a8%e3%81%ab%e8%80%b3%e3%82%92%e3%81%99%e3%81%be%e3%81%9b%e3%81%b0%e3%80%8d%e5%a4%8f%e3%81%ae%e5%b7%bb
LOCATION:藤沢市八ヶ岳野外体験教室\, 海ノ口２２３９−１４２\, 南佐久郡南牧村\, 長野県
CATEGORIES:イベント
ATTACH;FMTTYPE=image/jpeg:https://fujisawa-npo.jp/wp-content/uploads/2024/05/111880-scaled.jpg
END:VEVENT
BEGIN:VEVENT
DTSTART;VALUE=DATE:20240823
DTEND;VALUE=DATE:20240929
DTSTAMP:20260420T053844
CREATED:20240912T075539Z
LAST-MODIFIED:20240912T075621Z
UID:14322-1724371200-1727567999@fujisawa-npo.jp
SUMMARY:風、光、そして音　上野憲一展
DESCRIPTION:PDF情報No.112528 \n営業日：毎週　金、土曜日　各日10：00~18：00\n8/23（金）~9/28（土） \n\n風、光、そして音
URL:https://fujisawa-npo.jp/event/%e9%a2%a8%e3%80%81%e5%85%89%e3%80%81%e3%81%9d%e3%81%97%e3%81%a6%e9%9f%b3%e3%80%80%e4%b8%8a%e9%87%8e%e6%86%b2%e4%b8%80%e5%b1%95
LOCATION:HANPAもろいそ\, 三崎町諸磯1879-3\, 三浦市\, 神奈川県\, 〒238-0224\, 日本
CATEGORIES:イベント
ATTACH;FMTTYPE=image/jpeg:https://fujisawa-npo.jp/wp-content/uploads/2024/09/112528_page-0001.jpg
ORGANIZER;CN="%E4%B8%80%E8%88%AC%E7%A4%BE%E5%9B%A3%E6%B3%95%E4%BA%BAOne's place":MAILTO:hello@onesplace.or.jp
END:VEVENT
BEGIN:VEVENT
DTSTART;TZID=Asia/Tokyo:20240817T100000
DTEND;TZID=Asia/Tokyo:20240817T162000
DTSTAMP:20260420T053844
CREATED:20240703T064603Z
LAST-MODIFIED:20240703T064603Z
UID:13427-1723888800-1723911600@fujisawa-npo.jp
SUMMARY:上映会『ラーゲリより愛を込めて』
DESCRIPTION:PDF情報No.112169 \n\n運命に翻弄されながら再会を願い続けた2人の11年に及ぶ愛の実話——\n第二次大戦後の1945年。そこは零下40度の厳冬の世界・シベリア…。わずかな食料での過酷な労働が続く日々。死に逝く者が続出する地獄の強制収容所（ラーゲリ）に、その男・山本幡男（二宮和也）は居た。「生きる希望を捨ててはいけません。帰国（ダモイ）の日は必ずやって来ます。」絶望する抑留者たちに彼は訴え続けた——
URL:https://fujisawa-npo.jp/event/%e4%b8%8a%e6%98%a0%e4%bc%9a%e3%80%8e%e3%83%a9%e3%83%bc%e3%82%b2%e3%83%aa%e3%82%88%e3%82%8a%e6%84%9b%e3%82%92%e8%be%bc%e3%82%81%e3%81%a6%e3%80%8f
LOCATION:あーすぷらざ (神奈川県立地球市民かながわプラザ)\, 栄区小菅ヶ谷1-2-1\, 横浜市\, 神奈川県\, 247-0007
CATEGORIES:イベント
ATTACH;FMTTYPE=image/jpeg:https://fujisawa-npo.jp/wp-content/uploads/2024/07/112169-1-scaled.jpg
ORGANIZER;CN="%E7%A5%9E%E5%A5%88%E5%B7%9D%E7%9C%8C%E7%AB%8B%E5%9C%B0%E7%90%83%E5%B8%82%E6%B0%91%E3%82%BB%E3%83%B3%E3%82%BF%E3%83%BC%E3%81%8B%E3%81%AA%E3%81%8C%E3%82%8F%E3%83%97%E3%83%A9%E3%82%B6(%E3%81%82%E3%83%BC%E3%81%99%E3%81%B7%E3%82%89%E3%81%96)":MAILTO:gakushu@earthplaza.jp
END:VEVENT
BEGIN:VEVENT
DTSTART;TZID=Asia/Tokyo:20240815T160000
DTEND;TZID=Asia/Tokyo:20240815T173000
DTSTAMP:20260420T053844
CREATED:20240726T115949Z
LAST-MODIFIED:20240726T115949Z
UID:13711-1723737600-1723743000@fujisawa-npo.jp
SUMMARY:ふじさわ・不戦のちかい 平和行動
DESCRIPTION:PDF情報No.112321 \n\n市民と議員で不戦のちかいを訴え、平和を歌おう
URL:https://fujisawa-npo.jp/event/%e3%81%b5%e3%81%98%e3%81%95%e3%82%8f%e3%83%bb%e4%b8%8d%e6%88%a6%e3%81%ae%e3%81%a1%e3%81%8b%e3%81%84-%e5%b9%b3%e5%92%8c%e8%a1%8c%e5%8b%95-3
LOCATION:辻堂駅北口デッキ
CATEGORIES:イベント
ATTACH;FMTTYPE=image/jpeg:https://fujisawa-npo.jp/wp-content/uploads/2024/07/112321-scaled.jpg
END:VEVENT
BEGIN:VEVENT
DTSTART;TZID=Asia/Tokyo:20240810T093000
DTEND;TZID=Asia/Tokyo:20240810T123000
DTSTAMP:20260420T053844
CREATED:20240502T051911Z
LAST-MODIFIED:20240502T051911Z
UID:12636-1723282200-1723293000@fujisawa-npo.jp
SUMMARY:里山体験隊
DESCRIPTION:PDF情報No.111863 \n\n竹林内で竹取体験と水でっぽうを作って遊ぼう！\nご希望の保護者の方は、子どもたちの竹林の手入れの間に、竹で花瓶などを作ることもできます。
URL:https://fujisawa-npo.jp/event/%e9%87%8c%e5%b1%b1%e4%bd%93%e9%a8%93%e9%9a%8a
LOCATION:遠藤笹窪谷戸公園\, 遠藤字中尾\, 藤沢市\, 神奈川県
CATEGORIES:イベント
ATTACH;FMTTYPE=image/jpeg:https://fujisawa-npo.jp/wp-content/uploads/2024/05/111863-scaled.jpg
END:VEVENT
BEGIN:VEVENT
DTSTART;VALUE=DATE:20240809
DTEND;VALUE=DATE:20240811
DTSTAMP:20260420T053844
CREATED:20240703T065838Z
LAST-MODIFIED:20240703T065838Z
UID:13441-1723161600-1723334399@fujisawa-npo.jp
SUMMARY:夏の平和学習
DESCRIPTION:PDF情報No.112172 \n\nおとなも、こどもも、今と未来を考える2日間\nアニメ上映や展示室ガイド、自由研究用ワークシートの無料配布をします。2日間限定で国際平和展示室のみ観覧料無料※です。「平和ってなーに？」「どうして戦争しちゃうの？」あなただけの答えがみつかるかもしれません。\n※2024/8/9\,10は国際平和展示室のみ観覧料無料。こどもの国際理解展示室・こどもファンタジー展示室は、要観覧料（大人400円/高校生・学生・65歳以上の方200円/小中学生100円/未就学児無料。
URL:https://fujisawa-npo.jp/event/%e5%a4%8f%e3%81%ae%e5%b9%b3%e5%92%8c%e5%ad%a6%e7%bf%92
LOCATION:あーすぷらざ (神奈川県立地球市民かながわプラザ)\, 栄区小菅ヶ谷1-2-1\, 横浜市\, 神奈川県\, 247-0007
CATEGORIES:イベント
ATTACH;FMTTYPE=image/jpeg:https://fujisawa-npo.jp/wp-content/uploads/2024/07/112172-scaled.jpg
ORGANIZER;CN="%E7%A5%9E%E5%A5%88%E5%B7%9D%E7%9C%8C%E7%AB%8B%E5%9C%B0%E7%90%83%E5%B8%82%E6%B0%91%E3%82%BB%E3%83%B3%E3%82%BF%E3%83%BC%E3%81%8B%E3%81%AA%E3%81%8C%E3%82%8F%E3%83%97%E3%83%A9%E3%82%B6(%E3%81%82%E3%83%BC%E3%81%99%E3%81%B7%E3%82%89%E3%81%96)":MAILTO:gakushu@earthplaza.jp
END:VEVENT
END:VCALENDAR