BEGIN:VCALENDAR
VERSION:2.0
PRODID:-//藤沢市市民活動推進センター - ECPv6.15.11//NONSGML v1.0//EN
CALSCALE:GREGORIAN
METHOD:PUBLISH
X-WR-CALNAME:藤沢市市民活動推進センター
X-ORIGINAL-URL:https://fujisawa-npo.jp
X-WR-CALDESC:藤沢市市民活動推進センター のイベント
REFRESH-INTERVAL;VALUE=DURATION:PT1H
X-Robots-Tag:noindex
X-PUBLISHED-TTL:PT1H
BEGIN:VTIMEZONE
TZID:Asia/Tokyo
BEGIN:STANDARD
TZOFFSETFROM:+0900
TZOFFSETTO:+0900
TZNAME:JST
DTSTART:20230101T000000
END:STANDARD
END:VTIMEZONE
BEGIN:VEVENT
DTSTART;TZID=Asia/Tokyo:20240725T141000
DTEND;TZID=Asia/Tokyo:20240725T165000
DTSTAMP:20260420T111542
CREATED:20240603T112019Z
LAST-MODIFIED:20240603T112019Z
UID:13071-1721916600-1721926200@fujisawa-npo.jp
SUMMARY:藤沢市生涯学習人材バンク「湘南ふじさわ学びネット」登録講師活動紹介
DESCRIPTION:PDF情報No.112038 \n\nさまざまなジャンルの講師から、直接登録内容を聞くことができる機会です！\n是非、皆様の講座企画にお役立てください！ご参加お待ちしております♪
URL:https://fujisawa-npo.jp/event/%e8%97%a4%e6%b2%a2%e5%b8%82%e7%94%9f%e6%b6%af%e5%ad%a6%e7%bf%92%e4%ba%ba%e6%9d%90%e3%83%90%e3%83%b3%e3%82%af%e3%80%8c%e6%b9%98%e5%8d%97%e3%81%b5%e3%81%98%e3%81%95%e3%82%8f%e5%ad%a6%e3%81%b3%e3%83%8d
LOCATION:藤沢市役所 本庁舎\, 朝日町1-1\, 藤沢市\, 神奈川県\, 日本
CATEGORIES:イベント
ATTACH;FMTTYPE=image/jpeg:https://fujisawa-npo.jp/wp-content/uploads/2024/06/112038-scaled.jpg
END:VEVENT
BEGIN:VEVENT
DTSTART;VALUE=DATE:20240725
DTEND;VALUE=DATE:20240727
DTSTAMP:20260420T111542
CREATED:20240603T064239Z
LAST-MODIFIED:20240603T064239Z
UID:13020-1721865600-1722038399@fujisawa-npo.jp
SUMMARY:7月【特別企画】 バス&ウォーク  新倉山浅間公園・清里・白駒池・霧ヶ峰車山を歩く (一泊二日)
DESCRIPTION:39名以下の場合は30000円、40名以上の場合は26000円\nPDF情報No.112015 \n\n一日目\n横浜駅東口=東名・圏央・中央道=西桂町IC=新倉山 P~ 新倉山浅間公園 (散策)~P=御 坂IC=中央道長坂IC = 清里清泉寮(休憩)~ウォーキング 2km~東沢橋P=野辺山獅子 岩(散策)=野辺山宇宙電波観測所 (散策)=松原湖リゾートイン立花屋(宿泊)\n二日目\n宿舎=白駒池 P~白駒池周辺ウォーキング~白駒池P=白樺湖 (休憩)=車山P・リフト\n・車山頂上(散策) ~下りはウォーキング (リフト可) ~ 車山P=小淵沢IC・中央・圏央・ 東名道・横浜IC-横浜駅東口 本郷台駅前
URL:https://fujisawa-npo.jp/event/7%e6%9c%88%e3%80%90%e7%89%b9%e5%88%a5%e4%bc%81%e7%94%bb%e3%80%91-%e3%83%90%e3%82%b9%e3%82%a6%e3%82%a9%e3%83%bc%e3%82%af-%e6%96%b0%e5%80%89%e5%b1%b1%e6%b5%85%e9%96%93%e5%85%ac%e5%9c%92%e3%83%bb
LOCATION:横浜駅東口広場\, 西区高島２丁目１６－１\, 横浜市\, 神奈川県
CATEGORIES:イベント
ATTACH;FMTTYPE=image/jpeg:https://fujisawa-npo.jp/wp-content/uploads/2024/06/112015-scaled.jpg
END:VEVENT
BEGIN:VEVENT
DTSTART;VALUE=DATE:20240723
DTEND;VALUE=DATE:20240901
DTSTAMP:20260420T111542
CREATED:20240815T071229Z
LAST-MODIFIED:20240815T071229Z
UID:13997-1721692800-1725148799@fujisawa-npo.jp
SUMMARY:産前産後のおうち　Summerキャンペーン
DESCRIPTION:PDF情報No.112443 \n\n\8/31まで　サマーキャンペーン1\,500円/産前産後のおうち \n暑い夏、赤ちゃん連れてどこ行こう？\nさあ、産前産後のおうちに行きましょう♪\n一日おしゃべりして、食べて、休んでリラックス\n夏休み中のきょうだいも歓迎です \n夏休み期間、8/31まで全組1\,500円！\n10～15時利用料・昼食・ドリンクバー・リネン代含む
URL:https://fujisawa-npo.jp/event/%e7%94%a3%e5%89%8d%e7%94%a3%e5%be%8c%e3%81%ae%e3%81%8a%e3%81%86%e3%81%a1%e3%80%80summer%e3%82%ad%e3%83%a3%e3%83%b3%e3%83%9a%e3%83%bc%e3%83%b3
LOCATION:神奈川県
CATEGORIES:イベント
ATTACH;FMTTYPE=image/jpeg:https://fujisawa-npo.jp/wp-content/uploads/2024/08/112443_page-0001.jpg
END:VEVENT
BEGIN:VEVENT
DTSTART;TZID=Asia/Tokyo:20240720T143000
DTEND;TZID=Asia/Tokyo:20240720T163000
DTSTAMP:20260420T111542
CREATED:20240229T105018Z
LAST-MODIFIED:20240229T105018Z
UID:12028-1721485800-1721493000@fujisawa-npo.jp
SUMMARY:公開マンション管理セミナー＆無料相談会
DESCRIPTION:1. 3/23(土)「管理組合のより良い理事会運営を目指して！」\n2. 5/18(土)「標準管理委託契約書の改定について！」\n3. 7/20(土)「建物調査・診断(外壁打診等)の必要性について」\nPDF情報No.111548 \n\nNPO分譲マンション管理相談センターのマンション管理士が、マンション管理組合の役員、組合員様等を対象に、マンション管理に関するセミナーを開催します。\nその後、個々にお悩みの諸問題に関する無料相談をお受けします。\n※詳細はPDF情報のQRコードをご覧ください。
URL:https://fujisawa-npo.jp/event/%e5%85%ac%e9%96%8b%e3%83%9e%e3%83%b3%e3%82%b7%e3%83%a7%e3%83%b3%e7%ae%a1%e7%90%86%e3%82%bb%e3%83%9f%e3%83%8a%e3%83%bc%ef%bc%86%e7%84%a1%e6%96%99%e7%9b%b8%e8%ab%87%e4%bc%9a-10
LOCATION:藤沢市市民活動推進センター(アーバンセンター藤沢 2F)\, 藤沢1031\, 藤沢市\, 神奈川県\, 日本
CATEGORIES:イベント,講座
ORGANIZER;CN="NPO%E6%B3%95%E4%BA%BA %E5%88%86%E8%AD%B2%E3%83%9E%E3%83%B3%E3%82%B7%E3%83%A7%E3%83%B3%E7%AE%A1%E7%90%86%E7%9B%B8%E8%AB%87%E3%82%BB%E3%83%B3%E3%82%BF%E3%83%BC":MAILTO:info@bunjyounpo.or.jp
END:VEVENT
BEGIN:VEVENT
DTSTART;VALUE=DATE:20240720
DTEND;VALUE=DATE:20240722
DTSTAMP:20260420T111542
CREATED:20240627T102129Z
LAST-MODIFIED:20240627T102129Z
UID:13372-1721433600-1721606399@fujisawa-npo.jp
SUMMARY:第18回辻堂かいひん盆踊り「辻の盆」
DESCRIPTION:PDF情報No.112149 \n\nみんなでつくる辻の盆！\n今年も多くの皆様をお迎えできますよう、キッチンカーを増やしたり、子ども遊びブースを少し増やすなど予定しています。 \n土曜日の阿波おどりは、いつもより早い午後5時15分から。 \nその後は、神奈川県民球団のチアリーディングや、儀間神奈川會のエイサーなどが続きます。 \n日曜日も、盆踊りの間に、和太鼓や子ども達の演奏やダンスなどを予定。 \n今年は、辻堂海浜公園で17年間続けてきた「ユニバーサルカヌー体験会」で使用するカヌーの新艇づくりを応援するブースも参加いたします。 \n親子三世代で、踊って食べて笑って、夏の元気をチャージしよう！
URL:https://fujisawa-npo.jp/event/%e7%ac%ac18%e5%9b%9e%e8%be%bb%e5%a0%82%e3%81%8b%e3%81%84%e3%81%b2%e3%82%93%e7%9b%86%e8%b8%8a%e3%82%8a%e3%80%8c%e8%be%bb%e3%81%ae%e7%9b%86%e3%80%8d
LOCATION:辻堂海浜公園\, 辻堂西海岸３丁目２\, 藤沢市\, 神奈川県\, 251-0046
CATEGORIES:イベント
ATTACH;FMTTYPE=image/jpeg:https://fujisawa-npo.jp/wp-content/uploads/2024/06/112149-scaled.jpg
END:VEVENT
BEGIN:VEVENT
DTSTART;TZID=Asia/Tokyo:20240717T133000
DTEND;TZID=Asia/Tokyo:20240717T154500
DTSTAMP:20260420T111542
CREATED:20240531T103314Z
LAST-MODIFIED:20240531T103813Z
UID:12949-1721223000-1721231100@fujisawa-npo.jp
SUMMARY:福祉のしごとを知る懇談会in茅ヶ崎
DESCRIPTION:PDF情報No.111997 \n\n福祉の仕事に関心のある方、福祉分野に就労を希望される方、どなたでも参加できます。\n福祉の仕事について詳しく知ることができるこの機会をぜひご活用ください。
URL:https://fujisawa-npo.jp/event/%e7%a6%8f%e7%a5%89%e3%81%ae%e3%81%97%e3%81%94%e3%81%a8%e3%82%92%e7%9f%a5%e3%82%8b%e6%87%87%e8%ab%87%e4%bc%9ain%e8%8c%85%e3%83%b6%e5%b4%8e
LOCATION:ラスカ茅ヶ崎\, 元町1-1\, 茅ヶ崎市\, 253-0043
CATEGORIES:イベント
ATTACH;FMTTYPE=image/jpeg:https://fujisawa-npo.jp/wp-content/uploads/2024/05/111997-scaled.jpg
END:VEVENT
BEGIN:VEVENT
DTSTART;TZID=Asia/Tokyo:20240713T140000
DTEND;TZID=Asia/Tokyo:20240713T160000
DTSTAMP:20260420T111542
CREATED:20240516T113242Z
LAST-MODIFIED:20240516T113242Z
UID:12831-1720879200-1720886400@fujisawa-npo.jp
SUMMARY:青少年会館若者運営ボランティア
DESCRIPTION:PDF情報No.111958 \n\n若者運営ボランティア運営委員会\n第１回\n7/13（土）\n・若者運営ボランティアとは\n・施設を知ろう！
URL:https://fujisawa-npo.jp/event/%e9%9d%92%e5%b0%91%e5%b9%b4%e4%bc%9a%e9%a4%a8%e8%8b%a5%e8%80%85%e9%81%8b%e5%96%b6%e3%83%9c%e3%83%a9%e3%83%b3%e3%83%86%e3%82%a3%e3%82%a2
LOCATION:藤沢青少年会館\, 朝日町10-8\, 藤沢市\, 神奈川県\, 日本
CATEGORIES:イベント
ATTACH;FMTTYPE=image/jpeg:https://fujisawa-npo.jp/wp-content/uploads/2024/05/111958-scaled.jpg
END:VEVENT
BEGIN:VEVENT
DTSTART;TZID=Asia/Tokyo:20240713T133000
DTEND;TZID=Asia/Tokyo:20240713T161000
DTSTAMP:20260420T111542
CREATED:20240703T064954Z
LAST-MODIFIED:20240703T064954Z
UID:13432-1720877400-1720887000@fujisawa-npo.jp
SUMMARY:上映会＆アフタートーク「ギフト～僕がきみに残せるもの～」
DESCRIPTION:PDF情報No.112170 \n\nアメリカン・フットボールの最高峰、NFL。ニューオーリンズ・セインツのスティーヴ・グリーソンは特別なヒーローだった。ハリケーン“カトリーナ”に襲われたニューオーリンズの災害後初の、市民が待ちに待ったホームゲームでチームを劇的な勝利に導いたからだ。\nそれから5年後。すでに選手生活を終えていたグリーソンは、病院で信じられない宣告を受ける。「あなたはALS（筋萎縮性側索硬化症）です」。そして、同じ頃、妻ミシェルの妊娠がわかった。初めて授かった子ども。だが自分は、生きている間に、我が子に会うことができるのだろうか。生まれ来る子のために、自分は何が残せるのだろうか。グリーソンは決めた。まだ見ぬ子どもに贈るために、毎日、ビデオダイアリーを撮り続けると。
URL:https://fujisawa-npo.jp/event/%e4%b8%8a%e6%98%a0%e4%bc%9a%ef%bc%86%e3%82%a2%e3%83%95%e3%82%bf%e3%83%bc%e3%83%88%e3%83%bc%e3%82%af%e3%80%8c%e3%82%ae%e3%83%95%e3%83%88%ef%bd%9e%e5%83%95%e3%81%8c%e3%81%8d%e3%81%bf%e3%81%ab%e6%ae%8b
LOCATION:あーすぷらざ (神奈川県立地球市民かながわプラザ)\, 栄区小菅ヶ谷1-2-1\, 横浜市\, 神奈川県\, 247-0007
CATEGORIES:イベント
ATTACH;FMTTYPE=image/jpeg:https://fujisawa-npo.jp/wp-content/uploads/2024/07/112170-scaled.jpg
ORGANIZER;CN="%E7%A5%9E%E5%A5%88%E5%B7%9D%E7%9C%8C%E7%AB%8B%E5%9C%B0%E7%90%83%E5%B8%82%E6%B0%91%E3%82%BB%E3%83%B3%E3%82%BF%E3%83%BC%E3%81%8B%E3%81%AA%E3%81%8C%E3%82%8F%E3%83%97%E3%83%A9%E3%82%B6(%E3%81%82%E3%83%BC%E3%81%99%E3%81%B7%E3%82%89%E3%81%96)":MAILTO:gakushu@earthplaza.jp
END:VEVENT
BEGIN:VEVENT
DTSTART;VALUE=DATE:20240713
DTEND;VALUE=DATE:20240909
DTSTAMP:20260420T111542
CREATED:20240722T042138Z
LAST-MODIFIED:20240722T042138Z
UID:13613-1720828800-1725839999@fujisawa-npo.jp
SUMMARY:【7/13～9/8】昔の暮らしの道具たち
DESCRIPTION:【開館時間】午前10時～午後7時（ 入館は午後6時30分まで）\n【休館日】月曜日（祝日、振替休日の場合は翌平日）\n※2024年9月9日（月）～9月13日（金）は展示替えのため休館\n【関連展示】『浮世絵とみる昔の暮らしの遊具たち』\n【会期】：7月23日（火）～9月16日（月・祝）\n平日午前10時～午後8時\n土日祝午前10時～午後6時\n8月19日（月）、9月9日（月）は閉館\nPDF情報No.112289 \n\n本展では、「旅」・「生活」・「お土産」・「業種」をテーマに、浮世絵とともに江戸時代の旅や暮らし、様々な職業の道具から漁、養蚕、織物の手工業、農耕などにまつわる道具を展示します。そして藤沢にゆかリのある「江の島詣」のお土産である貝屏風や貝細工も紹介します。江戸時代に描かれた浮世絵には、商用や寺社参詣、湯治など大衆化されていた「旅」の姿が多く残されています。その中では、印籠やキセルなど旅の必需品がどのように使われてきたか見ることがてきます。また、江戸時代の暮らしの中で使われてきた箱枕、鏡台、行燈などの寝具や灯リの道具などが見られ、往時の生活習慣を今に伝えます。藤沢市が所蔵する民俗資料には、藤沢にゆかリのある江の島土産の貝屏風や貝細工など地域の特色ある名産品があり、これらは江戸のお土産文化て好まれた工芸品や名品・名物として発展しました。浮世絵とともに昔の生活に欠かせなかった道具たちをご覧いただき、江戸時代の人々の暮らしや行楽の姿をお楽しみください。
URL:https://fujisawa-npo.jp/event/%e3%80%907-13%ef%bd%9e9-8%e3%80%91%e6%98%94%e3%81%ae%e6%9a%ae%e3%82%89%e3%81%97%e3%81%ae%e9%81%93%e5%85%b7%e3%81%9f%e3%81%a1
LOCATION:藤沢市藤澤浮世絵館(ココテラス湘南7F)\, 辻堂神台2-2-2\, 藤沢市\, 神奈川県\, 日本
CATEGORIES:イベント
ATTACH;FMTTYPE=image/jpeg:https://fujisawa-npo.jp/wp-content/uploads/2024/07/112289-scaled.jpg
END:VEVENT
BEGIN:VEVENT
DTSTART;TZID=Asia/Tokyo:20240710T183000
DTEND;TZID=Asia/Tokyo:20240710T211500
DTSTAMP:20260420T111542
CREATED:20240502T063859Z
LAST-MODIFIED:20240502T063859Z
UID:12664-1720636200-1720646100@fujisawa-npo.jp
SUMMARY:第17回 なぎさブラスゾリステン 逗子コンサート
DESCRIPTION:全席指定\n一般 4\,500円\n高校生 2\,500円\n小中学生 1\,000円\n※未就学児は入場できません。\nPDF情報No.111871 \n\n開館当初から開催されている「なぎさブラスゾリステン 逗子コンサート」。日本の金管、打楽器のトップ奏者12名による贅沢な公演です。\n今回のコンサートも素晴らしい曲目が揃いました。メンバー全員での熱演にご期待ください！
URL:https://fujisawa-npo.jp/event/%e7%ac%ac17%e5%9b%9e-%e3%81%aa%e3%81%8e%e3%81%95%e3%83%96%e3%83%a9%e3%82%b9%e3%82%be%e3%83%aa%e3%82%b9%e3%83%86%e3%83%b3-%e9%80%97%e5%ad%90%e3%82%b3%e3%83%b3%e3%82%b5%e3%83%bc%e3%83%88
LOCATION:逗子文化プラザ なぎさホール\, 逗子4-2-10\, 逗子市\, 神奈川県\, 日本
CATEGORIES:イベント
ATTACH;FMTTYPE=image/jpeg:https://fujisawa-npo.jp/wp-content/uploads/2024/05/111871-scaled.jpg
END:VEVENT
BEGIN:VEVENT
DTSTART;TZID=Asia/Tokyo:20240710T133000
DTEND;TZID=Asia/Tokyo:20240710T151500
DTSTAMP:20260420T111542
CREATED:20240404T123057Z
LAST-MODIFIED:20240404T123102Z
UID:12390-1720618200-1720624500@fujisawa-npo.jp
SUMMARY:福祉の仕事を知る懇談会
DESCRIPTION:日程は画像またはPDFをご覧ください\n※開催日の2週間前を目途に参加の可否をご登録いただいたメールアドレスにお知らせいたします。\nPDF情報No.111741 \n\n仕事の魅力？内容？やりがい？不安？\nそれならば現場で働く方に聞くのが一番！\n2wayコミュニケーションで聞いてみよう！\n※申込み制
URL:https://fujisawa-npo.jp/event/%e7%a6%8f%e7%a5%89%e3%81%ae%e4%bb%95%e4%ba%8b%e3%82%92%e7%9f%a5%e3%82%8b%e6%87%87%e8%ab%87%e4%bc%9a-2
LOCATION:かながわ県民センター\, 神奈川区鶴屋町2-24-2\, 横浜市\, 神奈川県\, 日本
CATEGORIES:イベント
ATTACH;FMTTYPE=image/jpeg:https://fujisawa-npo.jp/wp-content/uploads/2024/04/111741-scaled.jpg
END:VEVENT
BEGIN:VEVENT
DTSTART;VALUE=DATE:20240709
DTEND;VALUE=DATE:20240714
DTSTAMP:20260420T111542
CREATED:20240603T120418Z
LAST-MODIFIED:20240603T120418Z
UID:13089-1720483200-1720915199@fujisawa-npo.jp
SUMMARY:まち活パートナーズトライアルWeek「～見て・知って・体験しよう！～」
DESCRIPTION:７月９日（火曜日 ）～７月13日（土曜日）\nPDF情報No.112053 \n\n『まち活パートナーズ』とは、プロとしての経験やスキルを活かす「スペシャリスト」、知識や技術を教え・伝える「学びのパートナー」、イベントなどで演奏や演技を披露する「パフォーマー」として活動するボランティアです。
URL:https://fujisawa-npo.jp/event/%e3%81%be%e3%81%a1%e6%b4%bb%e3%83%91%e3%83%bc%e3%83%88%e3%83%8a%e3%83%bc%e3%82%ba%e3%83%88%e3%83%a9%e3%82%a4%e3%82%a2%e3%83%abweek%e3%80%8c%ef%bd%9e%e8%a6%8b%e3%81%a6%e3%83%bb%e7%9f%a5%e3%81%a3
LOCATION:青葉区役所 / 青葉区区民活動支援センター\, 青葉区市ケ尾町31-4\, 横浜市\, 神奈川県\, 日本
CATEGORIES:イベント
ATTACH;FMTTYPE=image/jpeg:https://fujisawa-npo.jp/wp-content/uploads/2024/06/112053-scaled.jpg
ORGANIZER;CN="%E9%9D%92%E8%91%89%E5%8C%BA%E5%8C%BA%E6%B0%91%E6%B4%BB%E5%8B%95%E6%94%AF%E6%8F%B4%E3%82%BB%E3%83%B3%E3%82%BF%E3%83%BC":MAILTO:ao-machikatsu@city.yokohama.jp
END:VEVENT
BEGIN:VEVENT
DTSTART;TZID=Asia/Tokyo:20240707T143000
DTEND;TZID=Asia/Tokyo:20240707T163000
DTSTAMP:20260420T111542
CREATED:20240610T040820Z
LAST-MODIFIED:20240610T040820Z
UID:13113-1720362600-1720369800@fujisawa-npo.jp
SUMMARY:たなばたコンサート
DESCRIPTION:会費￥1\,000\n※会員の方は￥500\n（高校生・大学生￥500）\n（中学生以下無料） \nPDF情報No.112058 \n\nボーカルグループ　アウローラaurora\n歌・キーボード：ヒロミ相原\nギター：ヤスベイ加来\nパーカッション：ススム高谷\nキーボード：福成祐子
URL:https://fujisawa-npo.jp/event/%e3%81%9f%e3%81%aa%e3%81%b0%e3%81%9f%e3%82%b3%e3%83%b3%e3%82%b5%e3%83%bc%e3%83%88
LOCATION:Fプレイス\, 本町1丁目12-17\, 藤沢市\, 神奈川県\, 日本
CATEGORIES:イベント
ATTACH;FMTTYPE=image/jpeg:https://fujisawa-npo.jp/wp-content/uploads/2024/06/112058-scaled.jpg
END:VEVENT
BEGIN:VEVENT
DTSTART;TZID=Asia/Tokyo:20240707T101500
DTEND;TZID=Asia/Tokyo:20240707T113000
DTSTAMP:20260420T111542
CREATED:20240516T110709Z
LAST-MODIFIED:20240516T110709Z
UID:12822-1720347300-1720351800@fujisawa-npo.jp
SUMMARY:ママとこどものにほんごサロン
DESCRIPTION:7/7，7/18\nPDF情報No.111950 \n\nにほんごのべんきょうができます。ともだちもできます。\nこどもをみているひとがいます。\nよやくは　いりません。
URL:https://fujisawa-npo.jp/event/%e3%83%9e%e3%83%9e%e3%81%a8%e3%81%93%e3%81%a9%e3%82%82%e3%81%ae%e3%81%ab%e3%81%bb%e3%82%93%e3%81%94%e3%82%b5%e3%83%ad%e3%83%b3
LOCATION:藤沢市南図書館\, 南藤沢２１−１\, 藤沢市\, 神奈川県
CATEGORIES:イベント
ATTACH;FMTTYPE=image/jpeg:https://fujisawa-npo.jp/wp-content/uploads/2024/05/111950-scaled.jpg
END:VEVENT
BEGIN:VEVENT
DTSTART;TZID=Asia/Tokyo:20240706T140000
DTEND;TZID=Asia/Tokyo:20240706T170000
DTSTAMP:20260420T111542
CREATED:20240531T092332Z
LAST-MODIFIED:20240531T092332Z
UID:12931-1720274400-1720285200@fujisawa-npo.jp
SUMMARY:うたとピアノと音読劇　OVERHEAT THE RAINBOW
DESCRIPTION:PDF情報No.111985 \n\n第一部　うたとピアノ\n過去公演の劇中歌や名作ミュージカル曲をゲストのお三方と共にお届けします \n第二部　音読劇 どんぐりと山猫\n原作 宮沢賢治
URL:https://fujisawa-npo.jp/event/%e3%81%86%e3%81%9f%e3%81%a8%e3%83%94%e3%82%a2%e3%83%8e%e3%81%a8%e9%9f%b3%e8%aa%ad%e5%8a%87%e3%80%80overheat-the-rainbow
LOCATION:湘南台文化センター 市民シアター\, 湘南台1-8\, 藤沢市\, 神奈川県\, 日本
CATEGORIES:イベント
ATTACH;FMTTYPE=image/jpeg:https://fujisawa-npo.jp/wp-content/uploads/2024/05/111985-scaled.jpg
END:VEVENT
BEGIN:VEVENT
DTSTART;TZID=Asia/Tokyo:20240706T110000
DTEND;TZID=Asia/Tokyo:20240707T150000
DTSTAMP:20260420T111542
CREATED:20240627T105444Z
LAST-MODIFIED:20240627T105444Z
UID:13390-1720263600-1720364400@fujisawa-npo.jp
SUMMARY:慶應義塾大学 第 35 回 七夕祭
DESCRIPTION:PDF情報No.112156 \n\n天の川の下で、私たちはそれぞれの想いを寄せる。想いが光輝き、重なり、作り上がる七夕祭。織りなす光の色彩に、心が躍る。​この夏の想い出を照らす、鮮やかな光になりますように。
URL:https://fujisawa-npo.jp/event/%e6%85%b6%e6%87%89%e7%be%a9%e5%a1%be%e5%a4%a7%e5%ad%a6-%e7%ac%ac-35-%e5%9b%9e-%e4%b8%83%e5%a4%95%e7%a5%ad
LOCATION:慶應義塾大学 湘南藤沢キャンパス\, 遠藤5322\, 藤沢市\, 神奈川県\, 日本
CATEGORIES:イベント
ATTACH;FMTTYPE=image/jpeg:https://fujisawa-npo.jp/wp-content/uploads/2024/06/112156-scaled.jpg
END:VEVENT
BEGIN:VEVENT
DTSTART;VALUE=DATE:20240706
DTEND;VALUE=DATE:20240707
DTSTAMP:20260420T111542
CREATED:20240418T113551Z
LAST-MODIFIED:20240418T113551Z
UID:12543-1720224000-1720310399@fujisawa-npo.jp
SUMMARY:逗子落語会 三遊亭わん丈 真打昇進披露公演
DESCRIPTION:開場：17:30、開演18:00\n毎年恒例の逗子落語会。\n落語協会では12年ぶり16人抜きの抜擢真打昇進披露公演。\n林家たい平と浪曲師玉川太福をゲストに迎え華々しく開催します。\n※チケットについては画像をご覧ください\n情報No.111801
URL:https://fujisawa-npo.jp/event/%e9%80%97%e5%ad%90%e8%90%bd%e8%aa%9e%e4%bc%9a-%e4%b8%89%e9%81%8a%e4%ba%ad%e3%82%8f%e3%82%93%e4%b8%88-%e7%9c%9f%e6%89%93%e6%98%87%e9%80%b2%e6%8a%ab%e9%9c%b2%e5%85%ac%e6%bc%94
LOCATION:神奈川県
CATEGORIES:イベント
ATTACH;FMTTYPE=image/jpeg:https://fujisawa-npo.jp/wp-content/uploads/2024/04/111801-scaled.jpg
END:VEVENT
BEGIN:VEVENT
DTSTART;VALUE=DATE:20240702
DTEND;VALUE=DATE:20240722
DTSTAMP:20260420T111542
CREATED:20240711T115822Z
LAST-MODIFIED:20240711T115822Z
UID:13520-1719878400-1721606399@fujisawa-npo.jp
SUMMARY:じょっぱり―看護の人 花田ミキ
DESCRIPTION:PDF情報No.112239 \n\n伝説の看護の人、花田ミキの 看護に命をかけた波乱万丈の生きざま \nシングルマザーとして息子リクの子育てに追われる日々をおくっていたちさと（王林）は、仕事場のスーパーの常連である花田ミキ（木野花）と出逢う。人嫌いとして近所でも有名であった花田だが、ちさとやリクとの何気ない日々を過ごす中で、人のぬくもりに触れ、自然と心を通わせていく。 \n花田は自分がかつて看護師であったことをちさとに告白し、当時の社会情勢や自分が今日までどのような生き方をしてきたのかについて語り始める。 花田の若い頃（伊勢佳世）の姿は、八戸赤十字病院で集団感染が起きたポリオの治療法を広め、看護に対して誰よりも懸命に向き合い、生き抜いた姿だった。ちさとは、幼い頃に亡くなった自分の母親も看護師であったことから、花田により親近感を抱くようになっていったのだが……。
URL:https://fujisawa-npo.jp/event/%e3%81%98%e3%82%87%e3%81%a3%e3%81%b1%e3%82%8a%e2%80%95%e7%9c%8b%e8%ad%b7%e3%81%ae%e4%ba%ba-%e8%8a%b1%e7%94%b0%e3%83%9f%e3%82%ad
LOCATION:東京都写真美術館\, 三田1-13-3\, 目黒区\, 東京都
CATEGORIES:イベント
ATTACH;FMTTYPE=image/jpeg:https://fujisawa-npo.jp/wp-content/uploads/2024/07/112239-scaled.jpg
END:VEVENT
BEGIN:VEVENT
DTSTART;TZID=Asia/Tokyo:20240630T103000
DTEND;TZID=Asia/Tokyo:20240630T160000
DTSTAMP:20260420T111542
CREATED:20240603T103113Z
LAST-MODIFIED:20240603T103113Z
UID:13054-1719743400-1719763200@fujisawa-npo.jp
SUMMARY:にしとも音楽祭♪
DESCRIPTION:PDF情報No.112029 \n\n「西区街の名人・達人」音楽アーティストが大集結！ \n大人も子どもも、生演奏を体感！
URL:https://fujisawa-npo.jp/event/%e3%81%ab%e3%81%97%e3%81%a8%e3%82%82%e9%9f%b3%e6%a5%bd%e7%a5%ad%e2%99%aa
LOCATION:横浜市西区役所\, 西区中央一丁目5番10号\, 横浜市
CATEGORIES:イベント
ATTACH;FMTTYPE=image/jpeg:https://fujisawa-npo.jp/wp-content/uploads/2024/06/112029-scaled.jpg
ORGANIZER;CN="%E3%81%AB%E3%81%97%E3%81%8F%E5%B8%82%E6%B0%91%E6%B4%BB%E5%8B%95%E6%94%AF%E6%8F%B4%E3%82%BB%E3%83%B3%E3%82%BF%E3%83%BC %E3%81%AB%E3%81%97%E3%81%A8%E3%82%82%E5%BA%83%E5%A0%B4(%E7%AE%A1%E7%90%86%E9%81%8B%E5%96%B6%EF%BC%9A%E5%B8%82%E6%B0%91%E3%82%BB%E3%82%AF%E3%82%BF%E3%83%BC%E3%82%88%E3%81%93%E3%81%AF%E3%81%BE)":MAILTO:ni-shiencenter@star.ocn.ne.jp
END:VEVENT
BEGIN:VEVENT
DTSTART;TZID=Asia/Tokyo:20240629T133000
DTEND;TZID=Asia/Tokyo:20240629T153000
DTSTAMP:20260420T111542
CREATED:20240404T120323Z
LAST-MODIFIED:20240523T041554Z
UID:12368-1719667800-1719675000@fujisawa-npo.jp
SUMMARY:震災復興支援コンサート in ふじさわ
DESCRIPTION:開場13:00、開演\n参加費：当日券500円、中学生以下無料\nPDF情報No.111714 \n\n「放射能から子どもを守ろう」\n今年で大震災・原発事故から13年、復興もなだ途中です。\n放射能汚染のある場所への帰還を進めており、アルプス処理水の海洋放出も漁業者の反対を無視して行われています。\n避難者のくらしが心配です。\n福島が忘れられてしまわないよう、誰もが人間らしく働き暮らせるように、私たちの歌や演奏で連帯の心を届けたいと願っています。
URL:https://fujisawa-npo.jp/event/%e9%9c%87%e7%81%bd%e5%be%a9%e8%88%88%e6%94%af%e6%8f%b4%e3%82%b3%e3%83%b3%e3%82%b5%e3%83%bc%e3%83%88-in-%e3%81%b5%e3%81%98%e3%81%95%e3%82%8f-2
LOCATION:藤沢市民会館\, 251-0026
CATEGORIES:イベント
ATTACH;FMTTYPE=image/jpeg:https://fujisawa-npo.jp/wp-content/uploads/2024/04/111714-scaled.jpg
END:VEVENT
BEGIN:VEVENT
DTSTART;TZID=Asia/Tokyo:20240629T130000
DTEND;TZID=Asia/Tokyo:20240629T175000
DTSTAMP:20260420T111542
CREATED:20240516T100604Z
LAST-MODIFIED:20240516T100604Z
UID:12809-1719666000-1719683400@fujisawa-npo.jp
SUMMARY:2024年度 大阪ボランティア協会定期総会・記念講演会
DESCRIPTION:PDF情報No.111942 \n\n2024年度の大阪ボランティア協会「定期総会」ならびに「記念講演会」を開催します。\n第１部・記念講演会は、ジャーナリストの浜田敬子さんをお招きし、近著「男性中心企業の終焉」を受け、企業社会の改革の重要性をお話しいただくとともに、消費者として市民が果たせる役割などについて、考える機会としたいと思います。
URL:https://fujisawa-npo.jp/event/2024%e5%b9%b4%e5%ba%a6-%e5%a4%a7%e9%98%aa%e3%83%9c%e3%83%a9%e3%83%b3%e3%83%86%e3%82%a3%e3%82%a2%e5%8d%94%e4%bc%9a%e5%ae%9a%e6%9c%9f%e7%b7%8f%e4%bc%9a%e3%83%bb%e8%a8%98%e5%bf%b5%e8%ac%9b%e6%bc%94
LOCATION:オンライン(Zoom)
CATEGORIES:イベント
ATTACH;FMTTYPE=image/jpeg:https://fujisawa-npo.jp/wp-content/uploads/2024/05/111942-scaled.jpg
ORGANIZER;CN="(%E7%A4%BE%E7%A6%8F)%E5%A4%A7%E9%98%AA%E3%83%9C%E3%83%A9%E3%83%B3%E3%83%86%E3%82%A3%E3%82%A2%E5%8D%94%E4%BC%9A":MAILTO:office@osakavol.org
END:VEVENT
BEGIN:VEVENT
DTSTART;TZID=Asia/Tokyo:20240629T130000
DTEND;TZID=Asia/Tokyo:20240629T170000
DTSTAMP:20260420T111542
CREATED:20240603T070704Z
LAST-MODIFIED:20240603T070704Z
UID:13042-1719666000-1719680400@fujisawa-npo.jp
SUMMARY:夢みる公立校長先生 上映会&トークイベント
DESCRIPTION:大人1000円、高校生以下無料\nPDF情報No.112021 \n\n10万人が沸いた「夢見る小学校」のスピンオフ映画登場！
URL:https://fujisawa-npo.jp/event/%e5%a4%a2%e3%81%bf%e3%82%8b%e5%85%ac%e7%ab%8b%e6%a0%a1%e9%95%b7%e5%85%88%e7%94%9f-%e4%b8%8a%e6%98%a0%e4%bc%9a%e3%83%88%e3%83%bc%e3%82%af%e3%82%a4%e3%83%99%e3%83%b3%e3%83%88
LOCATION:藤沢市民会館\, 251-0026
CATEGORIES:イベント
ATTACH;FMTTYPE=image/jpeg:https://fujisawa-npo.jp/wp-content/uploads/2024/06/112021-scaled.jpg
END:VEVENT
BEGIN:VEVENT
DTSTART;TZID=Asia/Tokyo:20240625T100000
DTEND;TZID=Asia/Tokyo:20240625T113000
DTSTAMP:20260420T111542
CREATED:20240506T050812Z
LAST-MODIFIED:20240506T050812Z
UID:12746-1719309600-1719315000@fujisawa-npo.jp
SUMMARY:まち活カフェ+　知って備える！スマホで防災
DESCRIPTION:PDF情報No.111915 \n\n「青葉スマホ・サポーター」の皆さんから防災アプリの紹介等、災害時におけるスマートフォンの使い方についてお話を聞き、考え、参加者同士の情報交換も行います。
URL:https://fujisawa-npo.jp/event/%e3%81%be%e3%81%a1%e6%b4%bb%e3%82%ab%e3%83%95%e3%82%a7%e3%80%80%e7%9f%a5%e3%81%a3%e3%81%a6%e5%82%99%e3%81%88%e3%82%8b%ef%bc%81%e3%82%b9%e3%83%9e%e3%83%9b%e3%81%a7%e9%98%b2%e7%81%bd
LOCATION:青葉区役所 / 青葉区区民活動支援センター\, 青葉区市ケ尾町31-4\, 横浜市\, 神奈川県\, 日本
CATEGORIES:イベント
ATTACH;FMTTYPE=image/jpeg:https://fujisawa-npo.jp/wp-content/uploads/2024/05/111915-scaled.jpg
ORGANIZER;CN="%E9%9D%92%E8%91%89%E5%8C%BA%E5%8C%BA%E6%B0%91%E6%B4%BB%E5%8B%95%E6%94%AF%E6%8F%B4%E3%82%BB%E3%83%B3%E3%82%BF%E3%83%BC":MAILTO:ao-machikatsu@city.yokohama.jp
END:VEVENT
BEGIN:VEVENT
DTSTART;VALUE=DATE:20240625
DTEND;VALUE=DATE:20240626
DTSTAMP:20260420T111542
CREATED:20240603T062857Z
LAST-MODIFIED:20240603T062857Z
UID:13016-1719273600-1719359999@fujisawa-npo.jp
SUMMARY:【6/25締切】第７回 湘南ふじさわ子育て応援メッセ参加団体募集
DESCRIPTION:PDF情報No.112014 \n\n情報を求めている親子が集う「湘南ふじさわ子育て応援メッセ」で、みなさんの活動をアピールしませんか
URL:https://fujisawa-npo.jp/event/%e3%80%906-25%e7%b7%a0%e5%88%87%e3%80%91%e7%ac%ac%ef%bc%97%e5%9b%9e-%e6%b9%98%e5%8d%97%e3%81%b5%e3%81%98%e3%81%95%e3%82%8f%e5%ad%90%e8%82%b2%e3%81%a6%e5%bf%9c%e6%8f%b4%e3%83%a1%e3%83%83%e3%82%bb
LOCATION:神奈川県
CATEGORIES:イベント
ATTACH;FMTTYPE=image/jpeg:https://fujisawa-npo.jp/wp-content/uploads/2024/06/112014-scaled.jpg
END:VEVENT
BEGIN:VEVENT
DTSTART;TZID=Asia/Tokyo:20240624T140000
DTEND;TZID=Asia/Tokyo:20240624T160000
DTSTAMP:20260420T111542
CREATED:20240603T122904Z
LAST-MODIFIED:20240603T122904Z
UID:13093-1719237600-1719244800@fujisawa-npo.jp
SUMMARY:6月 みんなでゆるゆるオーナー「夏に向けて 種をまこう！」
DESCRIPTION:PDF情報No.112056 \n\nヒマワリ・アサガオ・ホウセンカ…夏の花を植えましょう
URL:https://fujisawa-npo.jp/event/6%e6%9c%88-%e3%81%bf%e3%82%93%e3%81%aa%e3%81%a7%e3%82%86%e3%82%8b%e3%82%86%e3%82%8b%e3%82%aa%e3%83%bc%e3%83%8a%e3%83%bc%e3%80%8c%e5%a4%8f%e3%81%ab%e5%90%91%e3%81%91%e3%81%a6-%e7%a8%ae%e3%82%92
LOCATION:ラポール城南かるがも\, 城南4-9-8\, 藤沢市\, 神奈川県\, 日本
CATEGORIES:イベント
ATTACH;FMTTYPE=image/jpeg:https://fujisawa-npo.jp/wp-content/uploads/2024/06/112056-scaled.jpg
END:VEVENT
BEGIN:VEVENT
DTSTART;TZID=Asia/Tokyo:20240623T103000
DTEND;TZID=Asia/Tokyo:20240623T140000
DTSTAMP:20260420T111542
CREATED:20240610T014829Z
LAST-MODIFIED:20240610T014829Z
UID:13119-1719138600-1719151200@fujisawa-npo.jp
SUMMARY:【6/23・6/24】人生フルーツ
DESCRIPTION:日時：6月23日（日）6月24日（月）\n料金：大人（中学生以上）1\,400円、小学生800円\nPDF情報No.112061 \n\n津端修一さん90歳、英子さん87歳　風と雑木林と建築家夫婦の物語\n人生は、だんだん美しくなる。
URL:https://fujisawa-npo.jp/event/%e3%80%906-23%e3%83%bb6-24%e3%80%91%e4%ba%ba%e7%94%9f%e3%83%95%e3%83%ab%e3%83%bc%e3%83%84
LOCATION:エコストアパパラギ\, 鵠沼石上1-3-6\, 藤沢市\, 神奈川県\, 日本
CATEGORIES:イベント
ATTACH;FMTTYPE=image/jpeg:https://fujisawa-npo.jp/wp-content/uploads/2024/06/112061-scaled.jpg
ORGANIZER;CN="%E3%82%A8%E3%82%B3%E3%82%B9%E3%83%88%E3%82%A2%E3%83%91%E3%83%91%E3%83%A9%E3%82%AE":MAILTO:fujisawa@eco-papa.com
END:VEVENT
BEGIN:VEVENT
DTSTART;VALUE=DATE:20240623
DTEND;VALUE=DATE:20240624
DTSTAMP:20260420T111542
CREATED:20240603T104913Z
LAST-MODIFIED:20240603T104913Z
UID:13063-1719100800-1719187199@fujisawa-npo.jp
SUMMARY:【6/23締切】地域でつながる ワカモノ✖ NPO インターンシッププログラム2024
DESCRIPTION:PDF情報No.112033 \n\n本プログラムは、ワカモノが約半年間、NPO（神奈川県内で活動するNPO・市民活動団体）で団体の一員として関わるインターンシッププログラムです。「自ら考え、選ぶことができる力をつけた人材が育つこと」を目的に実施しています。\n最初の個別面談で「やってみたいこと」をしっかりと伺った上で、活動先とのマッチングをします。自分でスケジュールを決められるのも、活動しやすいポイントです。また、他のインターン生やOBOG との交流会もあります。
URL:https://fujisawa-npo.jp/event/%e3%80%906-23%e7%b7%a0%e5%88%87%e3%80%91%e5%9c%b0%e5%9f%9f%e3%81%a7%e3%81%a4%e3%81%aa%e3%81%8c%e3%82%8b-%e3%83%af%e3%82%ab%e3%83%a2%e3%83%8e%e2%9c%96-npo-%e3%82%a4%e3%83%b3%e3%82%bf%e3%83%bc%e3%83%b3
LOCATION:神奈川県
CATEGORIES:イベント
ATTACH;FMTTYPE=image/jpeg:https://fujisawa-npo.jp/wp-content/uploads/2024/06/112033-scaled.jpg
ORGANIZER;CN="%E8%AA%8D%E5%AE%9ANPO%E6%B3%95%E4%BA%BA %E8%97%A4%E6%B2%A2%E5%B8%82%E6%B0%91%E6%B4%BB%E5%8B%95%E6%8E%A8%E9%80%B2%E6%A9%9F%E6%A7%8B(NPO%E3%82%A4%E3%83%B3%E3%82%BF%E3%83%BC%E3%83%B3%E3%82%B7%E3%83%83%E3%83%97%E3%83%97%E3%83%AD%E3%82%B0%E3%83%A9%E3%83%A0)":MAILTO:npoipg@f-npon.jp
END:VEVENT
BEGIN:VEVENT
DTSTART;VALUE=DATE:20240623
DTEND;VALUE=DATE:20240624
DTSTAMP:20260420T111542
CREATED:20240418T113337Z
LAST-MODIFIED:20240523T041345Z
UID:12540-1719100800-1719187199@fujisawa-npo.jp
SUMMARY:藤沢男声合唱団 第34回定期演奏会
DESCRIPTION:開場14:00、開演14:30\n『雨ニモマケズ』千原英喜作曲、『Der Abendhimmel』～男性合唱曲集～、『サっちゃん』～大中恩生誕100年を記念して～\n情報No.111799
URL:https://fujisawa-npo.jp/event/%e8%97%a4%e6%b2%a2%e7%94%b7%e5%a3%b0%e5%90%88%e5%94%b1%e5%9b%a3-%e7%ac%ac34%e5%9b%9e%e5%ae%9a%e6%9c%9f%e6%bc%94%e5%a5%8f%e4%bc%9a
LOCATION:藤沢市民会館\, 251-0026
CATEGORIES:イベント
ATTACH;FMTTYPE=image/jpeg:https://fujisawa-npo.jp/wp-content/uploads/2024/05/111799-scaled.jpg
ORGANIZER;CN="%E8%97%A4%E6%B2%A2%E7%94%B7%E5%A3%B0%E5%90%88%E5%94%B1%E5%9B%A3":MAILTO:fujidan_fmc@mbr.nifty.com
END:VEVENT
BEGIN:VEVENT
DTSTART;TZID=Asia/Tokyo:20240622T140000
DTEND;TZID=Asia/Tokyo:20240622T170000
DTSTAMP:20260420T111542
CREATED:20240531T112017Z
LAST-MODIFIED:20240531T112017Z
UID:12955-1719064800-1719075600@fujisawa-npo.jp
SUMMARY:藤沢市空家移動相談会
DESCRIPTION:PDF情報No.111998 \n\n空き家の管理や処分、実家の相続、終活などについて専門家に相談してみませんか？
URL:https://fujisawa-npo.jp/event/%e8%97%a4%e6%b2%a2%e5%b8%82%e7%a9%ba%e5%ae%b6%e7%a7%bb%e5%8b%95%e7%9b%b8%e8%ab%87%e4%bc%9a-3
LOCATION:藤沢市民会館\, 251-0026
CATEGORIES:イベント
ATTACH;FMTTYPE=image/jpeg:https://fujisawa-npo.jp/wp-content/uploads/2024/05/111998-scaled.jpg
ORGANIZER;CN="%E8%97%A4%E6%B2%A2%E5%B8%82 %E8%A8%88%E7%94%BB%E5%BB%BA%E7%AF%89%E9%83%A8 %E4%BD%8F%E3%81%BE%E3%81%84%E6%9A%AE%E3%82%89%E3%81%97%E6%94%BF%E7%AD%96%E8%AA%B2":MAILTO:fj-jutaku@city.fujisawa.lg.jp
END:VEVENT
BEGIN:VEVENT
DTSTART;TZID=Asia/Tokyo:20240622T133000
DTEND;TZID=Asia/Tokyo:20240622T170000
DTSTAMP:20260420T111542
CREATED:20240425T120147Z
LAST-MODIFIED:20240425T120147Z
UID:12615-1719063000-1719075600@fujisawa-npo.jp
SUMMARY:マンション管理組合研修交流会・無料相談会のご案内
DESCRIPTION:湘南マンション管理組合ネットワークでは、マンション管理無料相談会や、マンション管理に役立つ情報提供・管理組合間の情報交換の場として活用して頂けるよう、研修交流会を行っていますので、ご案内いたします。\n(無料相談会)毎月第4土曜日 13:00～15:00\n(研修交流会)時間：15:10～17:00\n「マンション活用化の実例」～グランフォーレ戸塚ヒルブリーズの軌跡～\n※詳細はPDF情報のQRコードをご覧ください。\n参加費：会員無料、会員外は資料代500円\n情報No.111839
URL:https://fujisawa-npo.jp/event/%e3%83%9e%e3%83%b3%e3%82%b7%e3%83%a7%e3%83%b3%e7%ae%a1%e7%90%86%e7%b5%84%e5%90%88%e7%a0%94%e4%bf%ae%e4%ba%a4%e6%b5%81%e4%bc%9a%e3%83%bb%e7%84%a1%e6%96%99%e7%9b%b8%e8%ab%87%e4%bc%9a%e3%81%ae%e3%81%94-3
LOCATION:藤沢市市民活動推進センター(アーバンセンター藤沢 2F)\, 藤沢1031\, 藤沢市\, 神奈川県\, 日本
CATEGORIES:イベント,講座
ATTACH;FMTTYPE=image/jpeg:https://fujisawa-npo.jp/wp-content/uploads/2024/04/111839-scaled.jpg
END:VEVENT
END:VCALENDAR