BEGIN:VCALENDAR
VERSION:2.0
PRODID:-//藤沢市市民活動推進センター - ECPv6.15.11//NONSGML v1.0//EN
CALSCALE:GREGORIAN
METHOD:PUBLISH
X-WR-CALNAME:藤沢市市民活動推進センター
X-ORIGINAL-URL:https://fujisawa-npo.jp
X-WR-CALDESC:藤沢市市民活動推進センター のイベント
REFRESH-INTERVAL;VALUE=DURATION:PT1H
X-Robots-Tag:noindex
X-PUBLISHED-TTL:PT1H
BEGIN:VTIMEZONE
TZID:Asia/Tokyo
BEGIN:STANDARD
TZOFFSETFROM:+0900
TZOFFSETTO:+0900
TZNAME:JST
DTSTART:20230101T000000
END:STANDARD
END:VTIMEZONE
BEGIN:VEVENT
DTSTART;TZID=Asia/Tokyo:20240426T080000
DTEND;TZID=Asia/Tokyo:20240602T170000
DTSTAMP:20260420T160805
CREATED:20240415T101014Z
LAST-MODIFIED:20240415T101643Z
UID:12512-1714118400-1717347600@fujisawa-npo.jp
SUMMARY:ウクライナの人形～愛でつなぐ伝統文化～
DESCRIPTION:7000年以上前からウクライナの地で受け継がれてきたお守り人形モタンカ\n様々な思いを込めて作られているモタンカ人形にはそれぞれの物語があります。\n「アートを通して共に癒しを心から心へ」をテーマに、ウクライナ現地で制作されたタンモカおよそ50体やウクライナでの製作の様子などをご紹介します。\nモタンカの思いに耳を傾けてみませんか。\n情報No.111794
URL:https://fujisawa-npo.jp/event/%e3%82%a6%e3%82%af%e3%83%a9%e3%82%a4%e3%83%8a%e3%81%ae%e4%ba%ba%e5%bd%a2%ef%bd%9e%e6%84%9b%e3%81%a7%e3%81%a4%e3%81%aa%e3%81%90%e4%bc%9d%e7%b5%b1%e6%96%87%e5%8c%96%ef%bd%9e
LOCATION:あーすぷらざ (神奈川県立地球市民かながわプラザ)\, 栄区小菅ヶ谷1-2-1\, 横浜市\, 神奈川県\, 247-0007
CATEGORIES:イベント
ATTACH;FMTTYPE=image/jpeg:https://fujisawa-npo.jp/wp-content/uploads/2024/04/111794.jpg
ORGANIZER;CN="%E7%A5%9E%E5%A5%88%E5%B7%9D%E7%9C%8C%E7%AB%8B%E5%9C%B0%E7%90%83%E5%B8%82%E6%B0%91%E3%82%BB%E3%83%B3%E3%82%BF%E3%83%BC%E3%81%8B%E3%81%AA%E3%81%8C%E3%82%8F%E3%83%97%E3%83%A9%E3%82%B6(%E3%81%82%E3%83%BC%E3%81%99%E3%81%B7%E3%82%89%E3%81%96)":MAILTO:gakushu@earthplaza.jp
END:VEVENT
BEGIN:VEVENT
DTSTART;TZID=Asia/Tokyo:20240423T100000
DTEND;TZID=Asia/Tokyo:20240428T190000
DTSTAMP:20260420T160805
CREATED:20240411T120252Z
LAST-MODIFIED:20240411T121815Z
UID:12459-1713866400-1714330800@fujisawa-npo.jp
SUMMARY:セイルのアップサイクル展
DESCRIPTION:ヨットの帆をアップサイクルして、唯一無二の素材を楽しむ日本でひとつの製作サークルの催しです。\nPDF情報No.111768
URL:https://fujisawa-npo.jp/event/%e3%82%bb%e3%82%a4%e3%83%ab%e3%81%ae%e3%82%a2%e3%83%83%e3%83%97%e3%82%b5%e3%82%a4%e3%82%af%e3%83%ab%e5%b1%95
LOCATION:藤沢市民ギャラリー(ODAKYU湘南GATE 6F)\, 南藤沢21-1\, 藤沢市\, 神奈川県\, 日本
CATEGORIES:イベント
ATTACH;FMTTYPE=image/jpeg:https://fujisawa-npo.jp/wp-content/uploads/2024/04/111768.jpg
END:VEVENT
BEGIN:VEVENT
DTSTART;TZID=Asia/Tokyo:20240422T140000
DTEND;TZID=Asia/Tokyo:20240422T160000
DTSTAMP:20260420T160805
CREATED:20240404T115952Z
LAST-MODIFIED:20240404T120048Z
UID:12365-1713794400-1713801600@fujisawa-npo.jp
SUMMARY:(社福)いきいき福祉会「みんなでゆるゆるオーナー」
DESCRIPTION:情報No.111709 \n\nいよいよ春の陽気になってきましたね。\n寒くて縮こまっていた身体をやさしいストレッチで伸ばしてみませんか？\n身体」のこの部分が痛いけど、どんなストレッチがいいかな？\nなんてお悩みのかたも一緒に身体を伸ばしてみましょう(^^)/\nおすすめのストレッチや体操も募集中。
URL:https://fujisawa-npo.jp/event/%e7%a4%be%e7%a6%8f%e3%81%84%e3%81%8d%e3%81%84%e3%81%8d%e7%a6%8f%e7%a5%89%e4%bc%9a%e3%80%8c%e3%81%bf%e3%82%93%e3%81%aa%e3%81%a7%e3%82%86%e3%82%8b%e3%82%86%e3%82%8b%e3%82%aa%e3%83%bc%e3%83%8a%e3%83%bc-7
LOCATION:ラポール城南かるがも\, 城南4-9-8\, 藤沢市\, 神奈川県\, 日本
CATEGORIES:イベント
ATTACH;FMTTYPE=image/jpeg:https://fujisawa-npo.jp/wp-content/uploads/2024/04/111709-1-scaled.jpg
END:VEVENT
BEGIN:VEVENT
DTSTART;VALUE=DATE:20240422
DTEND;VALUE=DATE:20240423
DTSTAMP:20260420T160805
CREATED:20240314T112849Z
LAST-MODIFIED:20240314T112849Z
UID:12153-1713744000-1713830399@fujisawa-npo.jp
SUMMARY:(公財)神奈川県公園協会「2024年 春期 花苗の配布」 申込締切4/22
DESCRIPTION:申込期間：4/10(水)～↑(4/22(月))\n配布期間：5/16(木)～5/22(水)\n※抽選により配布団体を決定します\nPDF情報No.111645 \n\n(公財)神奈川県公園協会では、地域と共に、花とみどりの美しいまちづくりを推進するとともに、県民自らの緑化活動を支援するため、地域の団体等へ花苗を配布します。\n※詳しくはPDFをご覧ください
URL:https://fujisawa-npo.jp/event/%e5%85%ac%e8%b2%a1%e7%a5%9e%e5%a5%88%e5%b7%9d%e7%9c%8c%e5%85%ac%e5%9c%92%e5%8d%94%e4%bc%9a%e3%80%8c2024%e5%b9%b4-%e6%98%a5%e6%9c%9f-%e8%8a%b1%e8%8b%97%e3%81%ae%e9%85%8d%e5%b8%83%e3%80%8d-%e7%94%b3
LOCATION:神奈川県
CATEGORIES:イベント
END:VEVENT
BEGIN:VEVENT
DTSTART;VALUE=DATE:20240421
DTEND;VALUE=DATE:20240422
DTSTAMP:20260420T160805
CREATED:20240201T115445Z
LAST-MODIFIED:20240201T115445Z
UID:11811-1713657600-1713743999@fujisawa-npo.jp
SUMMARY:湘南SHOW点「至急・出演者募集！ 踊って歌って演奏しよう！」
DESCRIPTION:会場：大岡祭ビッグパレード\n時間：13:00\n情報No.111434 \n\n赤とんぼ音頭＆やればできる！共生ソング＆浜降サンバ＆浜辺の歌サンバ\n上記4曲の盆踊り・ダンス・サンバ打楽器を楽しく練習して、茅ヶ崎駅前でのパレードで踊りませんか？\n「共生」をテーマに、障がいの有無を超えてインクルーシブなパフォーマンスを実現！
URL:https://fujisawa-npo.jp/event/%e6%b9%98%e5%8d%97show%e7%82%b9%e3%80%8c%e8%87%b3%e6%80%a5%e3%83%bb%e5%87%ba%e6%bc%94%e8%80%85%e5%8b%9f%e9%9b%86%ef%bc%81-%e8%b8%8a%e3%81%a3%e3%81%a6%e6%ad%8c%e3%81%a3%e3%81%a6%e6%bc%94%e5%a5%8f
LOCATION:神奈川県
CATEGORIES:イベント
ATTACH;FMTTYPE=image/jpeg:https://fujisawa-npo.jp/wp-content/uploads/2024/02/111434-scaled.jpg
ORGANIZER;CN="%E6%B9%98%E5%8D%97SHOW%E7%82%B9":MAILTO:clef-de-sol@jcom.home.ne.jp
END:VEVENT
BEGIN:VEVENT
DTSTART;VALUE=DATE:20240415
DTEND;VALUE=DATE:20240531
DTSTAMP:20260420T160805
CREATED:20240415T100723Z
LAST-MODIFIED:20240415T100723Z
UID:12510-1713139200-1717113599@fujisawa-npo.jp
SUMMARY:あーすぷらざ「鯉のぼり」
DESCRIPTION:5Fでは手作り鯉のぽりを、1・2Fでは寄贈鯉のぼりをかざります。\nあーすぷらざを散策してお気に入りの1匹をみつけてみてください\n情報No.111793
URL:https://fujisawa-npo.jp/event/%e3%81%82%e3%83%bc%e3%81%99%e3%81%b7%e3%82%89%e3%81%96%e3%80%8c%e9%af%89%e3%81%ae%e3%81%bc%e3%82%8a%e3%80%8d
LOCATION:あーすぷらざ (神奈川県立地球市民かながわプラザ)\, 栄区小菅ヶ谷1-2-1\, 横浜市\, 神奈川県\, 247-0007
CATEGORIES:イベント
ATTACH;FMTTYPE=image/jpeg:https://fujisawa-npo.jp/wp-content/uploads/2024/04/111793.jpg
ORGANIZER;CN="%E7%A5%9E%E5%A5%88%E5%B7%9D%E7%9C%8C%E7%AB%8B%E5%9C%B0%E7%90%83%E5%B8%82%E6%B0%91%E3%82%BB%E3%83%B3%E3%82%BF%E3%83%BC%E3%81%8B%E3%81%AA%E3%81%8C%E3%82%8F%E3%83%97%E3%83%A9%E3%82%B6(%E3%81%82%E3%83%BC%E3%81%99%E3%81%B7%E3%82%89%E3%81%96)":MAILTO:gakushu@earthplaza.jp
END:VEVENT
BEGIN:VEVENT
DTSTART;TZID=Asia/Tokyo:20240412T132000
DTEND;TZID=Asia/Tokyo:20240412T160000
DTSTAMP:20260420T160805
CREATED:20240311T105623Z
LAST-MODIFIED:20240311T105623Z
UID:12134-1712928000-1712937600@fujisawa-npo.jp
SUMMARY:2023年 科学体験活動推進スタッフ養成講座・事前説明会
DESCRIPTION:PDF情報No.111600 \n\nおもしろ科学たんけん工房の活動内容\n・「おもしろ科学体験塾」の開催\n「理科っておもしろい」と感じるような体験学習の場を提供しています。\n・地域のイベントへの参加、学校支援もあります。\n・スタッフ養成講座の開催など\n※集合講座など(申込締切5/3)の詳細はPDFをご覧ください。
URL:https://fujisawa-npo.jp/event/2023%e5%b9%b4-%e7%a7%91%e5%ad%a6%e4%bd%93%e9%a8%93%e6%b4%bb%e5%8b%95%e6%8e%a8%e9%80%b2%e3%82%b9%e3%82%bf%e3%83%83%e3%83%95%e9%a4%8a%e6%88%90%e8%ac%9b%e5%ba%a7%e3%83%bb%e4%ba%8b%e5%89%8d%e8%aa%ac
LOCATION:藤沢市市民活動推進センター(アーバンセンター藤沢 2F)\, 藤沢1031\, 藤沢市\, 神奈川県\, 日本
CATEGORIES:イベント
END:VEVENT
BEGIN:VEVENT
DTSTART;TZID=Asia/Tokyo:20240412T110000
DTEND;TZID=Asia/Tokyo:20240424T170000
DTSTAMP:20260420T160805
CREATED:20240321T124844Z
LAST-MODIFIED:20240321T124844Z
UID:12216-1712919600-1713978000@fujisawa-npo.jp
SUMMARY:山猫屋「まもりねこ展」
DESCRIPTION:PDF情報No.111657 \n\n守ってあげたくなるような小さな存在の猫\nでも 守ってもらっているのは 私たちの方かもしれませんね。
URL:https://fujisawa-npo.jp/event/%e5%b1%b1%e7%8c%ab%e5%b1%8b%e3%80%8c%e3%81%be%e3%82%82%e3%82%8a%e3%81%ad%e3%81%93%e5%b1%95%e3%80%8d
LOCATION:山猫屋\, 鵠沼海岸3-5-2-B\, 藤沢市\, 神奈川県\, 日本
CATEGORIES:イベント
ATTACH;FMTTYPE=image/jpeg:https://fujisawa-npo.jp/wp-content/uploads/2024/03/111657.jpg
ORGANIZER;CN="%E5%B1%B1%E7%8C%AB%E5%B1%8B":MAILTO:yamaneko-ya@jcom.home.ne.jp
END:VEVENT
BEGIN:VEVENT
DTSTART;VALUE=DATE:20240412
DTEND;VALUE=DATE:20240413
DTSTAMP:20260420T160805
CREATED:20240325T102039Z
LAST-MODIFIED:20240325T103802Z
UID:12241-1712880000-1712966399@fujisawa-npo.jp
SUMMARY:平塚市協業事業相談会
DESCRIPTION:日程：4/12(金)、4/20(土)、5/10(金)\n時間：4/12(金)\,4/20(土)は①10:00～10:55 ②11:00～11:55、5/10(金)は①14:00～14:55 ②15:00～15:55\n※締切：各日2日前まで\nPDF情報No.111673 \n\n日頃の活動の中で、行政と協働した方がより早く課題解決に結びつくのに…と感じたことはありませんか？\n相談会では、アイデアの段階から具体的な事業提案に結びつくかどうかまで、丁寧に対応させていただきます。
URL:https://fujisawa-npo.jp/event/%e5%b9%b3%e5%a1%9a%e5%b8%82%e5%8d%94%e6%a5%ad%e4%ba%8b%e6%a5%ad%e7%9b%b8%e8%ab%87%e4%bc%9a-2
LOCATION:ひらつか市民活動センター\, 見附町1-8\, 平塚市\, 神奈川県\, 日本
CATEGORIES:イベント
ATTACH;FMTTYPE=image/jpeg:https://fujisawa-npo.jp/wp-content/uploads/2024/03/111673-scaled.jpg
ORGANIZER;CN="%E3%81%B2%E3%82%89%E3%81%A4%E3%81%8B%E5%B8%82%E6%B0%91%E6%B4%BB%E5%8B%95%E3%82%BB%E3%83%B3%E3%82%BF%E3%83%BC":MAILTO:info@hiratsuka-shimin.net
END:VEVENT
BEGIN:VEVENT
DTSTART;TZID=Asia/Tokyo:20240411T160000
DTEND;TZID=Asia/Tokyo:20240411T173500
DTSTAMP:20260420T160805
CREATED:20240408T041938Z
LAST-MODIFIED:20240408T084129Z
UID:12413-1712851200-1712856900@fujisawa-npo.jp
SUMMARY:NPOのための専門家相談会
DESCRIPTION:NPOの＜会計・税務＞＜労務＞＜登記＞＜広報＞に関する課題や悩みについて、各分野の専門家がご相談に応じます。また、NPO法人の解散や事業承継についてもご相談を承ります（要予約）。 \n※開催スケジュールは画像またはPDFをご覧ください \nPDF情報No.111744 \n\n 
URL:https://fujisawa-npo.jp/event/npo%e3%81%ae%e3%81%9f%e3%82%81%e3%81%ae%e5%b0%82%e9%96%80%e5%ae%b6%e7%9b%b8%e8%ab%87%e4%bc%9a
LOCATION:京都市市民活動総合センター\, 下京区西木屋町通上ノ口上る梅湊町83-1\, 京都市\, 京都府\, 600-8127\, 日本
CATEGORIES:イベント
ATTACH;FMTTYPE=image/jpeg:https://fujisawa-npo.jp/wp-content/uploads/2024/04/111744.jpg
ORGANIZER;CN="%E4%BA%AC%E9%83%BD%E5%B8%82%E5%B8%82%E6%B0%91%E6%B4%BB%E5%8B%95%E7%B7%8F%E5%90%88%E3%82%BB%E3%83%B3%E3%82%BF%E3%83%BC":MAILTO:shimisen@hitomachi-kyoto.jp
END:VEVENT
BEGIN:VEVENT
DTSTART;VALUE=DATE:20240410
DTEND;VALUE=DATE:20240411
DTSTAMP:20260420T160805
CREATED:20240311T110018Z
LAST-MODIFIED:20240311T110400Z
UID:12136-1712707200-1712793599@fujisawa-npo.jp
SUMMARY:「平和の輪をひろげる実行委員会」令和6年度実行委員募集 申込締切4/10
DESCRIPTION:↑申込締切\n任期：2024年4月第1回実行委員会～2025/3/31(月)\nPDF情報No.111604 \n\n藤沢市では、「藤沢市核兵器廃絶平和都市宣言」及び「藤沢市核兵器廃絶平和推進の基本に関する条例」の趣旨を広く伝え、地域や家庭から平和の大切さを広めるために、『平和の輪をひろげる実行委員会』を設置して、市民と行政の行政の協働で様々な平和事業を実施しています。\n核兵器の廃絶と恒久平和をめざして、市と共に平和推進事業を推進する『平和の輪をひろげる実行委員』を募集します。
URL:https://fujisawa-npo.jp/event/%e3%80%8c%e5%b9%b3%e5%92%8c%e3%81%ae%e8%bc%aa%e3%82%92%e3%81%b2%e3%82%8d%e3%81%92%e3%82%8b%e5%ae%9f%e8%a1%8c%e5%a7%94%e5%93%a1%e4%bc%9a%e3%80%8d%e4%bb%a4%e5%92%8c6%e5%b9%b4%e5%ba%a6%e5%ae%9f%e8%a1%8c
LOCATION:神奈川県
CATEGORIES:イベント
END:VEVENT
BEGIN:VEVENT
DTSTART;VALUE=DATE:20240407
DTEND;VALUE=DATE:20240408
DTSTAMP:20260420T160805
CREATED:20240321T125835Z
LAST-MODIFIED:20240321T125835Z
UID:12219-1712448000-1712534399@fujisawa-npo.jp
SUMMARY:ここでくらっそ 文化芸術フェスタ・藤沢(出展・出演者募集) 応募締切4/7
DESCRIPTION:↑：応募締切\n開催日時：6/9(日) 10:00～16:00\nPDF情報No.111666 \n\n文化・芸術・街と人々\n文化芸術を糧に誰もが安心して共生できる街・藤沢へ\n※詳しくはホームページをご覧ください
URL:https://fujisawa-npo.jp/event/%e3%81%93%e3%81%93%e3%81%a7%e3%81%8f%e3%82%89%e3%81%a3%e3%81%9d-%e6%96%87%e5%8c%96%e8%8a%b8%e8%a1%93%e3%83%95%e3%82%a7%e3%82%b9%e3%82%bf%e3%83%bb%e8%97%a4%e6%b2%a2%e5%87%ba%e5%b1%95%e3%83%bb%e5%87%ba
LOCATION:集合：奥田公園\, 鵠沼東12\, 藤沢市\, 神奈川県\, 日本
CATEGORIES:イベント
ATTACH;FMTTYPE=image/jpeg:https://fujisawa-npo.jp/wp-content/uploads/2024/03/111666-scaled.jpg
END:VEVENT
BEGIN:VEVENT
DTSTART;VALUE=DATE:20240406
DTEND;VALUE=DATE:20240407
DTSTAMP:20260420T160805
CREATED:20240307T084007Z
LAST-MODIFIED:20240307T084007Z
UID:12060-1712361600-1712447999@fujisawa-npo.jp
SUMMARY:湘南男声合唱団 第8回演奏会
DESCRIPTION:時間：開場 13:30、開演14:00\nPDF情報No.111552 \n\n～湘南の風のように！やさしい響きを求めて～\n演奏曲はPDFをご覧ください
URL:https://fujisawa-npo.jp/event/%e6%b9%98%e5%8d%97%e7%94%b7%e5%a3%b0%e5%90%88%e5%94%b1%e5%9b%a3-%e7%ac%ac8%e5%9b%9e%e6%bc%94%e5%a5%8f%e4%bc%9a
LOCATION:Fプレイス\, 本町1丁目12-17\, 藤沢市\, 神奈川県\, 日本
CATEGORIES:イベント
END:VEVENT
BEGIN:VEVENT
DTSTART;VALUE=DATE:20240403
DTEND;VALUE=DATE:20240404
DTSTAMP:20260420T160805
CREATED:20240229T103456Z
LAST-MODIFIED:20240229T103456Z
UID:12014-1712102400-1712188799@fujisawa-npo.jp
SUMMARY:江ノ島で、セーリング体験！
DESCRIPTION:開催期間：4/3(水)～11/16(土)\nPDF情報No.111530 \n\n※詳しいスケジュール・除染料金はPDFをご覧ください\n江の島ヨットハーバーで、初めての方も気軽にヨット体験ができます。
URL:https://fujisawa-npo.jp/event/%e6%b1%9f%e3%83%8e%e5%b3%b6%e3%81%a7%e3%80%81%e3%82%bb%e3%83%bc%e3%83%aa%e3%83%b3%e3%82%b0%e4%bd%93%e9%a8%93%ef%bc%81
LOCATION:江の島ヨットハーバー\, 江の島1-12-2\, 藤沢市\, 神奈川県\, 251-0036
CATEGORIES:イベント
END:VEVENT
BEGIN:VEVENT
DTSTART;VALUE=DATE:20240401
DTEND;VALUE=DATE:20240402
DTSTAMP:20260420T160805
CREATED:20240229T104159Z
LAST-MODIFIED:20240325T091443Z
UID:12022-1711929600-1712015999@fujisawa-npo.jp
SUMMARY:湘南トレッキングクラブ 2024年4月
DESCRIPTION:参加費：会員無料、他協会会員300円、一般500円\nPDF情報No.111531 \n\n4/1(月)～4/29(月)(全4回) 開催されるトレッキングのご案内です。
URL:https://fujisawa-npo.jp/event/%e6%b9%98%e5%8d%97%e3%83%88%e3%83%ac%e3%83%83%e3%82%ad%e3%83%b3%e3%82%b0%e3%82%af%e3%83%a9%e3%83%96-2024%e5%b9%b44%e6%9c%88
LOCATION:神奈川県
CATEGORIES:イベント
END:VEVENT
BEGIN:VEVENT
DTSTART;VALUE=DATE:20240330
DTEND;VALUE=DATE:20240331
DTSTAMP:20260420T160805
CREATED:20240222T114156Z
LAST-MODIFIED:20240222T114156Z
UID:11946-1711756800-1711843199@fujisawa-npo.jp
SUMMARY:Aqua～魔女裁判と不思議な遊園地～
DESCRIPTION:時間：昼組：14:00、夜組：18:30\nチケット：大人200円、高校生以下1000円\nPDF情報No.111515 \n\nあなたの虹は、何色ですか？
URL:https://fujisawa-npo.jp/event/aqua%ef%bd%9e%e9%ad%94%e5%a5%b3%e8%a3%81%e5%88%a4%e3%81%a8%e4%b8%8d%e6%80%9d%e8%ad%b0%e3%81%aa%e9%81%8a%e5%9c%92%e5%9c%b0%ef%bd%9e
LOCATION:新堀ライブ館\, 藤沢630-1\, 藤沢市\, 神奈川県\, 日本
CATEGORIES:イベント
ORGANIZER;CN="%E9%AB%98%E6%A0%A1%E7%94%9F%E3%83%9F%E3%83%A5%E3%83%BC%E3%82%B8%E3%82%AB%E3%83%AB Aqua":MAILTO:musical.highs23@gmail.com
END:VEVENT
BEGIN:VEVENT
DTSTART;VALUE=DATE:20240330
DTEND;VALUE=DATE:20240331
DTSTAMP:20260420T160805
CREATED:20231207T223725Z
LAST-MODIFIED:20231207T223725Z
UID:11006-1711756800-1711843199@fujisawa-npo.jp
SUMMARY:高校生のミュージカル オリジナル脚本ミュージカル上演
DESCRIPTION:PDF情報No.111120 \n\n・高校生のミュージカル団体\n・高校生のアイデアをカタチに\n・学校の枠を超えた地域の部活\n「高校生主体で作り上げる地域の部活」\n※高校生ミュージカル Aquaとは\n高校生ミュージカルAquaは2023年春に高校生が立ち上げた藤沢市を拠点とした地域部活です。\n学校の活動とは関係なく、藤沢市内、市外さまざまな学校に通う高校生が集まって、自分たちで一から運営や練習を行っています。\n2024年春にオリジナル脚本のミュージカル上演に向けて、地域の方や企業と協力をしながら街を盛り上げて行きます!\n※ご連絡をくださった方に詳細をお伝えいたします
URL:https://fujisawa-npo.jp/event/%e9%ab%98%e6%a0%a1%e7%94%9f%e3%81%ae%e3%83%9f%e3%83%a5%e3%83%bc%e3%82%b8%e3%82%ab%e3%83%ab-%e3%82%aa%e3%83%aa%e3%82%b8%e3%83%8a%e3%83%ab%e8%84%9a%e6%9c%ac%e3%83%9f%e3%83%a5%e3%83%bc%e3%82%b8%e3%82%ab
LOCATION:神奈川県
CATEGORIES:イベント
ATTACH;FMTTYPE=image/jpeg:https://fujisawa-npo.jp/wp-content/uploads/2023/12/111120.jpg
ORGANIZER;CN="%E9%AB%98%E6%A0%A1%E7%94%9F%E3%83%9F%E3%83%A5%E3%83%BC%E3%82%B8%E3%82%AB%E3%83%AB Aqua":MAILTO:musical.highs23@gmail.com
END:VEVENT
BEGIN:VEVENT
DTSTART;TZID=Asia/Tokyo:20240328T130000
DTEND;TZID=Asia/Tokyo:20240328T153000
DTSTAMP:20260420T160805
CREATED:20240311T101236Z
LAST-MODIFIED:20240318T110215Z
UID:12120-1711630800-1711639800@fujisawa-npo.jp
SUMMARY:ちょうこく探検隊
DESCRIPTION:集合：藤沢市民会館 第二展示集会ホール\nPDF情報No.111582 \n\nみつけて。さわって。つくって。\n※みつけて。さわって。は申込不要、「つくって」は申込期限を過ぎています。 \n 
URL:https://fujisawa-npo.jp/event/%e3%81%a1%e3%82%87%e3%81%86%e3%81%93%e3%81%8f%e6%8e%a2%e6%a4%9c%e9%9a%8a
LOCATION:神奈川県
CATEGORIES:イベント
ATTACH;FMTTYPE=image/jpeg:https://fujisawa-npo.jp/wp-content/uploads/2024/03/111582-scaled.jpg
ORGANIZER;CN="%E8%97%A4%E6%B2%A2%E5%B8%82%E3%82%A2%E3%83%BC%E3%83%88%E3%82%B9%E3%83%9A%E3%83%BC%E3%82%B9":MAILTO:fj-art@city.fujisawa.lg.jp
END:VEVENT
BEGIN:VEVENT
DTSTART;VALUE=DATE:20240327
DTEND;VALUE=DATE:20240328
DTSTAMP:20260420T160805
CREATED:20240222T112237Z
LAST-MODIFIED:20240222T113623Z
UID:11938-1711497600-1711583999@fujisawa-npo.jp
SUMMARY:六会リトルアンサンブル 第10回発表会
DESCRIPTION:開場：13:30、開演：14:00\nPDF情報No.111514 \n\nプログラム：「MLEファンファーレ」\nソロ曲・アンサンブル曲\nほか
URL:https://fujisawa-npo.jp/event/%e5%85%ad%e4%bc%9a%e3%83%aa%e3%83%88%e3%83%ab%e3%82%a2%e3%83%b3%e3%82%b5%e3%83%b3%e3%83%96%e3%83%ab-%e7%ac%ac10%e5%9b%9e%e7%99%ba%e8%a1%a8%e4%bc%9a
LOCATION:Fプレイス\, 本町1丁目12-17\, 藤沢市\, 神奈川県\, 日本
CATEGORIES:イベント
ORGANIZER;CN="%E5%85%AD%E4%BC%9A%E3%83%AA%E3%83%88%E3%83%AB%E3%82%A2%E3%83%B3%E3%82%B5%E3%83%B3%E3%83%96%E3%83%AB%EF%BC%88MLE%EF%BC%89":MAILTO:16167010mle@gmail.com
END:VEVENT
BEGIN:VEVENT
DTSTART;VALUE=DATE:20240324
DTEND;VALUE=DATE:20240325
DTSTAMP:20260420T160805
CREATED:20240307T123502Z
LAST-MODIFIED:20240307T123502Z
UID:12083-1711238400-1711324799@fujisawa-npo.jp
SUMMARY:LIVE INCLUSIVE 2024
DESCRIPTION:時間：昼の部 開場13:30・開演：14:00、夜の部 開場17:00・開演：17:30\n※料金はPDF裏面をご覧ください\nPDF情報No.111575 \n\nトップスターと障がいを克服して輝くアーティストの奇跡的なコラボレーションが生み出す唯一無二の音楽体験！
URL:https://fujisawa-npo.jp/event/live-inclusive-2024
LOCATION:逗子文化プラザ なぎさホール\, 逗子4-2-10\, 逗子市\, 神奈川県\, 日本
CATEGORIES:イベント
ORGANIZER;CN="%E9%80%97%E5%AD%90%E6%96%87%E5%8C%96%E3%83%97%E3%83%A9%E3%82%B6%E5%B8%82%E6%B0%91%E4%BA%A4%E6%B5%81%E3%82%BB%E3%83%B3%E3%82%BF%E3%83%BC":MAILTO:ac-center@zushi-psc.org
END:VEVENT
BEGIN:VEVENT
DTSTART;TZID=Asia/Tokyo:20240323T150000
DTEND;TZID=Asia/Tokyo:20240323T163000
DTSTAMP:20260420T160805
CREATED:20231102T122154Z
LAST-MODIFIED:20231102T122154Z
UID:10411-1711206000-1711211400@fujisawa-npo.jp
SUMMARY:公開マンション管理セミナー＆無料相談会
DESCRIPTION:セミナーの日程・内容：\n1. 11/25(土)「マンション管理計画認定制度について」\n2. 2024/1/27(土)「管理費、修繕積立金の適正化について」\n3. 2024/3/23(土)「管理組合のより良い理事会運営を目指して！」\nPDF情報No.110922 \n\nNPO分譲マンション管理相談センターのマンション管理士が、マンション管理組合の役員、組合員様等を対象に、マンション管理に関するセミナーを開催します。\nその後、個々にお悩みの諸問題に関する無料相談をお受けします。\n※詳細はこちら
URL:https://fujisawa-npo.jp/event/%e5%85%ac%e9%96%8b%e3%83%9e%e3%83%b3%e3%82%b7%e3%83%a7%e3%83%b3%e7%ae%a1%e7%90%86%e3%82%bb%e3%83%9f%e3%83%8a%e3%83%bc%ef%bc%86%e7%84%a1%e6%96%99%e7%9b%b8%e8%ab%87%e4%bc%9a-8
LOCATION:藤沢市市民活動推進センター(アーバンセンター藤沢 2F)\, 藤沢1031\, 藤沢市\, 神奈川県\, 日本
CATEGORIES:イベント,講座
ATTACH;FMTTYPE=image/jpeg:https://fujisawa-npo.jp/wp-content/uploads/2023/11/110922-scaled.jpg
ORGANIZER;CN="NPO%E6%B3%95%E4%BA%BA %E5%88%86%E8%AD%B2%E3%83%9E%E3%83%B3%E3%82%B7%E3%83%A7%E3%83%B3%E7%AE%A1%E7%90%86%E7%9B%B8%E8%AB%87%E3%82%BB%E3%83%B3%E3%82%BF%E3%83%BC":MAILTO:info@bunjyounpo.or.jp
END:VEVENT
BEGIN:VEVENT
DTSTART;TZID=Asia/Tokyo:20240323T133000
DTEND;TZID=Asia/Tokyo:20240323T163000
DTSTAMP:20260420T160805
CREATED:20240122T121500Z
LAST-MODIFIED:20240122T121500Z
UID:11680-1711200600-1711211400@fujisawa-npo.jp
SUMMARY:市民とNPOのマッチング交流会 申込締切3/16
DESCRIPTION:PDF情報No.111397 \n\nこの交流会は、『あなた』と『市民活動団体』との出会いの場です。\nこの機会に自分に合った活動を探してみませんか？\n市民活動とは、市内の課題解決のために行う、営利を目的としない自主的な活動のことです。\nひらつか市民活動センターは市民活動をする団体やこれからはじめてみたい方を応援します。\n★社会貢献活動をしてみたい\n★ボランティア活動に興味がある\n★進学や就職の自己PRに繋がることがしたいという方におすすめです\n※申し込みはこちら
URL:https://fujisawa-npo.jp/event/%e5%b8%82%e6%b0%91%e3%81%a8npo%e3%81%ae%e3%83%9e%e3%83%83%e3%83%81%e3%83%b3%e3%82%b0%e4%ba%a4%e6%b5%81%e4%bc%9a-%e7%94%b3%e8%be%bc%e7%b7%a0%e5%88%873-16
LOCATION:神奈川県
CATEGORIES:イベント
ATTACH;FMTTYPE=image/jpeg:https://fujisawa-npo.jp/wp-content/uploads/2024/01/111397-scaled.jpg
ORGANIZER;CN="%E3%81%B2%E3%82%89%E3%81%A4%E3%81%8B%E5%B8%82%E6%B0%91%E6%B4%BB%E5%8B%95%E3%82%BB%E3%83%B3%E3%82%BF%E3%83%BC":MAILTO:info@hiratsuka-shimin.net
END:VEVENT
BEGIN:VEVENT
DTSTART;TZID=Asia/Tokyo:20240323T130000
DTEND;TZID=Asia/Tokyo:20240323T170000
DTSTAMP:20260420T160805
CREATED:20231218T123458Z
LAST-MODIFIED:20231218T123458Z
UID:11188-1711198800-1711213200@fujisawa-npo.jp
SUMMARY:マンション管理組合研修交流会・無料相談会のご案内
DESCRIPTION:日程；2/17(土)、3/23(土)\n情報No.111208 \n\n湘南マンション管理組合ネットワークでは、マンション管理無料相談会や、マンション管理に役立つ情報提供・管理組合間の情報交換の場として活用して頂けるよう、研修交流会を行っていますので、ご案内いたします。\n・無料相談会：13:00～15:00 (参加費 無料)\n・研修交流会：15:10～17:00 (参加費 会員無料、会員以外 500円)\n2/17 講演「今後のマンション管理において検討されていること」\n3/23 講演「長期修繕計画のポイント」
URL:https://fujisawa-npo.jp/event/%e3%83%9e%e3%83%b3%e3%82%b7%e3%83%a7%e3%83%b3%e7%ae%a1%e7%90%86%e7%b5%84%e5%90%88%e7%a0%94%e4%bf%ae%e4%ba%a4%e6%b5%81%e4%bc%9a%e3%83%bb%e7%84%a1%e6%96%99%e7%9b%b8%e8%ab%87%e4%bc%9a%e3%81%ae%e3%81%94-2
LOCATION:藤沢市市民活動推進センター(アーバンセンター藤沢 2F)\, 藤沢1031\, 藤沢市\, 神奈川県\, 日本
CATEGORIES:イベント
ATTACH;FMTTYPE=image/jpeg:https://fujisawa-npo.jp/wp-content/uploads/2023/12/111208-scaled.jpg
END:VEVENT
BEGIN:VEVENT
DTSTART;TZID=Asia/Tokyo:20240323T123000
DTEND;TZID=Asia/Tokyo:20240323T154500
DTSTAMP:20260420T160805
CREATED:20231102T113145Z
LAST-MODIFIED:20231102T113145Z
UID:10388-1711197000-1711208700@fujisawa-npo.jp
SUMMARY:2024 世界のあそび王座決定戦 申込締切3/16
DESCRIPTION:日程：\n練習会：3/2、3/9、3/16(各土曜日)〈全3回〉、時間：13:30～15:30\nイベント当日：3/23(土)、時間：13:00～15:45\nPDF情報No.110890 \n\n参加条件は小学生以上で練習会に1回以上参加！\n種目は世界中で楽しまれている2つのあそび！①キャロム ②パパンチョンカ\n※世界のあそび王座決定戦の申し込み(WEB予約)はこちら
URL:https://fujisawa-npo.jp/event/2024-%e4%b8%96%e7%95%8c%e3%81%ae%e3%81%82%e3%81%9d%e3%81%b3%e7%8e%8b%e5%ba%a7%e6%b1%ba%e5%ae%9a%e6%88%a6-%e7%94%b3%e8%be%bc%e7%b7%a0%e5%88%873-16
LOCATION:あーすぷらざ (神奈川県立地球市民かながわプラザ)\, 栄区小菅ヶ谷1-2-1\, 横浜市\, 神奈川県\, 247-0007
CATEGORIES:イベント
ATTACH;FMTTYPE=image/jpeg:https://fujisawa-npo.jp/wp-content/uploads/2023/11/110890-scaled.jpg
ORGANIZER;CN="%E7%A5%9E%E5%A5%88%E5%B7%9D%E7%9C%8C%E7%AB%8B%E5%9C%B0%E7%90%83%E5%B8%82%E6%B0%91%E3%82%BB%E3%83%B3%E3%82%BF%E3%83%BC%E3%81%8B%E3%81%AA%E3%81%8C%E3%82%8F%E3%83%97%E3%83%A9%E3%82%B6(%E3%81%82%E3%83%BC%E3%81%99%E3%81%B7%E3%82%89%E3%81%96)":MAILTO:gakushu@earthplaza.jp
END:VEVENT
BEGIN:VEVENT
DTSTART;VALUE=DATE:20240323
DTEND;VALUE=DATE:20240325
DTSTAMP:20260420T160805
CREATED:20240314T115742Z
LAST-MODIFIED:20240314T115742Z
UID:12161-1711152000-1711324799@fujisawa-npo.jp
SUMMARY:逗子トモイクフェスティバル2024「tomoiku」
DESCRIPTION:会場：逗子文化プラザホール/市民交流センター/逗子小学校/フェスティバルパーク\nPDF情報No.111649 \n\n共に学び、共に育つ「共育ともいくのまち」の実現を目指して、大人も子どもも、共に知り・体験し、学び・響き合う場を提供します。\n多彩な展示やワークショップ、ライブなど、2日間めいっぱい楽しんでいただける企画が満載です。\n※詳しくはPDFをご覧ください
URL:https://fujisawa-npo.jp/event/%e9%80%97%e5%ad%90%e3%83%88%e3%83%a2%e3%82%a4%e3%82%af%e3%83%95%e3%82%a7%e3%82%b9%e3%83%86%e3%82%a3%e3%83%90%e3%83%ab2024%e3%80%8ctomoiku%e3%80%8d
LOCATION:神奈川県
CATEGORIES:イベント
ORGANIZER;CN="%E9%80%97%E5%AD%90%E6%96%87%E5%8C%96%E3%83%97%E3%83%A9%E3%82%B6%E5%B8%82%E6%B0%91%E4%BA%A4%E6%B5%81%E3%82%BB%E3%83%B3%E3%82%BF%E3%83%BC":MAILTO:ac-center@zushi-psc.org
END:VEVENT
BEGIN:VEVENT
DTSTART;TZID=Asia/Tokyo:20240322T150000
DTEND;TZID=Asia/Tokyo:20240322T180000
DTSTAMP:20260420T160805
CREATED:20240118T112310Z
LAST-MODIFIED:20240118T112310Z
UID:11619-1711119600-1711130400@fujisawa-npo.jp
SUMMARY:きぎょう(企業・起業)情報交換会
DESCRIPTION:藤沢商工会議所・寒川商工会・茅ヶ崎商工会議所 共催(藤沢・寒川・茅ヶ崎の事業所30社参加予定)\nPDF情報No.111384 \n\n商工会議所・商工会は地域を基盤として、企業規模、法人、団体、個人事業主にかかわらず、あらゆる業種の商工業者が会員として加入できる総合経済団体です。\n商工会議所・商工会の強みである地域性と総合性を活かし、藤沢・茅ヶ崎・寒川2市1町の既存企業(起業予定者を含む)の交流の場をご提供します。\nこの情報交換会は、自社PRで情報発信を行い、他社PRを参考にし、個別に業界動向を伺うなどすることで、双方向での交流拡大を図ることが目的です。\n湘南エリアの生のビジネス情報を広げ、交流を深めましょう。中小企業の経営資源である「ヒト」の交流が、すなわちあなたの魅力づくりにつながるはずです。\n※申し込みはこちら
URL:https://fujisawa-npo.jp/event/%e3%81%8d%e3%81%8e%e3%82%87%e3%81%86%e4%bc%81%e6%a5%ad%e3%83%bb%e8%b5%b7%e6%a5%ad%e6%83%85%e5%a0%b1%e4%ba%a4%e6%8f%9b%e4%bc%9a
LOCATION:茅ヶ崎商工会議所\, 新栄町13-29\, 茅ヶ崎市\, 神奈川県\, 日本
CATEGORIES:イベント
ATTACH;FMTTYPE=image/jpeg:https://fujisawa-npo.jp/wp-content/uploads/2024/01/111384-scaled.jpg
END:VEVENT
BEGIN:VEVENT
DTSTART;TZID=Asia/Tokyo:20240320T130000
DTEND;TZID=Asia/Tokyo:20240320T160000
DTSTAMP:20260420T160805
CREATED:20240318T110608Z
LAST-MODIFIED:20240318T110608Z
UID:12191-1710939600-1710950400@fujisawa-npo.jp
SUMMARY:映像作品制作ワークショップ上映＆交流会 in 蔵前ギャラリー
DESCRIPTION:主催(問い合わせ先)：湘南市民メディアネットワーク\n情報No.111652 \n\n湘南市民メディアネットワーク主催 2023年度年度の青少年教育・自己肯定感の向上・社会参加のための映像作品制作ワークショップの参加者・関係者の皆様の交流を目指したイベントです。
URL:https://fujisawa-npo.jp/event/%e6%98%a0%e5%83%8f%e4%bd%9c%e5%93%81%e5%88%b6%e4%bd%9c%e3%83%af%e3%83%bc%e3%82%af%e3%82%b7%e3%83%a7%e3%83%83%e3%83%97%e4%b8%8a%e6%98%a0%ef%bc%86%e4%ba%a4%e6%b5%81%e4%bc%9a-in-%e8%94%b5%e5%89%8d
LOCATION:蔵まえギャラリー\, 藤沢630-1\, 藤沢市\, 神奈川県\, 日本
CATEGORIES:イベント
ATTACH;FMTTYPE=image/jpeg:https://fujisawa-npo.jp/wp-content/uploads/2024/03/111652-scaled.jpg
END:VEVENT
BEGIN:VEVENT
DTSTART;VALUE=DATE:20240320
DTEND;VALUE=DATE:20240321
DTSTAMP:20260420T160805
CREATED:20231215T011556Z
LAST-MODIFIED:20231215T011556Z
UID:11108-1710892800-1710979199@fujisawa-npo.jp
SUMMARY:宮田大×山崎祐介 スペシャルデュオ
DESCRIPTION:時間；13:30開場、14:00開演\n料金：一般 4000円、高校生以下2000円\nPDF情報No.111187 \n\n～チェロとハープによる美しい音色～\nロストロポーヴィチ国際チェロコンクールにおいて、日本人として初めて優勝し、国内外で日本を代表するチェリストとして活躍する人気チェリスト・宮田大と、多数のオーケストラと共演を重ね、ハープ界を牽引する山崎祐介による極上のハーモニーをお楽しみください。
URL:https://fujisawa-npo.jp/event/%e5%ae%ae%e7%94%b0%e5%a4%a7x%e5%b1%b1%e5%b4%8e%e7%a5%90%e4%bb%8b-%e3%82%b9%e3%83%9a%e3%82%b7%e3%83%a3%e3%83%ab%e3%83%87%e3%83%a5%e3%82%aa
LOCATION:逗子文化プラザ なぎさホール\, 逗子4-2-10\, 逗子市\, 神奈川県\, 日本
CATEGORIES:イベント
ATTACH;FMTTYPE=image/jpeg:https://fujisawa-npo.jp/wp-content/uploads/2023/12/111187-scaled.jpg
END:VEVENT
BEGIN:VEVENT
DTSTART;TZID=Asia/Tokyo:20240319T100000
DTEND;TZID=Asia/Tokyo:20240319T160000
DTSTAMP:20260420T160805
CREATED:20240307T085948Z
LAST-MODIFIED:20240307T085948Z
UID:12071-1710842400-1710864000@fujisawa-npo.jp
SUMMARY:くらしフェスタ In fujisawa
DESCRIPTION:PDF情報No.111557 \n\n食と環境を考える\n藤沢産の野菜販売、ふじキュングッズ販売、出張消費生活相談フードドライブ受付、ノジマ「スマホ教室」など\nオープニングイベントやソーラー模型電車などの様々なワークショップもあります。\n※詳しくはPDFをご覧ください
URL:https://fujisawa-npo.jp/event/%e3%81%8f%e3%82%89%e3%81%97%e3%83%95%e3%82%a7%e3%82%b9%e3%82%bf-in-fujisawa
LOCATION:神奈川県
CATEGORIES:イベント
END:VEVENT
BEGIN:VEVENT
DTSTART;TZID=Asia/Tokyo:20240319T100000
DTEND;TZID=Asia/Tokyo:20240319T160000
DTSTAMP:20260420T160805
CREATED:20240307T084858Z
LAST-MODIFIED:20240307T084858Z
UID:12065-1710842400-1710864000@fujisawa-npo.jp
SUMMARY:ひとりぼっちのいない町をつくる 申込締切3/15
DESCRIPTION:会場：高槻市高槻城公園芸術文化劇場及びオンライン(Zoom)\nPDF情報No.111555 \n\n－居場所の包括連携によるモデル地域づくり実践報告会－
URL:https://fujisawa-npo.jp/event/%e3%81%b2%e3%81%a8%e3%82%8a%e3%81%bc%e3%81%a3%e3%81%a1%e3%81%ae%e3%81%84%e3%81%aa%e3%81%84%e7%94%ba%e3%82%92%e3%81%a4%e3%81%8f%e3%82%8b-%e7%94%b3%e8%be%bc%e7%b7%a0%e5%88%873-15
LOCATION:湘南モールフィル\, 辻堂新町4丁目1-1\, 藤沢市\, 神奈川県\, 日本
CATEGORIES:イベント
END:VEVENT
END:VCALENDAR