BEGIN:VCALENDAR
VERSION:2.0
PRODID:-//藤沢市市民活動推進センター - ECPv6.15.11//NONSGML v1.0//EN
CALSCALE:GREGORIAN
METHOD:PUBLISH
X-WR-CALNAME:藤沢市市民活動推進センター
X-ORIGINAL-URL:https://fujisawa-npo.jp
X-WR-CALDESC:藤沢市市民活動推進センター のイベント
REFRESH-INTERVAL;VALUE=DURATION:PT1H
X-Robots-Tag:noindex
X-PUBLISHED-TTL:PT1H
BEGIN:VTIMEZONE
TZID:Asia/Tokyo
BEGIN:STANDARD
TZOFFSETFROM:+0900
TZOFFSETTO:+0900
TZNAME:JST
DTSTART:20230101T000000
END:STANDARD
END:VTIMEZONE
BEGIN:VEVENT
DTSTART;VALUE=DATE:20240302
DTEND;VALUE=DATE:20240303
DTSTAMP:20260421T085207
CREATED:20240129T105126Z
LAST-MODIFIED:20240201T104628Z
UID:11769-1709337600-1709423999@fujisawa-npo.jp
SUMMARY:ヤングケアラーを知ろう！
DESCRIPTION:PDF情報No.111430 \n\n本来は大人が担うような責任を引き受け、日常的に家族をケアする子ども「ヤングケアラー」。\n本企画はヤングケアラーについての理解促進や相談先の普及啓発を図るとともに、当事者や支援者同士が繋がるきっかけになることを目指します。\n◆バトルホール\n・フォーラム：14:00～\n◆第3会議室\n・パネル展示：10:00～18:00\n・「けあバナ」トークライブ：10:30～12:00\n※申し込みはこちら
URL:https://fujisawa-npo.jp/event/%e3%83%a4%e3%83%b3%e3%82%b0%e3%82%b1%e3%82%a2%e3%83%a9%e3%83%bc%e3%82%92%e7%9f%a5%e3%82%8d%e3%81%86%ef%bc%81
LOCATION:府中市市民活動センタープラッツ\, 宮町1-100-5\, 府中市\, 東京都\, 日本
CATEGORIES:イベント,講座
ATTACH;FMTTYPE=image/jpeg:https://fujisawa-npo.jp/wp-content/uploads/2024/01/111430-scaled.jpg
ORGANIZER;CN="(%E4%B8%80%E7%A4%BE)%E3%82%B1%E3%82%A2%E3%83%A9%E3%83%BC%E3%83%AF%E3%83%BC%E3%82%AF%E3%82%B9":MAILTO:info@cares.works
END:VEVENT
BEGIN:VEVENT
DTSTART;TZID=Asia/Tokyo:20240301T140000
DTEND;TZID=Asia/Tokyo:20240301T160000
DTSTAMP:20260421T085207
CREATED:20240201T120929Z
LAST-MODIFIED:20240201T121523Z
UID:11819-1709301600-1709308800@fujisawa-npo.jp
SUMMARY:(社福)いきいき福祉会「ゆるゆるみんなでオーナー」
DESCRIPTION:情報No.111449 \n\nテーマ：ゆるゆるお掃除企画～ふじなみ交流センター清掃～\n**清掃の基礎を学ぼう** 床、壁、窓、台所、バスケットゴール(？)清掃
URL:https://fujisawa-npo.jp/event/%e7%a4%be%e7%a6%8f%e3%81%84%e3%81%8d%e3%81%84%e3%81%8d%e7%a6%8f%e7%a5%89%e4%bc%9a%e3%80%8c%e3%82%86%e3%82%8b%e3%82%86%e3%82%8b%e3%81%bf%e3%82%93%e3%81%aa%e3%81%a7%e3%82%aa%e3%83%bc%e3%83%8a%e3%83%bc-2
LOCATION:ふじなみ交流センター(県立藤沢高校跡地)\, 本町4-8-2\, 藤沢市\, 神奈川県\, 日本
CATEGORIES:イベント
ATTACH;FMTTYPE=image/jpeg:https://fujisawa-npo.jp/wp-content/uploads/2024/02/111449-1-scaled.jpg
END:VEVENT
BEGIN:VEVENT
DTSTART;VALUE=DATE:20240301
DTEND;VALUE=DATE:20240303
DTSTAMP:20260421T085207
CREATED:20240229T101925Z
LAST-MODIFIED:20240229T101925Z
UID:12007-1709251200-1709423999@fujisawa-npo.jp
SUMMARY:上映会 「生きる」大川小学校津波裁判を戦った人たち
DESCRIPTION:会場：3/1(金)：茅ヶ崎市民文化会館、3/2(土)：(公財)松下幸之助記念志財団\n時間についてはPDFをご覧ください。\n※料金は3/1(金):1000円、3/2(土):1500円\n※要予約\n【主催】マザーアース茅ヶ崎／SAVE茅ヶ崎「生きる」実行委員会\nPDF情報No.111543 \n\n小さないのちが遺した伝えなくてはいけないこと。 忘れてはいけないこと。
URL:https://fujisawa-npo.jp/event/%e4%b8%8a%e6%98%a0%e4%bc%9a-%e3%80%8c%e7%94%9f%e3%81%8d%e3%82%8b%e3%80%8d%e5%a4%a7%e5%b7%9d%e5%b0%8f%e5%ad%a6%e6%a0%a1%e6%b4%a5%e6%b3%a2%e8%a3%81%e5%88%a4%e3%82%92%e6%88%a6%e3%81%a3%e3%81%9f%e4%ba%ba
LOCATION:茅ヶ崎市民文化会館\, 茅ヶ崎1-11-1\, 茅ヶ崎市\, 神奈川県\, 日本
CATEGORIES:イベント
ORGANIZER;CN="%E3%83%9E%E3%82%B6%E3%83%BC%E3%82%A2%E3%83%BC%E3%82%B9%E8%8C%85%E3%83%B6%E5%B4%8E%E3%80%8C%E7%94%9F%E3%81%8D%E3%82%8B%E3%80%8D%E5%AE%9F%E8%A1%8C%E5%A7%94%E5%93%A1%E4%BC%9A":MAILTO:save-chigasaki134@abelia.ocn.ne.jp
END:VEVENT
BEGIN:VEVENT
DTSTART;VALUE=DATE:20240301
DTEND;VALUE=DATE:20240303
DTSTAMP:20260421T085207
CREATED:20240229T101232Z
LAST-MODIFIED:20240229T101232Z
UID:12004-1709251200-1709423999@fujisawa-npo.jp
SUMMARY:被災70年ビキニデー映画「第5福竜丸」上映会
DESCRIPTION:日時：3/1(金) 10:30～12:45、3/2(土)①10:30～12:45 ②14:00～16:15\n申し込みはPDF情報をご覧ください。\n寄付金：会場維持のためご協力をお願いします\nPDF情報No.111544 \n\nマーシャル諸島共和国より武本匡弘によるライブ配信＠エコストアパパラギ\nビキニ水爆実験から丸70年。3月1日(金)のビキニデーを記念して上映会を企画しました。\n申し込みはPDFのQRコードをご使用ください。
URL:https://fujisawa-npo.jp/event/%e8%a2%ab%e7%81%bd70%e5%b9%b4%e3%83%93%e3%82%ad%e3%83%8b%e3%83%87%e3%83%bc%e6%98%a0%e7%94%bb%e3%80%8c%e7%ac%ac5%e7%a6%8f%e7%ab%9c%e4%b8%b8%e3%80%8d%e4%b8%8a%e6%98%a0%e4%bc%9a
LOCATION:エコストアパパラギ\, 鵠沼石上1-3-6\, 藤沢市\, 神奈川県\, 日本
CATEGORIES:イベント
END:VEVENT
BEGIN:VEVENT
DTSTART;TZID=Asia/Tokyo:20240229T080000
DTEND;TZID=Asia/Tokyo:20240229T170000
DTSTAMP:20260421T085207
CREATED:20240229T124501Z
LAST-MODIFIED:20240229T124531Z
UID:12040-1709193600-1709226000@fujisawa-npo.jp
SUMMARY:広重の人物東海道にみる季節 藤沢に雪がふる
DESCRIPTION:PDF情報No.111568 \n\n歌川広重(1797-1858)は、東海道の揃物(シリーズ)を20種余り描きました。\n今回の展示では冬宿場の風景とともに細やかな人物描写が特徴の「五十三次」(通称「人物東海道」)を中心に、広重が描く当時の様子、風景や季節を紹介します。
URL:https://fujisawa-npo.jp/event/%e5%ba%83%e9%87%8d%e3%81%ae%e4%ba%ba%e7%89%a9%e6%9d%b1%e6%b5%b7%e9%81%93%e3%81%ab%e3%81%bf%e3%82%8b%e5%ad%a3%e7%af%80-%e8%97%a4%e6%b2%a2%e3%81%ab%e9%9b%aa%e3%81%8c%e3%81%b5%e3%82%8b
LOCATION:藤沢市藤澤浮世絵館(ココテラス湘南7F)\, 辻堂神台2-2-2\, 藤沢市\, 神奈川県\, 日本
CATEGORIES:イベント
ORGANIZER;CN="%E8%97%A4%E6%B2%A2%E5%B8%82%E8%97%A4%E6%BE%A4%E6%B5%AE%E4%B8%96%E7%B5%B5%E9%A4%A8":MAILTO:fj-ukiyoe@city.fujisawa.lg.jp
END:VEVENT
BEGIN:VEVENT
DTSTART;TZID=Asia/Tokyo:20240228T130000
DTEND;TZID=Asia/Tokyo:20240228T180000
DTSTAMP:20260421T085207
CREATED:20231211T121441Z
LAST-MODIFIED:20231211T121441Z
UID:11057-1709125200-1709143200@fujisawa-npo.jp
SUMMARY:ピンクシャツデー2024 in 神奈川
DESCRIPTION:PDF情報No.111168 \n\n「いじめストップ！」ワールドアクション\n2月はピンクシャツデー月間です。\nピンクのシャツや小物を身につけて、あなたも「いじめストップ！」の意思表示を！\n物語の始まりはカナダ。男子生徒がピンクのシャツをからかわれ、いじめにあいました。\nそれを知った三人の上級生が「ぼくらもピンクのシャツを着ていじめストタプを！」と提案しました。\n翌朝のこと。賛同した生徒たちがピンクのシャツや小物を身につけて登校し、校舎はピンク色に。\nいじめストップにつながったそうです。以降、2月最終水曜日をピンクシャツデーとし、世界180か国以上のワールドアクションとなっています。\n物語の続きは神奈川で。ストーリーにあなたのアクションを加えてください。\n※協賛金申し込みはこちら\n※ピンクシャツデーグッズ注文はこちら
URL:https://fujisawa-npo.jp/event/%e3%83%94%e3%83%b3%e3%82%af%e3%82%b7%e3%83%a3%e3%83%84%e3%83%87%e3%83%bc2024-in-%e7%a5%9e%e5%a5%88%e5%b7%9d
LOCATION:横浜新都市ビル(プラザ・ホール含む(そごう横浜店))\, 西区高島2-18-1\, 横浜市\, 神奈川県\, 日本
CATEGORIES:イベント
ATTACH;FMTTYPE=image/jpeg:https://fujisawa-npo.jp/wp-content/uploads/2023/12/111168-scaled.jpg
ORGANIZER;CN="%E3%83%94%E3%83%B3%E3%82%AF%E3%82%B7%E3%83%A3%E3%83%84%E3%83%87%E3%83%BC%E7%A5%9E%E5%A5%88%E5%B7%9D%E6%8E%A8%E9%80%B2%E5%A7%94%E5%93%A1%E4%BC%9A":MAILTO:info@kodomofund.com
END:VEVENT
BEGIN:VEVENT
DTSTART;VALUE=DATE:20240228
DTEND;VALUE=DATE:20240229
DTSTAMP:20260421T085207
CREATED:20231215T013554Z
LAST-MODIFIED:20231215T032741Z
UID:11116-1709078400-1709164799@fujisawa-npo.jp
SUMMARY:KAAT カナガワ・ツアー・プロジェクト「三浦半島の人魚姫 / 箱根山の美女と野獣」
DESCRIPTION:開催日時：\n・座間公演 2/17(土)16:00～・2/18(日)13:00～\n・川崎公演 2/21(水)18:30～\n・逗子公演 2/28(水)18:30～\nチケット料金はPDF裏面をご覧ください\nPDF情報No.111188 \n\n神奈川県にひっそり棲まうという野獣と人魚の秘密に迫る。\n世界の名作が奇想天外に生まれ変わる豪華二本立て！
URL:https://fujisawa-npo.jp/event/kaat%e3%82%ab%e3%83%8a%e3%82%ac%e3%83%af%e3%83%bb%e3%83%84%e3%82%a2%e3%83%bc%e3%83%bb%e3%83%97%e3%83%ad%e3%82%b8%e3%82%a7%e3%82%af%e3%83%88%e3%80%8c%e4%b8%89%e6%b5%a6%e5%8d%8a%e5%b3%b6%e3%81%ae-3
LOCATION:逗子文化プラザ なぎさホール\, 逗子4-2-10\, 逗子市\, 神奈川県\, 日本
CATEGORIES:イベント
ATTACH;FMTTYPE=image/jpeg:https://fujisawa-npo.jp/wp-content/uploads/2023/12/111188-scaled.jpg
END:VEVENT
BEGIN:VEVENT
DTSTART;TZID=Asia/Tokyo:20240227T100000
DTEND;TZID=Asia/Tokyo:20240303T170000
DTSTAMP:20260421T085207
CREATED:20231211T120803Z
LAST-MODIFIED:20231211T120803Z
UID:11053-1709028000-1709485200@fujisawa-npo.jp
SUMMARY:第43回 藤沢書道展
DESCRIPTION:情報No.111159 \n\nなにとぞご高覧ご批評たまわりたく ご案内申し上げます
URL:https://fujisawa-npo.jp/event/%e7%ac%ac43%e5%9b%9e-%e8%97%a4%e6%b2%a2%e6%9b%b8%e9%81%93%e5%b1%95
LOCATION:藤沢市民ギャラリー(ODAKYU湘南GATE 6F)\, 南藤沢21-1\, 藤沢市\, 神奈川県\, 日本
CATEGORIES:イベント
ATTACH;FMTTYPE=image/jpeg:https://fujisawa-npo.jp/wp-content/uploads/2023/12/111159.jpg
END:VEVENT
BEGIN:VEVENT
DTSTART;TZID=Asia/Tokyo:20240226T100000
DTEND;TZID=Asia/Tokyo:20240226T123000
DTSTAMP:20260421T085207
CREATED:20231221T140924Z
LAST-MODIFIED:20231221T141004Z
UID:11256-1708941600-1708950600@fujisawa-npo.jp
SUMMARY:知ってますか？ 要約筆記(体験会) 直近申込締切2/9
DESCRIPTION:日程・会場〈全2回〉：\n①2/26(月) 10:00～12:30 (申込締切2/9)\n会場：湘南台市民センター・公民館 地下1階ホール\n②3/11(月) 13:00～15:30 (申込締切2/22)\n会場：藤沢市役所 本庁舎 5-1・5-2会議室\nPDF情報No.111221 \n\n～聴覚障がいと、文字で伝える要約筆記～\n「要約筆記」は『聞こえにくさをサポートするため、相手のお話をその場で文字にして伝えること』です。\n聞こえる人も聞こえにくい人も ぜひ見に来てください！\n※申し込みはこちら
URL:https://fujisawa-npo.jp/event/%e7%9f%a5%e3%81%a3%e3%81%a6%e3%81%be%e3%81%99%e3%81%8b%ef%bc%9f-%e8%a6%81%e7%b4%84%e7%ad%86%e8%a8%98%e4%bd%93%e9%a8%93%e4%bc%9a-%e7%9b%b4%e8%bf%91%e7%94%b3%e8%be%bc%e7%b7%a0%e5%88%872-9
LOCATION:湘南台市民センター\, 湘南台1-8\, 藤沢市\, 神奈川県
CATEGORIES:イベント
ATTACH;FMTTYPE=image/jpeg:https://fujisawa-npo.jp/wp-content/uploads/2023/12/111221-scaled.jpg
END:VEVENT
BEGIN:VEVENT
DTSTART;TZID=Asia/Tokyo:20240225T133000
DTEND;TZID=Asia/Tokyo:20240225T163000
DTSTAMP:20260421T085207
CREATED:20240111T115422Z
LAST-MODIFIED:20240111T115422Z
UID:11493-1708867800-1708878600@fujisawa-npo.jp
SUMMARY:大人の発達障がい 当事者会のお知らせ
DESCRIPTION:開催日：2/25(日)、3/10(日)\nPDF情報No.111311 \n\n発達障がいの特性から みんなの「あるある」を話し合いませんか\n皆さん どのように対処していますか\n※PDF裏面に定例会のご案内がありますのでご覧ください
URL:https://fujisawa-npo.jp/event/%e5%a4%a7%e4%ba%ba%e3%81%ae%e7%99%ba%e9%81%94%e9%9a%9c%e3%81%8c%e3%81%84-%e5%bd%93%e4%ba%8b%e8%80%85%e4%bc%9a%e3%81%ae%e3%81%8a%e7%9f%a5%e3%82%89%e3%81%9b
LOCATION:藤沢市役所 分庁舎\, 朝日町1-1\, 藤沢市\, 神奈川県
CATEGORIES:イベント
ATTACH;FMTTYPE=image/jpeg:https://fujisawa-npo.jp/wp-content/uploads/2024/01/111311-scaled.jpg
ORGANIZER;CN="%E3%81%B5%E3%82%8F%E3%81%B5%E3%82%8F%E3%81%AE%E4%BC%9A %E4%BA%8B%E5%8B%99%E5%B1%80":MAILTO:fuwafuwanokai@gmail.com
END:VEVENT
BEGIN:VEVENT
DTSTART;TZID=Asia/Tokyo:20240225T074500
DTEND;TZID=Asia/Tokyo:20240225T160000
DTSTAMP:20260421T085207
CREATED:20240104T070437Z
LAST-MODIFIED:20240104T070437Z
UID:11395-1708847100-1708876800@fujisawa-npo.jp
SUMMARY:第15回ぐる～と湘南のみち 江の島から浜辺の歌へ！
DESCRIPTION:情報No.111252 \n\n美しい日本の歩きたくなるみち 500選 神奈川 14-6\n40kmコース、22kmコース、 12kmコースの3コースあります。それぞれ受付時間が異なりますのでご注意ください。\n※16:00までにゴール(奥田公園)してください。
URL:https://fujisawa-npo.jp/event/%e7%ac%ac15%e5%9b%9e%e3%81%90%e3%82%8b%ef%bd%9e%e3%81%a8%e6%b9%98%e5%8d%97%e3%81%ae%e3%81%bf%e3%81%a1-%e6%b1%9f%e3%81%ae%e5%b3%b6%e3%81%8b%e3%82%89%e6%b5%9c%e8%be%ba%e3%81%ae%e6%ad%8c%e3%81%b8
LOCATION:集合：奥田公園\, 鵠沼東12\, 藤沢市\, 神奈川県\, 日本
CATEGORIES:イベント
ATTACH;FMTTYPE=image/jpeg:https://fujisawa-npo.jp/wp-content/uploads/2024/01/111252-scaled.jpg
END:VEVENT
BEGIN:VEVENT
DTSTART;TZID=Asia/Tokyo:20240224T140000
DTEND;TZID=Asia/Tokyo:20240224T150000
DTSTAMP:20260421T085207
CREATED:20240222T110429Z
LAST-MODIFIED:20240222T110429Z
UID:11933-1708783200-1708786800@fujisawa-npo.jp
SUMMARY:ミュージックタイム
DESCRIPTION:PDF情報No.111508 \n\nきっとどこかで聞いたことがある\nみんなで音楽を自由に楽しもう！
URL:https://fujisawa-npo.jp/event/%e3%83%9f%e3%83%a5%e3%83%bc%e3%82%b8%e3%83%83%e3%82%af%e3%82%bf%e3%82%a4%e3%83%a0
LOCATION:あーすぷらざ (神奈川県立地球市民かながわプラザ)\, 栄区小菅ヶ谷1-2-1\, 横浜市\, 神奈川県\, 247-0007
CATEGORIES:イベント
ORGANIZER;CN="%E7%A5%9E%E5%A5%88%E5%B7%9D%E7%9C%8C%E7%AB%8B%E5%9C%B0%E7%90%83%E5%B8%82%E6%B0%91%E3%82%BB%E3%83%B3%E3%82%BF%E3%83%BC%E3%81%8B%E3%81%AA%E3%81%8C%E3%82%8F%E3%83%97%E3%83%A9%E3%82%B6(%E3%81%82%E3%83%BC%E3%81%99%E3%81%B7%E3%82%89%E3%81%96)":MAILTO:gakushu@earthplaza.jp
END:VEVENT
BEGIN:VEVENT
DTSTART;VALUE=DATE:20240224
DTEND;VALUE=DATE:20240225
DTSTAMP:20260421T085207
CREATED:20231201T015551Z
LAST-MODIFIED:20231201T015551Z
UID:10935-1708732800-1708819199@fujisawa-npo.jp
SUMMARY:浦の星管弦楽部 Winter Concert 2024
DESCRIPTION:時間：開場13:00、開演13:30\n情報No.111091 \n\n曲目：\n・Main theme of LoveLive！ Sunshine！\n・DETERMINATION\n・想いよひとつになれ\n・キセキヒカル\n他\n※twitterはこちら\n※来場者登録はこちら
URL:https://fujisawa-npo.jp/event/%e6%b5%a6%e3%81%ae%e6%98%9f%e7%ae%a1%e5%bc%a6%e6%a5%bd%e9%83%a8-winter-concert-2024
LOCATION:藤沢市民会館\, 251-0026
CATEGORIES:イベント
ATTACH;FMTTYPE=image/jpeg:https://fujisawa-npo.jp/wp-content/uploads/2023/12/111091-scaled.jpg
END:VEVENT
BEGIN:VEVENT
DTSTART;TZID=Asia/Tokyo:20240223T133000
DTEND;TZID=Asia/Tokyo:20240223T160000
DTSTAMP:20260421T085207
CREATED:20231211T121041Z
LAST-MODIFIED:20231211T121146Z
UID:11055-1708695000-1708704000@fujisawa-npo.jp
SUMMARY:第1回 藤沢白門寄席
DESCRIPTION:PDF情報No.111167 \n\n中央大学出身の噺家による落語会\n・三遊亭好青年\n・林家つる子\n・桂やまと\n・春風亭三朝\n※申し込みフォームはこちら
URL:https://fujisawa-npo.jp/event/%e7%ac%ac1%e5%9b%9e-%e8%97%a4%e6%b2%a2%e7%99%bd%e9%96%80%e5%af%84%e5%b8%ad
LOCATION:藤沢市民会館\, 251-0026
CATEGORIES:イベント
ATTACH;FMTTYPE=image/jpeg:https://fujisawa-npo.jp/wp-content/uploads/2023/12/111167-scaled.jpg
END:VEVENT
BEGIN:VEVENT
DTSTART;VALUE=DATE:20240222
DTEND;VALUE=DATE:20240223
DTSTAMP:20260421T085207
CREATED:20240201T122445Z
LAST-MODIFIED:20240201T122445Z
UID:11829-1708560000-1708646399@fujisawa-npo.jp
SUMMARY:地域の居場所づくり交流会Ⅷ ＠茅ヶ崎 申込締切2/22
DESCRIPTION:↑：申込締切\n開催日時：3/3(日) 14:00～17:00\nPDF情報No.111455 \n\nまちなか場づくりのこれから\n～プレイスメイキング～\n近年、［プレイスメイキング］というパブリックなスペース(公園、道路、公開空地、空き地など)のアプローチ法が注目されています。\nコンセプトによって場の既存イメージを変換させて、ワクワクした居場所へと再編集することで、多世代が交流する場づくりの可能性がうまれています。\nここ茅ヶ崎市は、人口増が続き、子育て人口も増えていますが、自然環境が豊かな一方、まちなかで多世代が一緒に過ごし、交流する場が多いとはいえません。\n日常的に交流が出来たワクワクする居場所がもっと点在していたら、まちと人との関係性も少しずつ変わっていくかも！？\n今回、原っぱ大学ガクチョーの塚越暁さん、一般社団法人ソトノバの理事の田村康一郎さんをメインスピーカーにお招きして、お二人の活動とともに市内の実践事例を交え、『まちなか場づくりのこれから』の可能性を探ります。\n参加者同士の意見交換も行い､テーマに関心を寄せる人々のネットワークづくりを進めます。\n※申し込みはこちら
URL:https://fujisawa-npo.jp/event/%e5%9c%b0%e5%9f%9f%e3%81%ae%e5%b1%85%e5%a0%b4%e6%89%80%e3%81%a5%e3%81%8f%e3%82%8a%e4%ba%a4%e6%b5%81%e4%bc%9a%e2%85%b7-%ef%bc%a0%e8%8c%85%e3%83%b6%e5%b4%8e-%e7%94%b3%e8%be%bc%e7%b7%a0%e5%88%872-22
LOCATION:ちがさき市民活動サポートセンター\, 茅ヶ崎3-2-7\, 茅ヶ崎市\, 神奈川県\, 日本
CATEGORIES:イベント
ATTACH;FMTTYPE=image/jpeg:https://fujisawa-npo.jp/wp-content/uploads/2024/02/111455-scaled.jpg
ORGANIZER;CN="%E3%81%A1%E3%81%8C%E3%81%95%E3%81%8D%E5%B8%82%E6%B0%91%E6%B4%BB%E5%8B%95%E3%82%B5%E3%83%9D%E3%83%BC%E3%83%88%E3%82%BB%E3%83%B3%E3%82%BF%E3%83%BC":MAILTO:s-ceter@pluto.plala.or.jp
END:VEVENT
BEGIN:VEVENT
DTSTART;VALUE=DATE:20240222
DTEND;VALUE=DATE:20240223
DTSTAMP:20260421T085207
CREATED:20231221T141413Z
LAST-MODIFIED:20231221T141413Z
UID:11259-1708560000-1708646399@fujisawa-npo.jp
SUMMARY:知ってますか？ 要約筆記(体験会)② 申込締切2/22
DESCRIPTION:↑：申込締切\n日程・会場〈全2回〉：\n①2/26(月) 10:00～12:30 (申込締切2/9)\n会場：湘南台市民センター・公民館 地下1階ホール\n②3/11(月) 13:00～15:30 (申込締切2/22)\n会場：藤沢市役所 本庁舎 5-1・5-2会議室\nPDF情報No.111221 \n\n～聴覚障がいと、文字で伝える要約筆記～\n「要約筆記」は『聞こえにくさをサポートするため、相手のお話をその場で文字にして伝えること』です。\n聞こえる人も聞こえにくい人も ぜひ見に来てください！\n※申し込みはこちら
URL:https://fujisawa-npo.jp/event/%e7%9f%a5%e3%81%a3%e3%81%a6%e3%81%be%e3%81%99%e3%81%8b%ef%bc%9f-%e8%a6%81%e7%b4%84%e7%ad%86%e8%a8%98%e4%bd%93%e9%a8%93%e4%bc%9a%e2%91%a1-%e7%94%b3%e8%be%bc%e7%b7%a0%e5%88%872-22
LOCATION:藤沢市役所 本庁舎\, 朝日町1-1\, 藤沢市\, 神奈川県\, 日本
CATEGORIES:イベント
ATTACH;FMTTYPE=image/jpeg:https://fujisawa-npo.jp/wp-content/uploads/2023/12/111221-scaled.jpg
END:VEVENT
BEGIN:VEVENT
DTSTART;VALUE=DATE:20240221
DTEND;VALUE=DATE:20240222
DTSTAMP:20260421T085207
CREATED:20231215T013343Z
LAST-MODIFIED:20231215T032844Z
UID:11114-1708473600-1708559999@fujisawa-npo.jp
SUMMARY:KAAT カナガワ・ツアー・プロジェクト「三浦半島の人魚姫 / 箱根山の美女と野獣」
DESCRIPTION:開催日時：\n・座間公演 2/17(土)16:00～・2/18(日)13:00～\n・川崎公演 2/21(水)18:30～\n・逗子公演 2/28(水)18:30～\nチケット料金はPDF裏面をご覧ください\nPDF情報No.111188 \n\n神奈川県にひっそり棲まうという野獣と人魚の秘密に迫る。\n世界の名作が奇想天外に生まれ変わる豪華二本立て！
URL:https://fujisawa-npo.jp/event/kaat%e3%82%ab%e3%83%8a%e3%82%ac%e3%83%af%e3%83%bb%e3%83%84%e3%82%a2%e3%83%bc%e3%83%bb%e3%83%97%e3%83%ad%e3%82%b8%e3%82%a7%e3%82%af%e3%83%88%e3%80%8c%e4%b8%89%e6%b5%a6%e5%8d%8a%e5%b3%b6%e3%81%ae-2
LOCATION:川崎市アートセンター\, 麻生区万福寺６-7-1\, 川崎市\, 神奈川県\, 日本
CATEGORIES:イベント
ATTACH;FMTTYPE=image/jpeg:https://fujisawa-npo.jp/wp-content/uploads/2023/12/111188-scaled.jpg
END:VEVENT
BEGIN:VEVENT
DTSTART;TZID=Asia/Tokyo:20240220T160000
DTEND;TZID=Asia/Tokyo:20240220T180000
DTSTAMP:20260421T085207
CREATED:20240208T123253Z
LAST-MODIFIED:20240208T123253Z
UID:11858-1708444800-1708452000@fujisawa-npo.jp
SUMMARY:地域とともに考える障がい福祉と芸術文化 申込締切2/14
DESCRIPTION:PDF情報No.111470 \n\n令和2年度から設立された「神奈川県障がい者芸術文化活動支援センター」では､障がいのある人が身近な地域で芸術文化に触れられる社会を目指し、「つなぐ､つくる、支える」を活動の柱にしてスタートしました。\nこの報告会では､今年度の事業についてご報告するとともに､福祉施設での芸術家によるワークショップについて、参加施設の職員といっしよに振り返ります。\n会の後半では､会場のみなさん同士が情報交換をする時間も設けます。\nみなさんといっしよに､地域における障がい者の芸術文化活動の展開のあり方を考える機会とします。
URL:https://fujisawa-npo.jp/event/%e5%9c%b0%e5%9f%9f%e3%81%a8%e3%81%a8%e3%82%82%e3%81%ab%e8%80%83%e3%81%88%e3%82%8b%e9%9a%9c%e3%81%8c%e3%81%84%e7%a6%8f%e7%a5%89%e3%81%a8%e8%8a%b8%e8%a1%93%e6%96%87%e5%8c%96-%e7%94%b3%e8%be%bc%e7%b7%a0
LOCATION:かながわ県民センター\, 神奈川区鶴屋町2-24-2\, 横浜市\, 神奈川県\, 日本
CATEGORIES:イベント
ATTACH;FMTTYPE=image/jpeg:https://fujisawa-npo.jp/wp-content/uploads/2024/02/111470-scaled.jpg
ORGANIZER;CN="%E7%A5%9E%E5%A5%88%E5%B7%9D%E7%9C%8C%E9%9A%9C%E5%AE%B3%E8%80%85%E8%8A%B8%E8%A1%93%E6%96%87%E5%8C%96%E6%B4%BB%E5%8B%95%E6%94%AF%E6%8F%B4%E3%82%BB%E3%83%B3%E3%82%BF%E3%83%BC":MAILTO:info@k-welfare.org
END:VEVENT
BEGIN:VEVENT
DTSTART;VALUE=DATE:20240220
DTEND;VALUE=DATE:20240221
DTSTAMP:20260421T085207
CREATED:20240201T122730Z
LAST-MODIFIED:20240201T122730Z
UID:11831-1708387200-1708473599@fujisawa-npo.jp
SUMMARY:じぶんさがし 隠れていた自分のチカラに気づく 申込締切2/20
DESCRIPTION:↑：申込締切\n開催日時：3/9(土) 13:30～15:30\nPDF情報No.111456 \n\n・何かやってみたい！その何かって何だろう？と思っている方\n・自分ってなんだろうと自分自身に向き合ってみたい方\n・誰かのために役に立ちたいけど…はじめの一歩が踏み出せない方\n･身近な地域にも自分にできることがあるのか探したい方\n・地域で仲間をつくりたい方\nなど\n※申し込みはこちら
URL:https://fujisawa-npo.jp/event/%e3%81%98%e3%81%b6%e3%82%93%e3%81%95%e3%81%8c%e3%81%97-%e9%9a%a0%e3%82%8c%e3%81%a6%e3%81%84%e3%81%9f%e8%87%aa%e5%88%86%e3%81%ae%e3%83%81%e3%82%ab%e3%83%a9%e3%81%ab%e6%b0%97%e3%81%a5%e3%81%8f-%e7%94%b3
LOCATION:ちがさき市民活動サポートセンター\, 茅ヶ崎3-2-7\, 茅ヶ崎市\, 神奈川県\, 日本
CATEGORIES:イベント,講座
ATTACH;FMTTYPE=image/jpeg:https://fujisawa-npo.jp/wp-content/uploads/2024/02/111456-scaled.jpg
ORGANIZER;CN="%E3%81%A1%E3%81%8C%E3%81%95%E3%81%8D%E5%B8%82%E6%B0%91%E6%B4%BB%E5%8B%95%E3%82%B5%E3%83%9D%E3%83%BC%E3%83%88%E3%82%BB%E3%83%B3%E3%82%BF%E3%83%BC":MAILTO:s-ceter@pluto.plala.or.jp
END:VEVENT
BEGIN:VEVENT
DTSTART;TZID=Asia/Tokyo:20240219T100000
DTEND;TZID=Asia/Tokyo:20240221T110000
DTSTAMP:20260421T085207
CREATED:20231215T014526Z
LAST-MODIFIED:20231215T014610Z
UID:11122-1708336800-1708513200@fujisawa-npo.jp
SUMMARY:住宅型有料老人ホームで働くメンバー募集(説明会)
DESCRIPTION:日程：1/15(月)～1/17(水)、2/19(月)～2/21(水)、3/18(月)～3/20(水)\nPDF情報No.111190 \n\n福祉クラブ生協の「住み慣れた街で暮らし続けたい」\n在宅福祉支援サービスを実践する複合福祉施設「みのり藤沢」では、子育て中の方、子供が手を離れて何かを始めようと考えている方、定年退職して地域での活動を考えている方、一緒に入居者のお世話をしてみませんか。\n未経験な方も大歓迎です。\nきっとあなたに合った働き方が見つかるはず。 あなたの生きがいを探してみませんか。\n※複合福祉施設の紹介動画はこちら
URL:https://fujisawa-npo.jp/event/%e4%bd%8f%e5%ae%85%e5%9e%8b%e6%9c%89%e6%96%99%e8%80%81%e4%ba%ba%e3%83%9b%e3%83%bc%e3%83%a0%e3%81%a7%e5%83%8d%e3%81%8f%e3%83%a1%e3%83%b3%e3%83%90%e3%83%bc%e5%8b%9f%e9%9b%86%e8%aa%ac%e6%98%8e%e4%bc%9a-6
LOCATION:神奈川県
CATEGORIES:イベント
ATTACH;FMTTYPE=image/jpeg:https://fujisawa-npo.jp/wp-content/uploads/2023/12/111190-scaled.jpg
END:VEVENT
BEGIN:VEVENT
DTSTART;VALUE=DATE:20240219
DTEND;VALUE=DATE:20240220
DTSTAMP:20260421T085207
CREATED:20231215T010812Z
LAST-MODIFIED:20231215T010812Z
UID:11104-1708300800-1708387199@fujisawa-npo.jp
SUMMARY:(社福)横浜いのちの電話 春の映画祭「大河への道」 申込締切2/19
DESCRIPTION:↑：申込締切\n開催日時：3/7(木)、1回目 11:00～・2回目 14:30～・3回目 18:30～\n料金：前売券1100円、当日券1300円\nPDF情報No.111183 \n\n初の日本地図に隠された、驚くべき秘密とは－？
URL:https://fujisawa-npo.jp/event/%e7%a4%be%e7%a6%8f%e6%a8%aa%e6%b5%9c%e3%81%84%e3%81%ae%e3%81%a1%e3%81%ae%e9%9b%bb%e8%a9%b1-%e6%98%a5%e3%81%ae%e6%98%a0%e7%94%bb%e7%a5%ad%e3%80%8c%e5%a4%a7%e6%b2%b3%e3%81%b8%e3%81%ae%e9%81%93
LOCATION:戸塚総合庁舎・戸塚区民文化センター\, 戸塚区戸塚町16-17\, 横浜市\, 神奈川県\, 日本
CATEGORIES:イベント
ATTACH;FMTTYPE=image/jpeg:https://fujisawa-npo.jp/wp-content/uploads/2023/12/111183-scaled.jpg
END:VEVENT
BEGIN:VEVENT
DTSTART;TZID=Asia/Tokyo:20240218T100000
DTEND;TZID=Asia/Tokyo:20240218T120000
DTSTAMP:20260421T085207
CREATED:20230628T232152Z
LAST-MODIFIED:20230628T232152Z
UID:7077-1708250400-1708257600@fujisawa-npo.jp
SUMMARY:令和5年度 里山歩き事業「里山歩きへのお誘い」
DESCRIPTION:実施場所：県立座間谷戸公園\n集合場所：座間市立青少年センター3階 会議室\n情報No.110101 \n\n私たちと一緒に歩きましょう！\n当法人は、障がいのある人もない人も、地域で共に安心して暮らす社会を目指しています。\n支援する側に必要な学びの場のひとつとして里山歩き事業を実施しています。\n本人たちと私たちの共通点を知り、特性や注意点などを共に学びながら、自然の中で楽しく歩きましょう！\n※申込はこちら
URL:https://fujisawa-npo.jp/event/%e4%bb%a4%e5%92%8c5%e5%b9%b4%e5%ba%a6-%e9%87%8c%e5%b1%b1%e6%ad%a9%e3%81%8d%e4%ba%8b%e6%a5%ad%e3%80%8c%e9%87%8c%e5%b1%b1%e6%ad%a9%e3%81%8d%e3%81%b8%e3%81%ae%e3%81%8a%e8%aa%98%e3%81%84%e3%80%8d-6
LOCATION:座間市立青少年センター\, 立野台1-1-4\, 座間市\, 神奈川県\, 日本
CATEGORIES:イベント
ATTACH;FMTTYPE=image/jpeg:https://fujisawa-npo.jp/wp-content/uploads/2023/06/110101-scaled.jpg
END:VEVENT
BEGIN:VEVENT
DTSTART;VALUE=DATE:20240218
DTEND;VALUE=DATE:20240219
DTSTAMP:20260421T085207
CREATED:20240118T114507Z
LAST-MODIFIED:20240118T114507Z
UID:11628-1708214400-1708300799@fujisawa-npo.jp
SUMMARY:こども選挙 (投票所受付)
DESCRIPTION:参加説明会[終了]：2023/12/23(土) 10:00～、2024/1/14(日) 10:00～\nワークショップ：1/20(土) 10:00～、1/28(日) 10:00～\n投票日・投票会場：2/18(日)、会場：①藤沢駅そば ②湘南台駅そば ③辻堂駅そば\nPDF情報No.111363 \n\n藤沢市長選挙の投票日を、みんなが街の未来を考える日に。\nこどもの、\nこどもによる、\nこどものための選挙。\nふじさわこども選挙を実行するため、こども委員を募集いたします。\n◆参加資格\n・小学校４年生～17歳であること。\n・藤沢市在住であること。\n・ワークショップ(藤沢市役所にて開催予定)と投票受付へ参加可能であること。\n◆その他\n日程的に参加は難しいけど、ぜひ市長候補に聞いてみたいことがある場合も、ぜひメッセージをお送りください！\nご不明な点があれば、お気軽にお問い合わせください。
URL:https://fujisawa-npo.jp/event/%e3%81%93%e3%81%a9%e3%82%82%e9%81%b8%e6%8c%99-%e6%8a%95%e7%a5%a8%e6%89%80%e5%8f%97%e4%bb%98
LOCATION:神奈川県
CATEGORIES:イベント
ATTACH;FMTTYPE=image/jpeg:https://fujisawa-npo.jp/wp-content/uploads/2024/01/111363-scaled.jpg
ORGANIZER;CN="%E3%81%B5%E3%81%98%E3%81%95%E3%82%8F%E3%81%93%E3%81%A9%E3%82%82%E9%81%B8%E6%8C%99%E3%82%B5%E3%83%9D%E3%83%BC%E3%82%BF%E3%83%BC":MAILTO:kodomosenkyofujisawa@gmail.com
END:VEVENT
BEGIN:VEVENT
DTSTART;TZID=Asia/Tokyo:20240217T133000
DTEND;TZID=Asia/Tokyo:20240217T160000
DTSTAMP:20260421T085207
CREATED:20240129T103221Z
LAST-MODIFIED:20240129T103221Z
UID:11756-1708176600-1708185600@fujisawa-npo.jp
SUMMARY:起立性調節障害 おしゃべり会
DESCRIPTION:情報No.111420 \n\nひとりで悩まないで\n春に配布する朝顔の種パックを作りながらのおしゃべり会になります。\n手を動かしていると心もほぐれてくるでしよう。\n当事者の方、保護者の方の参加をお待ちしています。
URL:https://fujisawa-npo.jp/event/%e8%b5%b7%e7%ab%8b%e6%80%a7%e8%aa%bf%e7%af%80%e9%9a%9c%e5%ae%b3-%e3%81%8a%e3%81%97%e3%82%83%e3%81%b9%e3%82%8a%e4%bc%9a-2
LOCATION:藤沢市役所 分庁舎\, 朝日町1-1\, 藤沢市\, 神奈川県
CATEGORIES:イベント
ATTACH;FMTTYPE=image/jpeg:https://fujisawa-npo.jp/wp-content/uploads/2024/01/111420-scaled.jpg
ORGANIZER;CN="#%E3%81%A4%E3%81%AA%E3%81%8C%E3%82%8B%E6%9C%9D%E9%A1%94%E3%83%97%E3%83%AD%E3%82%B8%E3%82%A7%E3%82%AF%E3%83%88":MAILTO:asagaopj@gmail.com
END:VEVENT
BEGIN:VEVENT
DTSTART;TZID=Asia/Tokyo:20240217T130000
DTEND;TZID=Asia/Tokyo:20240217T170000
DTSTAMP:20260421T085207
CREATED:20231218T122847Z
LAST-MODIFIED:20231218T122847Z
UID:11186-1708174800-1708189200@fujisawa-npo.jp
SUMMARY:マンション管理組合研修交流会・無料相談会のご案内
DESCRIPTION:日程；2/17(土)、3/23(土)\n情報No.111208 \n\n湘南マンション管理組合ネットワークでは、マンション管理無料相談会や、マンション管理に役立つ情報提供・管理組合間の情報交換の場として活用して頂けるよう、研修交流会を行っていますので、ご案内いたします。\n・無料相談会：13:00～15:00 (参加費 無料)\n・研修交流会：15:10～17:00 (参加費 会員無料、会員以外 500円)\n2/17 講演「今後のマンション管理において検討されていること」\n3/23 講演「長期修繕計画のポイント」
URL:https://fujisawa-npo.jp/event/%e3%83%9e%e3%83%b3%e3%82%b7%e3%83%a7%e3%83%b3%e7%ae%a1%e7%90%86%e7%b5%84%e5%90%88%e7%a0%94%e4%bf%ae%e4%ba%a4%e6%b5%81%e4%bc%9a%e3%83%bb%e7%84%a1%e6%96%99%e7%9b%b8%e8%ab%87%e4%bc%9a%e3%81%ae%e3%81%94
LOCATION:藤沢市市民活動推進センター(アーバンセンター藤沢 2F)\, 藤沢1031\, 藤沢市\, 神奈川県\, 日本
CATEGORIES:イベント
ATTACH;FMTTYPE=image/jpeg:https://fujisawa-npo.jp/wp-content/uploads/2023/12/111208-scaled.jpg
END:VEVENT
BEGIN:VEVENT
DTSTART;VALUE=DATE:20240217
DTEND;VALUE=DATE:20240219
DTSTAMP:20260421T085207
CREATED:20231215T013102Z
LAST-MODIFIED:20231215T032934Z
UID:11111-1708128000-1708300799@fujisawa-npo.jp
SUMMARY:KAAT カナガワ・ツアー・プロジェクト「三浦半島の人魚姫 / 箱根山の美女と野獣」
DESCRIPTION:開催日時：\n・座間公演 2/17(土)16:00～・2/18(日)13:00～\n・川崎公演 2/21(水)18:30～\n・逗子公演 2/28(水)18:30～\nチケット料金はPDF裏面をご覧ください\nPDF情報No.111188 \n\n神奈川県にひっそり棲まうという野獣と人魚の秘密に迫る。\n世界の名作が奇想天外に生まれ変わる豪華二本立て！
URL:https://fujisawa-npo.jp/event/kaat%e3%82%ab%e3%83%8a%e3%82%ac%e3%83%af%e3%83%bb%e3%83%84%e3%82%a2%e3%83%bc%e3%83%bb%e3%83%97%e3%83%ad%e3%82%b8%e3%82%a7%e3%82%af%e3%83%88%e3%80%8c%e4%b8%89%e6%b5%a6%e5%8d%8a%e5%b3%b6%e3%81%ae
LOCATION:座間市立市民文化会館・ハーモニーホール座間\, 緑ケ丘1-1-2\, 座間市\, 神奈川県\, 日本
CATEGORIES:イベント
ATTACH;FMTTYPE=image/jpeg:https://fujisawa-npo.jp/wp-content/uploads/2023/12/111188-scaled.jpg
END:VEVENT
BEGIN:VEVENT
DTSTART;VALUE=DATE:20240217
DTEND;VALUE=DATE:20240218
DTSTAMP:20260421T085207
CREATED:20231110T054355Z
LAST-MODIFIED:20231110T054355Z
UID:10684-1708128000-1708214399@fujisawa-npo.jp
SUMMARY:さざなみ亭落語会「三遊亭わん丈」
DESCRIPTION:時間：開場13:30、開演14:00\n情報No.110996 \n\n毎年好評のさざなみ亭落語会。\n今年はゲストに立川寸志を迎え、「二人によるトーク」や、毎年恒例の、お客様からのお題で噺を創る「みんなで創る落語」の企画もございます。\n魅力満載の落語会を是非お楽しみください。\n※チケット購入ページはこちら
URL:https://fujisawa-npo.jp/event/%e3%81%95%e3%81%96%e3%81%aa%e3%81%bf%e4%ba%ad%e8%90%bd%e8%aa%9e%e4%bc%9a%e3%80%8c%e4%b8%89%e9%81%8a%e4%ba%ad%e3%82%8f%e3%82%93%e4%b8%88%e3%80%8d
LOCATION:逗子文化プラザ さざなみホール\, 逗子4-2-10\, 逗子市\, 神奈川県\, 日本
CATEGORIES:イベント
ATTACH;FMTTYPE=image/jpeg:https://fujisawa-npo.jp/wp-content/uploads/2023/11/110996-scaled.jpg
END:VEVENT
BEGIN:VEVENT
DTSTART;TZID=Asia/Tokyo:20240216T110000
DTEND;TZID=Asia/Tokyo:20240216T160000
DTSTAMP:20260421T085207
CREATED:20240108T134601Z
LAST-MODIFIED:20240108T134601Z
UID:11454-1708081200-1708099200@fujisawa-npo.jp
SUMMARY:福祉のしごとフェア
DESCRIPTION:PDF情報No.111283 \n\n◆就職支援ガイダンス(時間：11:00～12:30、会場：ヨコハマジャスト 3号館(崎陽軒 本店)、要申込)\n高齢・障害・児童の各分野の現場の職員から仕事のやりがいや魅力、働き方などについてお話します。\n※申し込みはこちら\n◆就職相談会(時間：13:00～16:00、会場：横浜新都市ビル)\n60法人の参加を予定。福祉の仕事のが求人を募集している法人の担当者から、職場環境や労働条件などについて面談方式で聞くことができます。\n県内全域の様々な種別の施設から様々な職種の求人情報があります。\n関係団体による専門相談コーナーもあります。
URL:https://fujisawa-npo.jp/event/%e7%a6%8f%e7%a5%89%e3%81%ae%e3%81%97%e3%81%94%e3%81%a8%e3%83%95%e3%82%a7%e3%82%a2-2
LOCATION:神奈川県
CATEGORIES:イベント,講座
ATTACH;FMTTYPE=image/jpeg:https://fujisawa-npo.jp/wp-content/uploads/2024/01/111283-scaled.jpg
END:VEVENT
BEGIN:VEVENT
DTSTART;TZID=Asia/Tokyo:20240215T133000
DTEND;TZID=Asia/Tokyo:20240215T153000
DTSTAMP:20260421T085207
CREATED:20240108T140737Z
LAST-MODIFIED:20240108T140737Z
UID:11464-1708003800-1708011000@fujisawa-npo.jp
SUMMARY:“まち活”トークセッション ～あなたの“好き！”を“まち活”に～ 申込締切2/5
DESCRIPTION:情報No.111297 \n\n～あなたの“好き！”を“まち活”に～\n内容：\n1. ゲストスピーカーによるトークセッション\n2. グループワークで情報交換\n※申し込みはこちら
URL:https://fujisawa-npo.jp/event/%e3%81%be%e3%81%a1%e6%b4%bb%e3%83%88%e3%83%bc%e3%82%af%e3%82%bb%e3%83%83%e3%82%b7%e3%83%a7%e3%83%b3-%ef%bd%9e%e3%81%82%e3%81%aa%e3%81%9f%e3%81%ae%e5%a5%bd%e3%81%8d%ef%bc%81
LOCATION:青葉区役所 / 青葉区区民活動支援センター\, 青葉区市ケ尾町31-4\, 横浜市\, 神奈川県\, 日本
CATEGORIES:イベント
ATTACH;FMTTYPE=image/jpeg:https://fujisawa-npo.jp/wp-content/uploads/2024/01/111297-scaled.jpg
ORGANIZER;CN="%E9%9D%92%E8%91%89%E5%8C%BA%E5%8C%BA%E6%B0%91%E6%B4%BB%E5%8B%95%E6%94%AF%E6%8F%B4%E3%82%BB%E3%83%B3%E3%82%BF%E3%83%BC":MAILTO:ao-machikatsu@city.yokohama.jp
END:VEVENT
BEGIN:VEVENT
DTSTART;VALUE=DATE:20240213
DTEND;VALUE=DATE:20240326
DTSTAMP:20260421T085207
CREATED:20240222T100924Z
LAST-MODIFIED:20240314T102745Z
UID:11915-1707782400-1711411199@fujisawa-npo.jp
SUMMARY:県議会 令和6年 第1回定例会
DESCRIPTION:情報No.111491 \n\nかながわ その先の未来へ
URL:https://fujisawa-npo.jp/event/%e7%9c%8c%e8%ad%b0%e4%bc%9a-%e4%bb%a4%e5%92%8c6%e5%b9%b4-%e7%ac%ac1%e5%9b%9e%e5%ae%9a%e4%be%8b%e4%bc%9a
LOCATION:神奈川県
CATEGORIES:イベント
END:VEVENT
END:VCALENDAR