BEGIN:VCALENDAR
VERSION:2.0
PRODID:-//藤沢市市民活動推進センター - ECPv6.15.11//NONSGML v1.0//EN
CALSCALE:GREGORIAN
METHOD:PUBLISH
X-WR-CALNAME:藤沢市市民活動推進センター
X-ORIGINAL-URL:https://fujisawa-npo.jp
X-WR-CALDESC:藤沢市市民活動推進センター のイベント
REFRESH-INTERVAL;VALUE=DURATION:PT1H
X-Robots-Tag:noindex
X-PUBLISHED-TTL:PT1H
BEGIN:VTIMEZONE
TZID:Asia/Tokyo
BEGIN:STANDARD
TZOFFSETFROM:+0900
TZOFFSETTO:+0900
TZNAME:JST
DTSTART:20230101T000000
END:STANDARD
END:VTIMEZONE
BEGIN:VEVENT
DTSTART;VALUE=DATE:20240208
DTEND;VALUE=DATE:20240209
DTSTAMP:20260421T122648
CREATED:20231221T142329Z
LAST-MODIFIED:20231221T142800Z
UID:11265-1707350400-1707436799@fujisawa-npo.jp
SUMMARY:市民活動・NPO相談会
DESCRIPTION:↑は各月の初月に開催する相談会を示しています\n時間：①13:00～ ②14:00～ ③15:00～\n※4会場あり\nPDF情報No.111224 \n\n「ボランティアをしたい」「地域の課題は自分たちが解決しよう」「仲間と活動していますが、もう少し組織化したい」「手弁当だけでは続きそうもない」\nこんな悩みはありませんか？\n相模原市内はもちろん、県内の市民活動、NPO、ボランティアなどに精通している経験豊富なアドバイザーが相談対応します。\nまずは、メールまたは電話でご予約ください。
URL:https://fujisawa-npo.jp/event/%e5%b8%82%e6%b0%91%e6%b4%bb%e5%8b%95%e3%83%bbnpo%e7%9b%b8%e8%ab%87%e4%bc%9a-9
LOCATION:さがみはら市民活動サポートセンター(けやき会館3階)\, 富士見6-6-23\, 相模原市\, 神奈川県\, 日本
CATEGORIES:イベント
ATTACH;FMTTYPE=image/jpeg:https://fujisawa-npo.jp/wp-content/uploads/2023/12/111224-scaled.jpg
ORGANIZER;CN="%E3%81%95%E3%81%8C%E3%81%BF%E3%81%AF%E3%82%89%E5%B8%82%E6%B0%91%E6%B4%BB%E5%8B%95%E3%82%B5%E3%83%9D%E3%83%BC%E3%83%88%E3%82%BB%E3%83%B3%E3%82%BF%E3%83%BC":MAILTO:sagami.saposen@iris.ocn.ne.jp
END:VEVENT
BEGIN:VEVENT
DTSTART;VALUE=DATE:20240207
DTEND;VALUE=DATE:20240208
DTSTAMP:20260421T122648
CREATED:20240122T120922Z
LAST-MODIFIED:20240122T120922Z
UID:11676-1707264000-1707350399@fujisawa-npo.jp
SUMMARY:会計＆税金 無料個別相談会
DESCRIPTION:時間：①18:00～18:45(2団体) ②19:00～19:45(2団体)\nPDF情報No.111395 \n\n帳簿のつけ方から税金に関することまで、税理士が丁寧に対応します。\n例えば：\n・税金の免除について知りたい\n・活動計算書や賃借対照表 これでいいのかちょっぴり不安…\n・インボイスって何？ 私たちも、何か対応が必要なのかな？\n・収益事業の税額ってどうなっているの？\n・帳簿を持参するので見てほしい
URL:https://fujisawa-npo.jp/event/%e4%bc%9a%e8%a8%88%ef%bc%86%e7%a8%8e%e9%87%91-%e7%84%a1%e6%96%99%e5%80%8b%e5%88%a5%e7%9b%b8%e8%ab%87%e4%bc%9a
LOCATION:ひらつか市民活動センター\, 見附町1-8\, 平塚市\, 神奈川県\, 日本
CATEGORIES:イベント
ATTACH;FMTTYPE=image/jpeg:https://fujisawa-npo.jp/wp-content/uploads/2024/01/111395-scaled.jpg
ORGANIZER;CN="%E3%81%B2%E3%82%89%E3%81%A4%E3%81%8B%E5%B8%82%E6%B0%91%E6%B4%BB%E5%8B%95%E3%82%BB%E3%83%B3%E3%82%BF%E3%83%BC":MAILTO:info@hiratsuka-shimin.net
END:VEVENT
BEGIN:VEVENT
DTSTART;TZID=Asia/Tokyo:20240206T190000
DTEND;TZID=Asia/Tokyo:20240206T203000
DTSTAMP:20260421T122648
CREATED:20240115T142826Z
LAST-MODIFIED:20240115T142826Z
UID:11573-1707246000-1707251400@fujisawa-npo.jp
SUMMARY:令和5年度 第5回 千葉市民活動支援センター運営協議会 参加者募集
DESCRIPTION:情報No.111340 \n\n■センターをもっと便利で役立つ施設に■\n運営協議会は千葉市民活動支援センターを有益な施設とし、市民活動を活性ｲ匕させるため、アイデアや提案を頂く場として開催。\nその都度、テーマに関心のある方が集まって自由に語り合っていただ＜場です\n※肩の凝らない座談会から生まれる、斬新なアイデア・ご意見をお待ちしています。\n第５回のテーマ：「SNSどう使う？」\nSNSと一口に言っても、いろいろ。\n何使ってるの？ どう使ってるの？\n誰が発信してるの？\n毎日やるの？‥‥\n経験談や、使い勝手のよしあしなど、皆さんのお声を聞きながら、千葉市民活動支援センターも、登録団体の皆様様から必要とされる情報を発信できるよう、会の中で一緒に考えたいと思います。\n｢運営協議会｣ですが、｢茶話会｣のように気軽に話しに来てください。
URL:https://fujisawa-npo.jp/event/%e4%bb%a4%e5%92%8c5%e5%b9%b4%e5%ba%a6-%e7%ac%ac5%e5%9b%9e-%e5%8d%83%e8%91%89%e5%b8%82%e6%b0%91%e6%b4%bb%e5%8b%95%e6%94%af%e6%8f%b4%e3%82%bb%e3%83%b3%e3%82%bf%e3%83%bc%e9%81%8b%e5%96%b6%e5%8d%94
LOCATION:千葉市民活動支援センター(千葉中央ツインビル2号館 9F)\, 中央区中央2-5-1\, 千葉市\, 千葉県\, 日本
CATEGORIES:イベント
ATTACH;FMTTYPE=image/jpeg:https://fujisawa-npo.jp/wp-content/uploads/2024/01/111340-scaled.jpg
ORGANIZER;CN="%E5%8D%83%E8%91%89%E5%B8%82%E6%B0%91%E6%B4%BB%E5%8B%95%E6%94%AF%E6%8F%B4%E3%82%BB%E3%83%B3%E3%82%BF%E3%83%BC":MAILTO:info@chiba-npo.ne.net
END:VEVENT
BEGIN:VEVENT
DTSTART;TZID=Asia/Tokyo:20240204T100000
DTEND;TZID=Asia/Tokyo:20240204T130000
DTSTAMP:20260421T122648
CREATED:20240125T121032Z
LAST-MODIFIED:20240125T121032Z
UID:11725-1707040800-1707051600@fujisawa-npo.jp
SUMMARY:Kite-Kite(来て！来て！) 藤青
DESCRIPTION:PDF情報No.111415 \n\n内容：\n１階体育室：ストラックアウト、ポッチャ\n※遊具の入れ替えの時間があります。詳細はPDF裏面参照\n３階第1・2談話室：工作\n３階団体活動室：チャリティバザー
URL:https://fujisawa-npo.jp/event/kite-kite%e6%9d%a5%e3%81%a6%ef%bc%81%e6%9d%a5%e3%81%a6%ef%bc%81-%e8%97%a4%e9%9d%92
LOCATION:藤沢青少年会館\, 朝日町10-8\, 藤沢市\, 神奈川県\, 日本
CATEGORIES:イベント
ATTACH;FMTTYPE=image/jpeg:https://fujisawa-npo.jp/wp-content/uploads/2024/01/111415-scaled.jpg
END:VEVENT
BEGIN:VEVENT
DTSTART;VALUE=DATE:20240204
DTEND;VALUE=DATE:20240205
DTSTAMP:20260421T122648
CREATED:20231225T104153Z
LAST-MODIFIED:20231225T104153Z
UID:11335-1707004800-1707091199@fujisawa-npo.jp
SUMMARY:湘南トレッキングクラブ 2024年2月
DESCRIPTION:参加費：会員無料、他協会会員300円、一般500円\nPDF情報No.111232 \n\n・三浦半島 大楠山トレッキング\nとき：2/4(日) 9:00\n集合：JR横須賀線・衣笠駅\n・三浦の河津さくらトレッキング\nとき：2/28(水) 9:00\n集合：京浜急行・三浦海岸駅
URL:https://fujisawa-npo.jp/event/%e6%b9%98%e5%8d%97%e3%83%88%e3%83%ac%e3%83%83%e3%82%ad%e3%83%b3%e3%82%b0%e3%82%af%e3%83%a9%e3%83%96-2024%e5%b9%b42%e6%9c%88
CATEGORIES:イベント
ATTACH;FMTTYPE=image/jpeg:https://fujisawa-npo.jp/wp-content/uploads/2023/12/111232-scaled.jpg
END:VEVENT
BEGIN:VEVENT
DTSTART;VALUE=DATE:20240204
DTEND;VALUE=DATE:20240205
DTSTAMP:20260421T122648
CREATED:20231114T063937Z
LAST-MODIFIED:20231114T063937Z
UID:10736-1707004800-1707091199@fujisawa-npo.jp
SUMMARY:JUON NETWORK「秋冬のボランティア情報」
DESCRIPTION:情報No.111014 \n\n◆関東「かずさの里 森林の楽校(大多喜)」\n日時・場所；12/2(土) 千葉県夷隅郡大多喜町\n◆九州「つばきの里 森林の楽校」\n日時・場所；11/26(日) 長崎県長崎市\n◆関西「キノコの森 森林の楽校」\n日時・場所；11/19(日) 京都府亀岡市\n◆東海\n・「風の谷 森林の楽校 秋11月」\n日時・場所；11/11(土)～11/12(日) 岐阜県揖斐郡揖斐川町\n・「風の谷 森林の楽校・冬」\n日時・場所；12/9(土)～12/10(日) 岐阜県揖斐郡揖斐川町\n・「南伊勢のみかん 田畑の楽校」\n日時・場所；11/18(土)・11/19(日)・12/10(日)・2024/2/4(日) 三重県度会群南伊勢町
URL:https://fujisawa-npo.jp/event/juon-network%e3%80%8c%e7%a7%8b%e5%86%ac%e3%81%ae%e3%83%9c%e3%83%a9%e3%83%b3%e3%83%86%e3%82%a3%e3%82%a2%e6%83%85%e5%a0%b1%e3%80%8d-3
CATEGORIES:イベント
ATTACH;FMTTYPE=image/jpeg:https://fujisawa-npo.jp/wp-content/uploads/2023/11/111014-scaled.jpg
ORGANIZER;CN="%E8%AA%8D%E5%AE%9ANPO%E6%B3%95%E4%BA%BA JUON NETWORK(%E6%A8%B9%E6%81%A9%E3%83%8D%E3%83%83%E3%83%88%E3%83%AF%E3%83%BC%E3%82%AF)":MAILTO:juon-office@univcoop.or.jp
END:VEVENT
BEGIN:VEVENT
DTSTART;TZID=Asia/Tokyo:20240203T100000
DTEND;TZID=Asia/Tokyo:20240204T170000
DTSTAMP:20260421T122648
CREATED:20240118T133943Z
LAST-MODIFIED:20240118T133943Z
UID:11652-1706954400-1707066000@fujisawa-npo.jp
SUMMARY:ふじさわ建築しごと展2024 住まいと仕事
DESCRIPTION:日程：2/3(土) 10:00～18:00、2/4(日)10:00～17:00\nPDF情報No.111379 \n\n・木育ワークショップ くらしのツリー当てスタンプラリー(2/3(土) 13:00～)\n・子供の体験学習 3畳ハウスを建てる(2/3(土) 、2/4(日) 11:00～)\n藤沢市の建築士と直接話せる相談会\n常時 数名の建築士が会場におります\n新築、リフォーム、空家利用、テレワークスペース、から街づくりまで建築に関すること、ご相談ください
URL:https://fujisawa-npo.jp/event/%e3%81%b5%e3%81%98%e3%81%95%e3%82%8f%e5%bb%ba%e7%af%89%e3%81%97%e3%81%94%e3%81%a8%e5%b1%952024-%e4%bd%8f%e3%81%be%e3%81%84%e3%81%a8%e4%bb%95%e4%ba%8b
LOCATION:湘南モールフィル\, 辻堂新町4丁目1-1\, 藤沢市\, 神奈川県\, 日本
CATEGORIES:イベント,講座
ATTACH;FMTTYPE=image/jpeg:https://fujisawa-npo.jp/wp-content/uploads/2024/01/111379-scaled.jpg
END:VEVENT
BEGIN:VEVENT
DTSTART;TZID=Asia/Tokyo:20240202T100000
DTEND;TZID=Asia/Tokyo:20240324T183000
DTSTAMP:20260421T122648
CREATED:20240129T104556Z
LAST-MODIFIED:20240129T104556Z
UID:11765-1706868000-1711305000@fujisawa-npo.jp
SUMMARY:令和5年度企画展 ニャラティブ
DESCRIPTION:観覧料：一般：200円、高校・大学生：100円\nPDF情報No.111425 \n\n本展は、藤沢市所蔵の「招き猫亭コレクション」と現代作家の作品を、<猫>と<物語>をテーマに紹介する展覧会です。\n「招き猫亭コレクション」は、コレクターのの招き猫亭氏が蒐集した猫にまつわる美術作品群です。\nその中から今回は、『源氏物語』の一場面を描いた浮世絵作品や、ラ・フォンテーヌの『寓話』の挿画としてマルク・シャガールやギュスターヴ・モローが手掛けた銅版画など、猫が登場する物語を描いた作品を展示します。\nまた、本の装丁や、夢、家族など日常の中にある物語なども紹介します。\n同時に、横浜を拠点に活動する現代作家のcouch (浅尾怜子+宮崎大樹)が新作を発表します。\n長年構想を温めてきたヤマネコの物語を、スリットアニメーション(ストライプ状のスリットを動かすことで絵が動いているように見える技法)を用いて展開します。\n本展のタイトル「ニャラティブ」は、猫の鳴き声と物語(ナラティブ)を掛け合わせた造語です。\n人々は、なにやら物言いたげな猫の表情や行動に想像力を膨らませ、猫にまつわる物語を数多く生み出してきました。\nみなさんも、作品から新たな物語を紡いてみませんか？
URL:https://fujisawa-npo.jp/event/%e4%bb%a4%e5%92%8c5%e5%b9%b4%e5%ba%a6%e4%bc%81%e7%94%bb%e5%b1%95-%e3%83%8b%e3%83%a3%e3%83%a9%e3%83%86%e3%82%a3%e3%83%96
LOCATION:藤沢市アートスペース(ココテラス湘南6F)\, 辻堂神台2-2-2\, 藤沢市\, 神奈川県\, 251-0041
CATEGORIES:イベント
ATTACH;FMTTYPE=image/jpeg:https://fujisawa-npo.jp/wp-content/uploads/2024/01/111425-scaled.jpg
ORGANIZER;CN="%E8%97%A4%E6%B2%A2%E5%B8%82%E3%82%A2%E3%83%BC%E3%83%88%E3%82%B9%E3%83%9A%E3%83%BC%E3%82%B9":MAILTO:fj-art@city.fujisawa.lg.jp
END:VEVENT
BEGIN:VEVENT
DTSTART;TZID=Asia/Tokyo:20240201T090000
DTEND;TZID=Asia/Tokyo:20240317T160000
DTSTAMP:20260421T122648
CREATED:20231221T143923Z
LAST-MODIFIED:20231221T143950Z
UID:11279-1706778000-1710691200@fujisawa-npo.jp
SUMMARY:特別展「称名寺の賢聖衆」
DESCRIPTION:PDF情報No.111229 \n\n－如来、羅漢、菩薩－\n賢聖衆－如来、羅漢、菩薩の御姿には、たとえ紙や絹、木や土、石や金属等を素材として作られていたとしても、自然と畏敬の念を抱き、頭を垂れ、手を合わせます。\n本展示では、横浜市金沢区に所在する称名寺所蔵の賢聖衆を現す彫刻や絵画、それらを供養するための仏具が伝えてきた、インド以来の仏教信仰の背景を、国宝「称名寺聖教」、重文「宋版一切経」を手掛かりに探ります。
URL:https://fujisawa-npo.jp/event/%e7%89%b9%e5%88%a5%e5%b1%95%e3%80%8c%e7%a7%b0%e5%90%8d%e5%af%ba%e3%81%ae%e8%b3%a2%e8%81%96%e8%a1%86%e3%80%8d
LOCATION:神奈川県立金沢文庫\, 金沢区金沢町142\, 横浜市\, 神奈川県\, 日本
CATEGORIES:イベント
ATTACH;FMTTYPE=image/jpeg:https://fujisawa-npo.jp/wp-content/uploads/2023/12/111229-scaled.jpg
END:VEVENT
BEGIN:VEVENT
DTSTART;TZID=Asia/Tokyo:20240201T080000
DTEND;TZID=Asia/Tokyo:20240201T170000
DTSTAMP:20260421T122648
CREATED:20240201T121642Z
LAST-MODIFIED:20240201T121642Z
UID:11821-1706774400-1706806800@fujisawa-npo.jp
SUMMARY:(社福)いきいき福祉会「ゆるゆるパソコン教室」
DESCRIPTION:情報No.111450 \n\n～知りたいな できたらいいな～\nパソコンが無くても\nパソコンに触ったことが無くても\n仲間が楽しく教えてくれるから\n初心者でも大丈夫です！！
URL:https://fujisawa-npo.jp/event/%e7%a4%be%e7%a6%8f%e3%81%84%e3%81%8d%e3%81%84%e3%81%8d%e7%a6%8f%e7%a5%89%e4%bc%9a%e3%80%8c%e3%82%86%e3%82%8b%e3%82%86%e3%82%8b%e3%83%91%e3%82%bd%e3%82%b3%e3%83%b3%e6%95%99%e5%ae%a4%e3%80%8d-3
CATEGORIES:イベント
ATTACH;FMTTYPE=image/jpeg:https://fujisawa-npo.jp/wp-content/uploads/2024/02/111450-1-scaled.jpg
END:VEVENT
BEGIN:VEVENT
DTSTART;VALUE=DATE:20240201
DTEND;VALUE=DATE:20240301
DTSTAMP:20260421T122648
CREATED:20231225T105650Z
LAST-MODIFIED:20231225T105808Z
UID:11345-1706745600-1709251199@fujisawa-npo.jp
SUMMARY:花王国際こども環境絵画コンテスト 入賞作品展示会
DESCRIPTION:情報No.111243 \n\n花王株式会社は、世界のこどもたちに身近な生活のエコと地球の環境･未来について真剣に考え、世界中の人々が暮らしの中で環境を考えて行動するきっかけとなることを願い、2010年より「花王国際こども環境絵画コンテスト」を毎年開催しています。\nコンテスト入賞作品の一部の展示会をプラッツでも開催します。\n今回は花王株式会社の協力により、「環境の話＆スマートホルダーづくりワークショップ(2/24(土)」も開催します。
URL:https://fujisawa-npo.jp/event/%e8%8a%b1%e7%8e%8b%e5%9b%bd%e9%9a%9b%e3%81%93%e3%81%a9%e3%82%82%e7%92%b0%e5%a2%83%e7%b5%b5%e7%94%bb%e3%82%b3%e3%83%b3%e3%83%86%e3%82%b9%e3%83%88-%e5%85%a5%e8%b3%9e%e4%bd%9c%e5%93%81%e5%b1%95%e7%a4%ba
LOCATION:府中市市民活動センタープラッツ\, 宮町1-100-5\, 府中市\, 東京都\, 日本
CATEGORIES:イベント
ATTACH;FMTTYPE=image/jpeg:https://fujisawa-npo.jp/wp-content/uploads/2023/12/111243-scaled.jpg
END:VEVENT
BEGIN:VEVENT
DTSTART;VALUE=DATE:20240131
DTEND;VALUE=DATE:20240201
DTSTAMP:20260421T122648
CREATED:20240115T115053Z
LAST-MODIFIED:20240115T115053Z
UID:11563-1706659200-1706745599@fujisawa-npo.jp
SUMMARY:企業・NPO・大学・市民のためのパートナーシップミーティング in 鎌倉 申込締切1/31
DESCRIPTION:↑：申込締切\n開催日時：2/10(土) 14:00～17:00\nPDF情報No.111360 \n\n～「防災」で地域をつなぐ・地域とつながる～\n地域の課題「防災」を題材に、お互いの立場や普段の役割を一旦おいて、新しい出会いや気づき、つながる力が生まれる「場」を開きます。\n「もしも」に備えて顔の見える関係づくりを始めましよう。
URL:https://fujisawa-npo.jp/event/%e4%bc%81%e6%a5%ad%e3%83%bbnpo%e3%83%bb%e5%a4%a7%e5%ad%a6%e3%83%bb%e5%b8%82%e6%b0%91%e3%81%ae%e3%81%9f%e3%82%81%e3%81%ae%e3%83%91%e3%83%bc%e3%83%88%e3%83%8a%e3%83%bc%e3%82%b7%e3%83%83%e3%83%97
LOCATION:鎌倉商工会議所\, 御成町17-29\, 鎌倉市\, 神奈川県\, 日本
CATEGORIES:イベント
ATTACH;FMTTYPE=image/jpeg:https://fujisawa-npo.jp/wp-content/uploads/2024/01/111360-scaled.jpg
ORGANIZER;CN="NPO%E6%B3%95%E4%BA%BA %E9%8E%8C%E5%80%89%E5%B8%82%E5%B8%82%E6%B0%91%E6%B4%BB%E5%8B%95%E3%82%BB%E3%83%B3%E3%82%BF%E3%83%BC%E9%81%8B%E5%96%B6%E4%BC%9A%E8%AD%B0":MAILTO:npo@chive.ocn.ne.jp
END:VEVENT
BEGIN:VEVENT
DTSTART;VALUE=DATE:20240131
DTEND;VALUE=DATE:20240201
DTSTAMP:20260421T122648
CREATED:20240115T111205Z
LAST-MODIFIED:20240115T113315Z
UID:11551-1706659200-1706745599@fujisawa-npo.jp
SUMMARY:かながわコミュニティカレッジ 運営業務受託者募集 応募締切1/31
DESCRIPTION:↑：応募締切\n情報No.111362 \n\nかながわコミュニティカレッジはNPOやボランティアなど地域課題の解決に取り組む人材の育成を目的に、毎年約30講座を民間法人への委託により開催する事業です。\n・様々な団体と関わり、ネットワークが強力に！\n・異なるノウハウを持つグループ同士の応募も可能\n・人材育成の経験・ノウハウが活かせる！\n※詳しくはこちら\n※お問い合わせフォームはこちら
URL:https://fujisawa-npo.jp/event/%e3%81%8b%e3%81%aa%e3%81%8c%e3%82%8f%e3%82%b3%e3%83%9f%e3%83%a5%e3%83%8b%e3%83%86%e3%82%a3%e3%82%ab%e3%83%ac%e3%83%83%e3%82%b8-%e9%81%8b%e5%96%b6%e6%a5%ad%e5%8b%99%e5%8f%97%e8%a8%97%e8%80%85-2
LOCATION:かながわ県民センター\, 神奈川区鶴屋町2-24-2\, 横浜市\, 神奈川県\, 日本
CATEGORIES:イベント
ATTACH;FMTTYPE=image/jpeg:https://fujisawa-npo.jp/wp-content/uploads/2024/01/111362-scaled.jpg
END:VEVENT
BEGIN:VEVENT
DTSTART;TZID=Asia/Tokyo:20240130T130000
DTEND;TZID=Asia/Tokyo:20240131T150000
DTSTAMP:20260421T122648
CREATED:20240108T134908Z
LAST-MODIFIED:20240108T135018Z
UID:11456-1706619600-1706713200@fujisawa-npo.jp
SUMMARY:着物・リメイクフェア 2023
DESCRIPTION:開催日時：\n1/30(火) 13:00～16:00、1/31(水) 10:00～15:00\nPDF情報No.111284 \n\n～“着る つくる” 和のひろがり～\n着物からつながる“もったいない”\n全国からご寄付いただいたリユースの着物や帯、和小物を集めました。\nまだまだ捨てるのは“もったいない”、状態の良いものばかり。\nリーズナブルな価格でお買い求めいただけるこの機会に是非ご来場ください。\n＊お支払いは現金のみとさせて頂きます\n＊開場60分前頃より整理券をお配りします
URL:https://fujisawa-npo.jp/event/%e7%9d%80%e7%89%a9%e3%83%bb%e3%83%aa%e3%83%a1%e3%82%a4%e3%82%af%e3%83%95%e3%82%a7%e3%82%a2-2023
LOCATION:かながわ県民センター\, 神奈川区鶴屋町2-24-2\, 横浜市\, 神奈川県\, 日本
CATEGORIES:イベント
ATTACH;FMTTYPE=image/jpeg:https://fujisawa-npo.jp/wp-content/uploads/2024/01/111284-scaled.jpg
ORGANIZER;CN="%E8%AA%8D%E5%AE%9ANPO%E6%B3%95%E4%BA%BA WE21%E3%82%B8%E3%83%A3%E3%83%91%E3%83%B3":MAILTO:info@we21japan.org
END:VEVENT
BEGIN:VEVENT
DTSTART;TZID=Asia/Tokyo:20240129T140000
DTEND;TZID=Asia/Tokyo:20240129T160000
DTSTAMP:20260421T122648
CREATED:20240104T070707Z
LAST-MODIFIED:20240104T070707Z
UID:11397-1706536800-1706544000@fujisawa-npo.jp
SUMMARY:(社福)いきいき福祉会「みんなでゆるゆるオーナー」
DESCRIPTION:情報No.111254 \n\nテーマ『書き初め』\n★2024年最初のゆるゆるオーナーは書き初めです♪\nみんなで2024年の目標や好きな言葉を思い思いに書いてみよう(^O^)／
URL:https://fujisawa-npo.jp/event/%e7%a4%be%e7%a6%8f%e3%81%84%e3%81%8d%e3%81%84%e3%81%8d%e7%a6%8f%e7%a5%89%e4%bc%9a%e3%80%8c%e3%81%bf%e3%82%93%e3%81%aa%e3%81%a7%e3%82%86%e3%82%8b%e3%82%86%e3%82%8b%e3%82%aa%e3%83%bc%e3%83%8a%e3%83%bc-6
LOCATION:ラポール城南かるがも\, 城南4-9-8\, 藤沢市\, 神奈川県\, 日本
CATEGORIES:イベント
ATTACH;FMTTYPE=image/jpeg:https://fujisawa-npo.jp/wp-content/uploads/2024/01/111254-scaled.jpg
END:VEVENT
BEGIN:VEVENT
DTSTART;TZID=Asia/Tokyo:20240128T140000
DTEND;TZID=Asia/Tokyo:20240128T160000
DTSTAMP:20260421T122648
CREATED:20231201T020202Z
LAST-MODIFIED:20231201T020202Z
UID:10941-1706450400-1706457600@fujisawa-npo.jp
SUMMARY:乙女文楽「体験ワークショップ」
DESCRIPTION:1. 1日体験コース\n2/4(日)・2/11(日)のどちらか、時間：10:00～12:00\n参加費：1000円\n2. じっくり3日コース\n1/28(日)・2/4(日)・2/11(日)〈3日連続講座〉、時間：14:00～16:00\n参加費：2000円\nPDF情報No.111099 \n\n川崎市で約50余年間伝わる伝統人形芝居「乙女文楽」。\n文楽が男性3人で1体の人形を遣うのに対し、女性が1人で1体の人形を遣うのが特徴です。\n人形の仕組みと遣い方に工夫がいっぱいの、ユニークな人形芝居です。\nニーズに応じて、1日コースと3日コースの2つのプログラムをご用意しています。
URL:https://fujisawa-npo.jp/event/%e4%b9%99%e5%a5%b3%e6%96%87%e6%a5%bd%e3%80%8c%e4%bd%93%e9%a8%93%e3%83%af%e3%83%bc%e3%82%af%e3%82%b7%e3%83%a7%e3%83%83%e3%83%97%e3%80%8d
LOCATION:ひとみ座第1スタジオ\, 中原区井田3-10-31\, 川崎市\, 神奈川県\, 日本
CATEGORIES:イベント
ATTACH;FMTTYPE=image/jpeg:https://fujisawa-npo.jp/wp-content/uploads/2023/12/111099-scaled.jpg
END:VEVENT
BEGIN:VEVENT
DTSTART;VALUE=DATE:20240128
DTEND;VALUE=DATE:20240129
DTSTAMP:20260421T122648
CREATED:20231207T223955Z
LAST-MODIFIED:20231207T223955Z
UID:11008-1706400000-1706486399@fujisawa-npo.jp
SUMMARY:企業・NPO・学校　パートナーシップミーティング in 県西 申込締切1/28
DESCRIPTION:↑：申込締切\n開催日時：02/04(日) 13:30～16:30\nPDF情報No.111124 \n\n～SDGs×明日に向けてのつながり～\n地域や社会の課題解決に向けて、企業・NPO・学校などの多様な主体が、それぞれの強みを活かして連携し、相互に協力しあえるマッチングの機会を提供します。
URL:https://fujisawa-npo.jp/event/%e4%bc%81%e6%a5%ad%e3%83%bbnpo%e3%83%bb%e5%ad%a6%e6%a0%a1%e3%80%80%e3%83%91%e3%83%bc%e3%83%88%e3%83%8a%e3%83%bc%e3%82%b7%e3%83%83%e3%83%97%e3%83%9f%e3%83%bc%e3%83%86%e3%82%a3%e3%83%b3%e3%82%b0-in
LOCATION:おだわら市民交流センターUMECO\, 栄町1-1-27\, 小田原市\, 神奈川県\, 日本
CATEGORIES:イベント
ATTACH;FMTTYPE=image/jpeg:https://fujisawa-npo.jp/wp-content/uploads/2023/12/111124-scaled.jpg
ORGANIZER;CN="%E3%81%8A%E3%81%A0%E3%82%8F%E3%82%89%E5%B8%82%E6%B0%91%E4%BA%A4%E6%B5%81%E3%82%BB%E3%83%B3%E3%82%BF%E3%83%BCUMECO":MAILTO:odawara@umeco.info
END:VEVENT
BEGIN:VEVENT
DTSTART;VALUE=DATE:20240128
DTEND;VALUE=DATE:20240129
DTSTAMP:20260421T122648
CREATED:20230522T111720Z
LAST-MODIFIED:20230527T005229Z
UID:5593-1706400000-1706486399@fujisawa-npo.jp
SUMMARY:第14回 湘南藤沢市民マラソン2024
DESCRIPTION:開催日時：2024/1/28(日) 8:30スタート\nPDF情報No.109916 \n\n10マイル＆親子ラン・チャレンジラン(2.2km)\nさぁ、再会の江の島へ\n湘南藤沢市民マラソンでは、参加するすべての皆様が「また来たい」と思える大会になるよう最高のロケーション、最高のおもてなしでお迎えします。
URL:https://fujisawa-npo.jp/event/%e7%ac%ac14%e5%9b%9e-%e6%b9%98%e5%8d%97%e8%97%a4%e6%b2%a2%e5%b8%82%e6%b0%91%e3%83%9e%e3%83%a9%e3%82%bd%e3%83%b32024
LOCATION:江の島・湘南海岸
CATEGORIES:イベント
ATTACH;FMTTYPE=image/jpeg:https://fujisawa-npo.jp/wp-content/uploads/2023/05/109916-scaled.jpg
END:VEVENT
BEGIN:VEVENT
DTSTART;TZID=Asia/Tokyo:20240127T150000
DTEND;TZID=Asia/Tokyo:20240127T163000
DTSTAMP:20260421T122648
CREATED:20230831T114119Z
LAST-MODIFIED:20230831T114119Z
UID:8765-1706367600-1706373000@fujisawa-npo.jp
SUMMARY:公開マンション管理セミナー＆無料相談会
DESCRIPTION:セミナーの日程・内容：\n1. 9/23(土)「長期修繕計画と大規模修繕工事の進め方について」\n2. 11/25(土)「マンション管理計画認定制度について」\n3. 2024/1/27(土)「管理費、修繕積立金の適正化について」\nPDF情報No.110505 \n\nNPO分譲マンション管理相談センターのマンション管理士が、マンション管理組合の役員、組合員様等を対象に、マンション管理に関するセミナーを開催します。\nその後、個々にお悩みの諸問題に関する無料相談をお受けします。\n※詳細はこちら
URL:https://fujisawa-npo.jp/event/%e5%85%ac%e9%96%8b%e3%83%9e%e3%83%b3%e3%82%b7%e3%83%a7%e3%83%b3%e7%ae%a1%e7%90%86%e3%82%bb%e3%83%9f%e3%83%8a%e3%83%bc%ef%bc%86%e7%84%a1%e6%96%99%e7%9b%b8%e8%ab%87%e4%bc%9a-7
LOCATION:藤沢市市民活動推進センター(アーバンセンター藤沢 2F)\, 藤沢1031\, 藤沢市\, 神奈川県\, 日本
CATEGORIES:イベント,講座
ATTACH;FMTTYPE=image/jpeg:https://fujisawa-npo.jp/wp-content/uploads/2023/08/110505-scaled.jpg
ORGANIZER;CN="NPO%E6%B3%95%E4%BA%BA %E5%88%86%E8%AD%B2%E3%83%9E%E3%83%B3%E3%82%B7%E3%83%A7%E3%83%B3%E7%AE%A1%E7%90%86%E7%9B%B8%E8%AB%87%E3%82%BB%E3%83%B3%E3%82%BF%E3%83%BC":MAILTO:info@bunjyounpo.or.jp
END:VEVENT
BEGIN:VEVENT
DTSTART;TZID=Asia/Tokyo:20240127T130000
DTEND;TZID=Asia/Tokyo:20240127T170000
DTSTAMP:20260421T122648
CREATED:20231031T084011Z
LAST-MODIFIED:20231031T084011Z
UID:10357-1706360400-1706374800@fujisawa-npo.jp
SUMMARY:マンション管理組合 研修交流会・無料相談会
DESCRIPTION:日程：\n◆無料相談会：毎月第4土曜日(12月は12/16) 13:00～15:00\n◆研修交流会(会員無料、一般500円)：\n開催日時：12/16(土) 15:10～17:00\n・講演「マンション管理の現状と今後の動向(2023年総括)」\n開催日時：2024/1/27(土) 15:10～17:00\n・講演「～あなたのマンションは大丈夫～管理不全にならないための管理組合運営について」\n情報No.110873 \n\n湘南マンション管理組合ネットワークでは、マンション管理無料相談会や、マンション管理に役立つ情報提供・管理組合間の情報交換の場として活用して頂けるよう、研修交流会を行っていますので、ご案内いたします。
URL:https://fujisawa-npo.jp/event/%e3%83%9e%e3%83%b3%e3%82%b7%e3%83%a7%e3%83%b3%e7%ae%a1%e7%90%86%e7%b5%84%e5%90%88-%e7%a0%94%e4%bf%ae%e4%ba%a4%e6%b5%81%e4%bc%9a%e3%83%bb%e7%84%a1%e6%96%99%e7%9b%b8%e8%ab%87%e4%bc%9a-6
LOCATION:藤沢市市民活動推進センター(アーバンセンター藤沢 2F)\, 藤沢1031\, 藤沢市\, 神奈川県\, 日本
CATEGORIES:イベント,講座
ATTACH;FMTTYPE=image/jpeg:https://fujisawa-npo.jp/wp-content/uploads/2023/10/110873-scaled.jpg
END:VEVENT
BEGIN:VEVENT
DTSTART;TZID=Asia/Tokyo:20240127T100000
DTEND;TZID=Asia/Tokyo:20240127T120000
DTSTAMP:20260421T122648
CREATED:20231221T140001Z
LAST-MODIFIED:20231221T140001Z
UID:11249-1706349600-1706356800@fujisawa-npo.jp
SUMMARY:団体交流会 申込締切1/13
DESCRIPTION:情報No.111217 \n\n～市民活動を語り合おう～\n団体を運営するにあたり、抱えている悩みや課題を気軽に話し合いませんか。
URL:https://fujisawa-npo.jp/event/%e5%9b%a3%e4%bd%93%e4%ba%a4%e6%b5%81%e4%bc%9a-%e7%94%b3%e8%be%bc%e7%b7%a0%e5%88%871-13
LOCATION:座間市民活動サポートセンター\, 緑ケ丘1-1-1\, 座間市\, 神奈川県\, 日本
CATEGORIES:イベント
ATTACH;FMTTYPE=image/jpeg:https://fujisawa-npo.jp/wp-content/uploads/2023/12/111217-scaled.jpg
ORGANIZER;CN="%E5%BA%A7%E9%96%93%E5%B8%82%E6%B0%91%E6%B4%BB%E5%8B%95%E3%82%B5%E3%83%9D%E3%83%BC%E3%83%88%E3%82%BB%E3%83%B3%E3%82%BF%E3%83%BC":MAILTO:ss-zama@feel.ocn.ne.jp
END:VEVENT
BEGIN:VEVENT
DTSTART;TZID=Asia/Tokyo:20240126T110000
DTEND;TZID=Asia/Tokyo:20240207T170000
DTSTAMP:20260421T122648
CREATED:20240201T115817Z
LAST-MODIFIED:20240201T115817Z
UID:11815-1706266800-1707325200@fujisawa-npo.jp
SUMMARY:山猫屋「世界は猫であふれている」
DESCRIPTION:PDF情報No.111437 \n\n小澤康麿／小澤創磨／桐山暁／河辺花衣／スタジオナナホシ／東マユミ／山中翔之郎\nそばにいるだけで人を幸せな気持ちにしてくれる猫\nそんな幸せな気持ちが世界にあふれたら この世はずっとずっと素嗜らしい世界になると思うのです
URL:https://fujisawa-npo.jp/event/%e5%b1%b1%e7%8c%ab%e5%b1%8b%e3%80%8c%e4%b8%96%e7%95%8c%e3%81%af%e7%8c%ab%e3%81%a7%e3%81%82%e3%81%b5%e3%82%8c%e3%81%a6%e3%81%84%e3%82%8b%e3%80%8d
LOCATION:山猫屋\, 鵠沼海岸3-5-2-B\, 藤沢市\, 神奈川県\, 日本
CATEGORIES:イベント
ATTACH;FMTTYPE=image/jpeg:https://fujisawa-npo.jp/wp-content/uploads/2024/02/111437.jpg
ORGANIZER;CN="%E5%B1%B1%E7%8C%AB%E5%B1%8B":MAILTO:yamaneko-ya@jcom.home.ne.jp
END:VEVENT
BEGIN:VEVENT
DTSTART;TZID=Asia/Tokyo:20240125T100000
DTEND;TZID=Asia/Tokyo:20240125T120000
DTSTAMP:20260421T122648
CREATED:20231221T141818Z
LAST-MODIFIED:20231221T141818Z
UID:11261-1706176800-1706184000@fujisawa-npo.jp
SUMMARY:ほっとカフェ「よってたかって市民活動」
DESCRIPTION:PDF情報No.111223 \n\nおまちどうさま！「ほっとカフェ」復活です。\n久しぶりにお茶を飲みながら、市民活動の楽しさや乗り越えた苦労、ないしよ話も大いに結構。\n新センター長や新センター長補佐に教えてあげてください。何せ二人とも新米なので(*´艸`)ｄ
URL:https://fujisawa-npo.jp/event/%e3%81%bb%e3%81%a3%e3%81%a8%e3%82%ab%e3%83%95%e3%82%a7%e3%80%8c%e3%82%88%e3%81%a3%e3%81%a6%e3%81%9f%e3%81%8b%e3%81%a3%e3%81%a6%e5%b8%82%e6%b0%91%e6%b4%bb%e5%8b%95%e3%80%8d
LOCATION:さがみはら市民活動サポートセンター(けやき会館3階)\, 富士見6-6-23\, 相模原市\, 神奈川県\, 日本
CATEGORIES:イベント
ATTACH;FMTTYPE=image/jpeg:https://fujisawa-npo.jp/wp-content/uploads/2023/12/111223-scaled.jpg
ORGANIZER;CN="%E3%81%95%E3%81%8C%E3%81%BF%E3%81%AF%E3%82%89%E5%B8%82%E6%B0%91%E6%B4%BB%E5%8B%95%E3%82%B5%E3%83%9D%E3%83%BC%E3%83%88%E3%82%BB%E3%83%B3%E3%82%BF%E3%83%BC":MAILTO:sagami.saposen@iris.ocn.ne.jp
END:VEVENT
BEGIN:VEVENT
DTSTART;TZID=Asia/Tokyo:20240124T140000
DTEND;TZID=Asia/Tokyo:20240124T170000
DTSTAMP:20260421T122648
CREATED:20231214T142726Z
LAST-MODIFIED:20231214T143551Z
UID:11102-1706104800-1706115600@fujisawa-npo.jp
SUMMARY:企業・NPO・大学パートナーシップミーティング2022 in 平塚・大磯・二宮 申込締切1/17
DESCRIPTION:PDF情報No.111182 \n\n子育て環境の充実と地域のつながり～今、私たちができること～\n地域や社会の様々な課題解決に向けて、企業・NPO・大学などの多様な主体が、それぞれの強みを生かして連携し、相互に協力しあえるマツチングの機会を提供します。\n今回は、平塚市・大磯町・二宮町の3市町で、子育て支援や地域とのつながり、働き方をテーマに取り組まれている団体の事例をもとに連携・協働を探ります。\n※申し込みはこちら
URL:https://fujisawa-npo.jp/event/%e4%bc%81%e6%a5%ad%e3%83%bbnpo%e3%83%bb%e5%a4%a7%e5%ad%a6%e3%83%91%e3%83%bc%e3%83%88%e3%83%8a%e3%83%bc%e3%82%b7%e3%83%83%e3%83%97%e3%83%9f%e3%83%bc%e3%83%86%e3%82%a3%e3%83%b3%e3%82%b02022-in-%e5%b9%b3
LOCATION:ひらつか市民活動センター\, 見附町1-8\, 平塚市\, 神奈川県\, 日本
CATEGORIES:イベント
ATTACH;FMTTYPE=image/jpeg:https://fujisawa-npo.jp/wp-content/uploads/2023/12/111182-scaled.jpg
ORGANIZER;CN="%E3%81%B2%E3%82%89%E3%81%A4%E3%81%8B%E5%B8%82%E6%B0%91%E6%B4%BB%E5%8B%95%E3%82%BB%E3%83%B3%E3%82%BF%E3%83%BC":MAILTO:info@hiratsuka-shimin.net
END:VEVENT
BEGIN:VEVENT
DTSTART;VALUE=DATE:20240124
DTEND;VALUE=DATE:20240125
DTSTAMP:20260421T122648
CREATED:20240104T083835Z
LAST-MODIFIED:20240104T083835Z
UID:11403-1706054400-1706140799@fujisawa-npo.jp
SUMMARY:子ども・若者の声で未来を変えよう「神奈川県 子ども・若者施策審議会 委員募集」 応募締切1/24
DESCRIPTION:↑：応募締切\n任期：2024/3/1(金)～2年間\nPDF情報No.111261 \n\n神奈川県子ども･若者施策審議会とは…\n未来を担う子ども・若者に向けた政策(子ども・若者施策、子育て施策、貧困対策など)を話し合う会議体です。\n子ども･若者のみなさん、ぜひご意見をお聞かせください。\n※応募資格：令和6年4月1日現在 満18歳以上30歳未満で、県内に在住又は在勤・在学している方\n※詳しくはこちら
URL:https://fujisawa-npo.jp/event/%e5%ad%90%e3%81%a9%e3%82%82%e3%83%bb%e8%8b%a5%e8%80%85%e3%81%ae%e5%a3%b0%e3%81%a7%e6%9c%aa%e6%9d%a5%e3%82%92%e5%a4%89%e3%81%88%e3%82%88%e3%81%86%e3%80%8c%e7%a5%9e%e5%a5%88%e5%b7%9d%e7%9c%8c-%e5%ad%90
CATEGORIES:イベント
ATTACH;FMTTYPE=image/jpeg:https://fujisawa-npo.jp/wp-content/uploads/2024/01/111261-scaled.jpg
END:VEVENT
BEGIN:VEVENT
DTSTART;VALUE=DATE:20240124
DTEND;VALUE=DATE:20240125
DTSTAMP:20260421T122648
CREATED:20240104T083506Z
LAST-MODIFIED:20240104T083506Z
UID:11401-1706054400-1706140799@fujisawa-npo.jp
SUMMARY:子どもの未来を共に考えてませんか「神奈川県 子ども・若者施策審議会 委員募集」 応募締切1/24
DESCRIPTION:↑：応募締切\n任期：2024/3/1(金)～2年間\nPDF情報No.111260 \n\n神奈川県子ども・若者施策審議会とは…\n未来を担う子ども・若者に向けた政策(子ども・若者施策、子育て施策、貧困対策など)を話し合う会議体です。\n子育てに関するご意見を、ぜひお聞かせください。\n※応募資格：令和6年4月1日現在県内に在住又は在勤・在学している方で、子どもを養育している方\n※詳しくはこちら
URL:https://fujisawa-npo.jp/event/%e5%ad%90%e3%81%a9%e3%82%82%e3%81%ae%e6%9c%aa%e6%9d%a5%e3%82%92%e5%85%b1%e3%81%ab%e8%80%83%e3%81%88%e3%81%a6%e3%81%be%e3%81%9b%e3%82%93%e3%81%8b%e3%80%8c%e7%a5%9e%e5%a5%88%e5%b7%9d%e7%9c%8c-%e5%ad%90
CATEGORIES:イベント
ATTACH;FMTTYPE=image/jpeg:https://fujisawa-npo.jp/wp-content/uploads/2024/01/111260-scaled.jpg
END:VEVENT
BEGIN:VEVENT
DTSTART;TZID=Asia/Tokyo:20240122T140000
DTEND;TZID=Asia/Tokyo:20240122T150000
DTSTAMP:20260421T122648
CREATED:20231120T150031Z
LAST-MODIFIED:20231120T150031Z
UID:10819-1705932000-1705935600@fujisawa-npo.jp
SUMMARY:令和5年度 地域防犯ボランティアセミナー「面白防犯講話」 申込締切1/15
DESCRIPTION:PDF情報No.111053 \n\n元知能犯暴力犯担当刑事による落語をおりまぜた面白防犯講話\n特別講演「家族愛・笑顔なき地域は危険がいっぱい」
URL:https://fujisawa-npo.jp/event/%e4%bb%a4%e5%92%8c5%e5%b9%b4%e5%ba%a6-%e5%9c%b0%e5%9f%9f%e9%98%b2%e7%8a%af%e3%83%9c%e3%83%a9%e3%83%b3%e3%83%86%e3%82%a3%e3%82%a2%e3%82%bb%e3%83%9f%e3%83%8a%e3%83%bc%e3%80%8c%e9%9d%a2%e7%99%bd%e9%98%b2
LOCATION:情文ホール(横浜情報文化センター 6階)\, 中区日本大通11\, 横浜市\, 神奈川県\, 日本
CATEGORIES:イベント
ATTACH;FMTTYPE=image/jpeg:https://fujisawa-npo.jp/wp-content/uploads/2023/11/111053-scaled.jpg
END:VEVENT
BEGIN:VEVENT
DTSTART;VALUE=DATE:20240121
DTEND;VALUE=DATE:20240122
DTSTAMP:20260421T122648
CREATED:20230928T103046Z
LAST-MODIFIED:20230928T103046Z
UID:9412-1705795200-1705881599@fujisawa-npo.jp
SUMMARY:オペラ「DON CARLO G.VERDI」
DESCRIPTION:時間：開場 12:45、開演13:30\nチケット：プレミアムシート12000円、SS席6500円、S席5500円、A席4500円、自由席3500円\nPDF情報No.110642 \n\n最も古く、最も新しい、YAMATO版「ドン・カルロ」 日本初の扉が開く！\n「木こりの合唱」「エロサベッタを讃える バレエ」\n「フィリッポの嘆きの歌」たちが 今蘇る！
URL:https://fujisawa-npo.jp/event/%e3%82%aa%e3%83%9a%e3%83%a9%e3%80%8cdon-carlo-g-verdi%e3%80%8d
LOCATION:やまと芸術文化ホール(シリウス 1F)\, 大和南1-8-1\, 大和市\, 神奈川県\, 日本
CATEGORIES:イベント
ATTACH;FMTTYPE=image/jpeg:https://fujisawa-npo.jp/wp-content/uploads/2023/09/110642-scaled.jpg
ORGANIZER;CN="%E3%82%84%E3%81%BE%E3%81%A8%E5%9B%BD%E9%9A%9B%E3%82%AA%E3%83%9A%E3%83%A9%E5%8D%94%E4%BC%9A":MAILTO:info@yioa.net
END:VEVENT
BEGIN:VEVENT
DTSTART;TZID=Asia/Tokyo:20240120T100000
DTEND;TZID=Asia/Tokyo:20240120T120000
DTSTAMP:20260421T122648
CREATED:20240111T142726Z
LAST-MODIFIED:20240111T142726Z
UID:11503-1705744800-1705752000@fujisawa-npo.jp
SUMMARY:ビーチクリーンイベント
DESCRIPTION:集合：鵠沼海岸駅 9:30\n情報No.111309 \n\n1月20日に鵠沼海岸にてビーチクリーンのイベントを開催します！\n当日はビーチクリーンをした後に“アルティメツト”というスポーツを行う予定です！\nビーチクリーンとスポーツで冬の海を楽しみましょう！\n※参加申し込みはこちら\n※LINEオープンチャットはこちら
URL:https://fujisawa-npo.jp/event/%e3%83%93%e3%83%bc%e3%83%81%e3%82%af%e3%83%aa%e3%83%bc%e3%83%b3%e3%82%a4%e3%83%99%e3%83%b3%e3%83%88
CATEGORIES:イベント
ATTACH;FMTTYPE=image/jpeg:https://fujisawa-npo.jp/wp-content/uploads/2024/01/111309-scaled.jpg
END:VEVENT
BEGIN:VEVENT
DTSTART;VALUE=DATE:20240120
DTEND;VALUE=DATE:20240121
DTSTAMP:20260421T122648
CREATED:20240118T114235Z
LAST-MODIFIED:20240118T114306Z
UID:11625-1705708800-1705795199@fujisawa-npo.jp
SUMMARY:こども選挙 こども委員募集中 (ワークショップ)
DESCRIPTION:参加説明会[終了]：2023/12/23(土) 10:00～、2024/1/14(日) 10:00～\nワークショップ：1/20(土) 10:00～、1/28(日) 10:00～\n投票日・投票会場：2/18(日)、会場：①藤沢駅そば ②湘南台駅そば ③辻堂駅そば\nPDF情報No.111363 \n\n藤沢市長選挙の投票日を、みんなが街の未来を考える日に。\nこどもの、\nこどもによる、\nこどものための選挙。\nふじさわこども選挙を実行するため、こども委員を募集いたします。\n◆参加資格\n・小学校４年生～17歳であること。\n・藤沢市在住であること。\n・ワークショップ(藤沢市役所にて開催予定)と投票受付へ参加可能であること。\n◆その他\n日程的に参加は難しいけど、ぜひ市長候補に聞いてみたいことがある場合も、ぜひメッセージをお送りください！\nご不明な点があれば、お気軽にお問い合わせください。
URL:https://fujisawa-npo.jp/event/%e3%81%93%e3%81%a9%e3%82%82%e9%81%b8%e6%8c%99-%e3%81%93%e3%81%a9%e3%82%82%e5%a7%94%e5%93%a1%e5%8b%9f%e9%9b%86%e4%b8%ad-%e3%83%af%e3%83%bc%e3%82%af%e3%82%b7%e3%83%a7%e3%83%83%e3%83%97
LOCATION:藤沢市役所 本庁舎\, 朝日町1-1\, 藤沢市\, 神奈川県\, 日本
CATEGORIES:イベント
ATTACH;FMTTYPE=image/jpeg:https://fujisawa-npo.jp/wp-content/uploads/2024/01/111363-scaled.jpg
ORGANIZER;CN="%E3%81%B5%E3%81%98%E3%81%95%E3%82%8F%E3%81%93%E3%81%A9%E3%82%82%E9%81%B8%E6%8C%99%E3%82%B5%E3%83%9D%E3%83%BC%E3%82%BF%E3%83%BC":MAILTO:kodomosenkyofujisawa@gmail.com
END:VEVENT
END:VCALENDAR