BEGIN:VCALENDAR
VERSION:2.0
PRODID:-//藤沢市市民活動推進センター - ECPv6.15.11//NONSGML v1.0//EN
CALSCALE:GREGORIAN
METHOD:PUBLISH
X-WR-CALNAME:藤沢市市民活動推進センター
X-ORIGINAL-URL:https://fujisawa-npo.jp
X-WR-CALDESC:藤沢市市民活動推進センター のイベント
REFRESH-INTERVAL;VALUE=DURATION:PT1H
X-Robots-Tag:noindex
X-PUBLISHED-TTL:PT1H
BEGIN:VTIMEZONE
TZID:Asia/Tokyo
BEGIN:STANDARD
TZOFFSETFROM:+0900
TZOFFSETTO:+0900
TZNAME:JST
DTSTART:20220101T000000
END:STANDARD
END:VTIMEZONE
BEGIN:VEVENT
DTSTART;TZID=Asia/Tokyo:20231216T130000
DTEND;TZID=Asia/Tokyo:20231216T170000
DTSTAMP:20260422T023011
CREATED:20231031T083631Z
LAST-MODIFIED:20231031T084253Z
UID:10354-1702731600-1702746000@fujisawa-npo.jp
SUMMARY:マンション管理組合 研修交流会・無料相談会
DESCRIPTION:日程：\n◆無料相談会：毎月第4土曜日(12月は12/16) 13:00～15:00\n◆研修交流会(会員無料、一般500円)：\n開催日時：12/16(土) 15:10～17:00\n・講演「マンション管理の現状と今後の動向(2023年総括)」\n開催日時：2024/1/27(土) 15:10～17:00\n・講演「～あなたのマンションは大丈夫～管理不全にならないための管理組合運営について」\n情報No.110873 \n\n湘南マンション管理組合ネットワークでは、マンション管理無料相談会や、マンション管理に役立つ情報提供・管理組合間の情報交換の場として活用して頂けるよう、研修交流会を行っていますので、ご案内いたします。
URL:https://fujisawa-npo.jp/event/%e3%83%9e%e3%83%b3%e3%82%b7%e3%83%a7%e3%83%b3%e7%ae%a1%e7%90%86%e7%b5%84%e5%90%88-%e7%a0%94%e4%bf%ae%e4%ba%a4%e6%b5%81%e4%bc%9a%e3%83%bb%e7%84%a1%e6%96%99%e7%9b%b8%e8%ab%87%e4%bc%9a-5
LOCATION:藤沢市市民活動推進センター(アーバンセンター藤沢 2F)\, 藤沢1031\, 藤沢市\, 神奈川県\, 日本
CATEGORIES:イベント,講座
ATTACH;FMTTYPE=image/jpeg:https://fujisawa-npo.jp/wp-content/uploads/2023/10/110873-scaled.jpg
END:VEVENT
BEGIN:VEVENT
DTSTART;TZID=Asia/Tokyo:20231216T120000
DTEND;TZID=Asia/Tokyo:20231216T170000
DTSTAMP:20260422T023011
CREATED:20231201T011043Z
LAST-MODIFIED:20231201T011043Z
UID:10929-1702728000-1702746000@fujisawa-npo.jp
SUMMARY:パレスチナガザの写真家たちの写真展
DESCRIPTION:日程：12/16(土)12:00～17:00、12/21(木)10:00～15:00\n【主催】NPO法人 アースキャラバン、NPO法人 気候危機対策ネットワーク\nPDF情報No.111089 \n\n戦争？いいえ、ずっと前から、、パレスチナでは非人道的な地獄のような日常が続いています。\nしかしそんな中で、私だちと変わらない日常を暮らしている人々がいます。\nマスメディアでは伝えられない本当のパレスチナの現状を観に来ませんか？
URL:https://fujisawa-npo.jp/event/%e3%83%91%e3%83%ac%e3%82%b9%e3%83%81%e3%83%8a%e3%82%ac%e3%82%b6%e3%81%ae%e5%86%99%e7%9c%9f%e5%ae%b6%e3%81%9f%e3%81%a1%e3%81%ae%e5%86%99%e7%9c%9f%e5%b1%95
LOCATION:エコストアパパラギ\, 鵠沼石上1-3-6\, 藤沢市\, 神奈川県\, 日本
CATEGORIES:イベント
ATTACH;FMTTYPE=image/jpeg:https://fujisawa-npo.jp/wp-content/uploads/2023/12/111089-scaled.jpg
ORGANIZER;CN="%E3%82%A8%E3%82%B3%E3%82%B9%E3%83%88%E3%82%A2%E3%83%91%E3%83%91%E3%83%A9%E3%82%AE":MAILTO:fujisawa@eco-papa.com
END:VEVENT
BEGIN:VEVENT
DTSTART;TZID=Asia/Tokyo:20231216T100000
DTEND;TZID=Asia/Tokyo:20231216T123000
DTSTAMP:20260422T023011
CREATED:20231110T044443Z
LAST-MODIFIED:20231110T044443Z
UID:10670-1702720800-1702729800@fujisawa-npo.jp
SUMMARY:対話型アート鑑賞「見えなかったものは見えてくる！？」
DESCRIPTION:PDF情報No.110986 \n\n対話型アート鑑賞を体験してみませんか。\n思ったことや感じたことを自由に言葉にしながら、グループで1枚の絵を鑑賞するワークショップです。\nアートの知識は不要。発見に満ちた絵画鑑賞を楽しみましょう！\n※詳しくはこちら
URL:https://fujisawa-npo.jp/event/%e5%af%be%e8%a9%b1%e5%9e%8b%e3%82%a2%e3%83%bc%e3%83%88%e9%91%91%e8%b3%9e%e3%80%8c%e8%a6%8b%e3%81%88%e3%81%aa%e3%81%8b%e3%81%a3%e3%81%9f%e3%82%82%e3%81%ae%e3%81%af%e8%a6%8b%e3%81%88%e3%81%a6%e3%81%8f
LOCATION:逗子文化プラザ 市民交流センター\, 逗子4-2-11\, 逗子市\, 神奈川県\, 日本
CATEGORIES:イベント
ATTACH;FMTTYPE=image/jpeg:https://fujisawa-npo.jp/wp-content/uploads/2023/11/110986-scaled.jpg
ORGANIZER;CN="%E9%80%97%E5%AD%90%E6%96%87%E5%8C%96%E3%83%97%E3%83%A9%E3%82%B6%E5%B8%82%E6%B0%91%E4%BA%A4%E6%B5%81%E3%82%BB%E3%83%B3%E3%82%BF%E3%83%BC":MAILTO:ac-center@zushi-psc.org
END:VEVENT
BEGIN:VEVENT
DTSTART;VALUE=DATE:20231216
DTEND;VALUE=DATE:20231217
DTSTAMP:20260422T023011
CREATED:20230915T045100Z
LAST-MODIFIED:20230915T045442Z
UID:9154-1702684800-1702771199@fujisawa-npo.jp
SUMMARY:ビバ！パーカッション
DESCRIPTION:時間：10:30開場、11:00開演\nチケット：おとな(中学生以上)前売り1500円・当日1800円、こども(0才から小学生)前売り500円・当日800円\nPDF情報No.110592 \n\n打楽器のリズムが始まれば、みんな体が動き出す！\nマリンバ、ヴィブラフォン、スネアドラム、トライアングルなどの打楽器による生の音楽を目で見て体で感じるコンサートをお届けします♪\n入退場自由、途中で泣いてしまっても大丈夫!ぜひご家族でお楽しみください。
URL:https://fujisawa-npo.jp/event/%e3%83%93%e3%83%90%ef%bc%81%e3%83%91%e3%83%bc%e3%82%ab%e3%83%83%e3%82%b7%e3%83%a7%e3%83%b3
LOCATION:逗子文化プラザ なぎさホール\, 逗子4-2-10\, 逗子市\, 神奈川県\, 日本
CATEGORIES:イベント
ATTACH;FMTTYPE=image/jpeg:https://fujisawa-npo.jp/wp-content/uploads/2023/09/110592.jpg
END:VEVENT
BEGIN:VEVENT
DTSTART;VALUE=DATE:20231216
DTEND;VALUE=DATE:20231217
DTSTAMP:20260422T023011
CREATED:20230515T143343Z
LAST-MODIFIED:20230527T005159Z
UID:5242-1702684800-1702771199@fujisawa-npo.jp
SUMMARY:2023年田畑の楽校
DESCRIPTION:PDF情報No.109890 \n\n援農体験で「食」の産地を見てみよう！\n・ぶどうの丘 田畑の楽校(山梨県山梨市)\n・北信りんごの里 田畑の楽校(長野県長野市)\n・南伊勢のみかん 田畑の楽校(三重県南伊勢市)\n※詳しくはチラシまたはこちらをご覧ください\n※チラシ裏面に森林の楽校のご案内がありますのでご覧ください
URL:https://fujisawa-npo.jp/event/2023%e5%b9%b4%e7%94%b0%e7%95%91%e3%81%ae%e6%a5%bd%e6%a0%a1-4
CATEGORIES:イベント
ATTACH;FMTTYPE=image/jpeg:https://fujisawa-npo.jp/wp-content/uploads/2023/05/109890-scaled.jpg
ORGANIZER;CN="%E8%AA%8D%E5%AE%9ANPO%E6%B3%95%E4%BA%BA JUON NETWORK(%E6%A8%B9%E6%81%A9%E3%83%8D%E3%83%83%E3%83%88%E3%83%AF%E3%83%BC%E3%82%AF)":MAILTO:juon-office@univcoop.or.jp
END:VEVENT
BEGIN:VEVENT
DTSTART;VALUE=DATE:20231215
DTEND;VALUE=DATE:20231216
DTSTAMP:20260422T023011
CREATED:20231026T103755Z
LAST-MODIFIED:20231026T103755Z
UID:10272-1702598400-1702684799@fujisawa-npo.jp
SUMMARY:NPO×企業×大学のコラボ会議 申込締切12/15
DESCRIPTION:↑：申込締切\n開催日時：2024/1/14(日) 13:00～16:30\nPDF情報No.110853 \n\n1部：基調講演「SDGsでつながろう」\n2部：NPO×企業×大学の連携事例紹介\n3部：つながろう会 グループワーク\n※申し込みフォームはこちら
URL:https://fujisawa-npo.jp/event/npox%e4%bc%81%e6%a5%adx%e5%a4%a7%e5%ad%a6%e3%81%ae%e3%82%b3%e3%83%a9%e3%83%9c%e4%bc%9a%e8%ad%b0-%e7%94%b3%e8%be%bc%e7%b7%a0%e5%88%8712-15
LOCATION:ユニコムプラザさがみはら(Bono 相模大野サウスモール3階)\, 南区相模大野3-3-2\, 相模原市\, 神奈川県\, 日本
CATEGORIES:イベント,講座
ATTACH;FMTTYPE=image/jpeg:https://fujisawa-npo.jp/wp-content/uploads/2023/10/110853-scaled.jpg
ORGANIZER;CN="%E3%81%95%E3%81%8C%E3%81%BF%E3%81%AF%E3%82%89%E5%B8%82%E6%B0%91%E6%B4%BB%E5%8B%95%E3%82%B5%E3%83%9D%E3%83%BC%E3%83%88%E3%82%BB%E3%83%B3%E3%82%BF%E3%83%BC":MAILTO:sagami.saposen@iris.ocn.ne.jp
END:VEVENT
BEGIN:VEVENT
DTSTART;TZID=Asia/Tokyo:20231214T123000
DTEND;TZID=Asia/Tokyo:20231214T160000
DTSTAMP:20260422T023011
CREATED:20231120T123120Z
LAST-MODIFIED:20231120T123120Z
UID:10794-1702557000-1702569600@fujisawa-npo.jp
SUMMARY:福祉のしごと「地域就職相談会 in 藤沢」
DESCRIPTION:PDF情報No.111023 \n\n◆就職支援ガイダンス(12:30～13:20)\n福祉の事業所で働く職員とかながわ福祉人材センターのキャリア支援専門員が、仕事のやりがい、魅力、働き方など福祉の仕事についてお話しします。\n就職支援ガイダンスで施設職員のお話を聞いて就職相談会に行つてみませんか。\n◆福祉施設等就職相談会(13:30～16:00)\n法人の担当者に職場環境、労働条件などを聞くことができます。\n無資格･未経験の方の参加も大歓迎！運営法人の違いをよく知るチャンスです。
URL:https://fujisawa-npo.jp/event/%e7%a6%8f%e7%a5%89%e3%81%ae%e3%81%97%e3%81%94%e3%81%a8%e3%80%8c%e5%9c%b0%e5%9f%9f%e5%b0%b1%e8%81%b7%e7%9b%b8%e8%ab%87%e4%bc%9a-in-%e8%97%a4%e6%b2%a2%e3%80%8d
LOCATION:藤沢商工会館ミナパーク\, 藤沢607-1\, 藤沢市\, 神奈川県\, 日本
CATEGORIES:イベント
ATTACH;FMTTYPE=image/jpeg:https://fujisawa-npo.jp/wp-content/uploads/2023/11/111023-scaled.jpg
END:VEVENT
BEGIN:VEVENT
DTSTART;VALUE=DATE:20231210
DTEND;VALUE=DATE:20231211
DTSTAMP:20260422T023011
CREATED:20231120T141414Z
LAST-MODIFIED:20231120T141414Z
UID:10815-1702166400-1702252799@fujisawa-npo.jp
SUMMARY:第11回公演「Dear my friends」公演参加者募集説明会
DESCRIPTION:日程(説明会は各日・各会場ともに同一内容)：\n・説明会(藤沢市民会館)：12/10(日) 9:30～、12/24(日) 14:00～\n・説明会(六会公民館)：12/17(日) ①10:00～ ②13:30～\n・体験レッスン・募集開始：2024/1月～\n・公演当日：2024/8/25(日)\nPDF情報No.111049 \n\nDear my friends あらすじ：\n「人の気持ち」が判らず試験に落第した落ちこぼれ魔女メアリ一は修行の為に人間界へ。\nそこで同い年の感情豊かなマリーと友達になるが ある晩、謎の怪盗団によって秘宝「クリスタルエッグ」が盗まれてしまう。\n追いかけるメアリ一達に次々とトラブルが降り注ぐ中メアリーは魔法だけでは解決できないこと\nさらに友達に気持ちに寄り添うことで、ゆっくりと豊かな感情が芽生えていく。\nふじさわ市民ミュージカルが送るファンタジーミュージカル。
URL:https://fujisawa-npo.jp/event/%e7%ac%ac11%e5%9b%9e%e5%85%ac%e6%bc%94%e3%80%8cdear-my-friends%e3%80%8d%e5%85%ac%e6%bc%94%e5%8f%82%e5%8a%a0%e8%80%85%e5%8b%9f%e9%9b%86%e8%aa%ac%e6%98%8e%e4%bc%9a
CATEGORIES:イベント
ATTACH;FMTTYPE=image/jpeg:https://fujisawa-npo.jp/wp-content/uploads/2023/11/111049-scaled.jpg
ORGANIZER;CN="%E3%81%B5%E3%81%98%E3%81%95%E3%82%8F%E5%B8%82%E6%B0%91%E3%83%9F%E3%83%A5%E3%83%BC%E3%82%B8%E3%82%AB%E3%83%AB%E5%AE%9F%E8%A1%8C%E5%A7%94%E5%93%A1%E4%BC%9A":MAILTO:fcm2014@ezweb.ne.jp
END:VEVENT
BEGIN:VEVENT
DTSTART;VALUE=DATE:20231210
DTEND;VALUE=DATE:20231211
DTSTAMP:20260422T023011
CREATED:20231120T123358Z
LAST-MODIFIED:20231120T123358Z
UID:10796-1702166400-1702252799@fujisawa-npo.jp
SUMMARY:第36回 藤沢市伝統芸能発表会
DESCRIPTION:時間：開演 10:30\n情報No.111034 \n\n第1部・第2部：参加団体競演\nフィナーレ：三曲協会「北海民謡調」\n※呈茶席(抹茶と御菓子・100円) 第二展示集会ホール 11:00～14:30
URL:https://fujisawa-npo.jp/event/%e7%ac%ac36%e5%9b%9e-%e8%97%a4%e6%b2%a2%e5%b8%82%e4%bc%9d%e7%b5%b1%e8%8a%b8%e8%83%bd%e7%99%ba%e8%a1%a8%e4%bc%9a
LOCATION:藤沢市民会館\, 251-0026
CATEGORIES:イベント
ATTACH;FMTTYPE=image/jpeg:https://fujisawa-npo.jp/wp-content/uploads/2023/11/111034-scaled.jpg
END:VEVENT
BEGIN:VEVENT
DTSTART;TZID=Asia/Tokyo:20231209T123000
DTEND;TZID=Asia/Tokyo:20231209T143000
DTSTAMP:20260422T023011
CREATED:20231019T153728Z
LAST-MODIFIED:20231019T153728Z
UID:10093-1702125000-1702132200@fujisawa-npo.jp
SUMMARY:自転車「キープレフトプレート」をつくろう！
DESCRIPTION:日程：11/4(土)、12/9(土)\n情報No.110835 \n\n子供たちに、楽しく自転車の左側通行を知ってもらうためのワークショップです。\nデザインされたKEEP LEFTの台紙に絵を描いたり ぬり絵をしたりして、仕上げにラミネート加工し、自転車のカゴに付けられるようにします。
URL:https://fujisawa-npo.jp/event/%e8%87%aa%e8%bb%a2%e8%bb%8a%e3%80%8c%e3%82%ad%e3%83%bc%e3%83%97%e3%83%ac%e3%83%95%e3%83%88%e3%83%97%e3%83%ac%e3%83%bc%e3%83%88%e3%80%8d%e3%82%92%e3%81%a4%e3%81%8f%e3%82%8d%e3%81%86%ef%bc%81-4
LOCATION:辻堂海浜交通公園 レクチャールーム\, 辻堂西海岸3-2\, 藤沢市\, 神奈川県\, 日本
CATEGORIES:イベント
ATTACH;FMTTYPE=image/jpeg:https://fujisawa-npo.jp/wp-content/uploads/2023/10/110835-scaled.jpg
ORGANIZER;CN="KEEP%E3%80%80LEFT%E3%80%80PROJECT":MAILTO:plate@aloha-chigasaki.jp
END:VEVENT
BEGIN:VEVENT
DTSTART;TZID=Asia/Tokyo:20231209T103000
DTEND;TZID=Asia/Tokyo:20231209T123000
DTSTAMP:20260422T023011
CREATED:20231013T034958Z
LAST-MODIFIED:20231013T034958Z
UID:9955-1702117800-1702125000@fujisawa-npo.jp
SUMMARY:2024年度 派遣 コーディネーター募集(東京説明会)
DESCRIPTION:オンライン説明会日程：①11/8(水) ②11/16(木) ③12/16(土)\n時間：①②：19:00～20:00 ③11:00～12:00\n東京説明会日程：12/9(土)10:30～12:30\n応募締切：2024/1/9(火)\n派遣期間：2024年8月～2026年7月\nPDF情報No.110790 \n\nふれる。つながる。世界にひろがる。\n日米草の根交流コーディネーター派遣\nJOIプログラムでは､米国で2年間､日本の幅広い文化を地域の人々に紹介する草の根交流コーディネーターを派遣しています。\n日本文化を海外に発信したい、英語で日本を説明したい、そんなあなたの思いを実現する機会を提供します。\n※説明会の申し込みはこちら\n※最新情報(Facebook)はこちら
URL:https://fujisawa-npo.jp/event/2024%e5%b9%b4%e5%ba%a6-%e6%b4%be%e9%81%a3-%e3%82%b3%e3%83%bc%e3%83%87%e3%82%a3%e3%83%8d%e3%83%bc%e3%82%bf%e3%83%bc%e5%8b%9f%e9%9b%86%e6%9d%b1%e4%ba%ac%e8%aa%ac%e6%98%8e%e4%bc%9a
LOCATION:国際交流基金本部(四谷クルーゼ 1F～3F)\, 四谷1-6-4\, 新宿区\, 東京都\, 日本
CATEGORIES:イベント
ATTACH;FMTTYPE=image/jpeg:https://fujisawa-npo.jp/wp-content/uploads/2023/10/110790-scaled.jpg
ORGANIZER;CN="%E3%83%AD%E3%83%BC%E3%83%A9%E3%82%B7%E3%82%A2%E3%83%B3%E5%8D%94%E4%BC%9A%E6%9D%B1%E4%BA%AC%E4%BA%8B%E5%8B%99%E5%B1%80":MAILTO:joi@laurasian.org
END:VEVENT
BEGIN:VEVENT
DTSTART;VALUE=DATE:20231209
DTEND;VALUE=DATE:20231210
DTSTAMP:20260422T023011
CREATED:20231108T083942Z
LAST-MODIFIED:20231108T083942Z
UID:10592-1702080000-1702166399@fujisawa-npo.jp
SUMMARY:第18回 藤沢日本舞踊協会・研鑽会
DESCRIPTION:時間；開場10:45、開演11:15\n共催：(公財)藤沢市みらい創造財団\n後援：藤沢市文化団体連合会\nPDF情報No.110949 \n\n※詳しくはPDFをご覧ください
URL:https://fujisawa-npo.jp/event/%e7%ac%ac18%e5%9b%9e-%e8%97%a4%e6%b2%a2%e6%97%a5%e6%9c%ac%e8%88%9e%e8%b8%8a%e5%8d%94%e4%bc%9a%e3%83%bb%e7%a0%94%e9%91%bd%e4%bc%9a
LOCATION:藤沢市民会館\, 251-0026
CATEGORIES:イベント
ATTACH;FMTTYPE=image/jpeg:https://fujisawa-npo.jp/wp-content/uploads/2023/11/110949-scaled.jpg
END:VEVENT
BEGIN:VEVENT
DTSTART;VALUE=DATE:20231209
DTEND;VALUE=DATE:20231210
DTSTAMP:20260422T023011
CREATED:20230911T152727Z
LAST-MODIFIED:20230911T152727Z
UID:9024-1702080000-1702166399@fujisawa-npo.jp
SUMMARY:WE21ジャパン「古本募金」
DESCRIPTION:↑に拘わらず随時受付中\nPDF情報No.110601 \n\nつなぐ書店の「古本募金」制度を利用し、不要になった古本やDVDなどをお送りいただくことで、大切な資源のリユースになると同時に、WE21ジャパンへのご寄付になります。\nいただいたご寄付は、WE21ジャパンのリユース・リサイクル活動や民際協力活動に大切に活用させていただきます。\n※詳しくはPDFをご覧ください\n※お申込みはこちら
URL:https://fujisawa-npo.jp/event/we21%e3%82%b8%e3%83%a3%e3%83%91%e3%83%b3%e3%80%8c%e5%8f%a4%e6%9c%ac%e5%8b%9f%e9%87%91%e3%80%8d-2
CATEGORIES:イベント
ATTACH;FMTTYPE=image/jpeg:https://fujisawa-npo.jp/wp-content/uploads/2023/09/110601-scaled.jpg
END:VEVENT
BEGIN:VEVENT
DTSTART;TZID=Asia/Tokyo:20231208T120000
DTEND;TZID=Asia/Tokyo:20231208T130000
DTSTAMP:20260422T023011
CREATED:20231123T132914Z
LAST-MODIFIED:20231123T132914Z
UID:10861-1702036800-1702040400@fujisawa-npo.jp
SUMMARY:ふじさわ・不戦のちかい 平和行動
DESCRIPTION:情報No.111065 \n\n子どもたちに「戦争をしない国」を手渡したい\n★市民と議員で不戦のちかいを訴え、平和を歌おう★
URL:https://fujisawa-npo.jp/event/%e3%81%b5%e3%81%98%e3%81%95%e3%82%8f%e3%83%bb%e4%b8%8d%e6%88%a6%e3%81%ae%e3%81%a1%e3%81%8b%e3%81%84-%e5%b9%b3%e5%92%8c%e8%a1%8c%e5%8b%95-2
LOCATION:藤沢駅前 サンパール広場
CATEGORIES:イベント
ATTACH;FMTTYPE=image/jpeg:https://fujisawa-npo.jp/wp-content/uploads/2023/11/111065-scaled.jpg
END:VEVENT
BEGIN:VEVENT
DTSTART;VALUE=DATE:20231208
DTEND;VALUE=DATE:20231209
DTSTAMP:20260422T023011
CREATED:20231109T083853Z
LAST-MODIFIED:20231109T083853Z
UID:10530-1701993600-1702079999@fujisawa-npo.jp
SUMMARY:湘南トレッキングクラブ 2023年12月
DESCRIPTION:参加費：会員無料、他協会会員300円、一般500円\nPDF情報No.110929 \n\n・県内随一紅葉スポット 都筑公園トレッキング\nとき：12/8(金)\n集合：横浜市営地下鉄・中川駅 9:00\n・東京最後の紅葉 高尾山トレッキング\nとき：12/13(水)\n集合：京王線・高尾山口駅 8:30\n・一年のお疲れ様 芋煮会トレッキング\nとき：12/19(火)\n集合：神奈中バス・大倉バス停 9:00
URL:https://fujisawa-npo.jp/event/%e6%b9%98%e5%8d%97%e3%83%88%e3%83%ac%e3%83%83%e3%82%ad%e3%83%b3%e3%82%b0%e3%82%af%e3%83%a9%e3%83%96-2023%e5%b9%b412%e6%9c%88
CATEGORIES:イベント
ATTACH;FMTTYPE=image/jpeg:https://fujisawa-npo.jp/wp-content/uploads/2023/11/110929-scaled.jpg
END:VEVENT
BEGIN:VEVENT
DTSTART;VALUE=DATE:20231207
DTEND;VALUE=DATE:20231208
DTSTAMP:20260422T023011
CREATED:20231024T124720Z
LAST-MODIFIED:20231024T124720Z
UID:10204-1701907200-1701993599@fujisawa-npo.jp
SUMMARY:市民活動・NPO相談会
DESCRIPTION:↑は月の一番最初に開催する日を示す\n会場・日程：\n1. ソレイユさがみ(第2･第4水曜)\n2. 森のイノベーションラボFUJINO(第3水曜)\n3. さがみはら市民活動サポートセンター(毎週水曜日)\n4. ユニコムプラザさがみはら(第2･第4土曜)\n時間(予約制)：各日とも①13:00～ ②14:00～ ③15:00～\n申込締切：相談日の7日前\nPDF情報No.110854 \n\n「ボランティアをしたい」「地域の課題は自分たちが解決しよう」「仲間と活動していますが、もう少し組織化したい」「手弁当だけでは続きそうもない」こんな悩みはありませんか？\n相模原市内はもちろん、県内の市民活動、NPO、ボランティアなどに精通している経験豊富なアドバイザーが相談対応します。\nまずは、メールまたは電話でご予約ください。\n※申込用紙はこちら
URL:https://fujisawa-npo.jp/event/%e5%b8%82%e6%b0%91%e6%b4%bb%e5%8b%95%e3%83%bbnpo%e7%9b%b8%e8%ab%87%e4%bc%9a-7
LOCATION:さがみはら市民活動サポートセンター(けやき会館3階)\, 富士見6-6-23\, 相模原市\, 神奈川県\, 日本
CATEGORIES:イベント
ATTACH;FMTTYPE=image/jpeg:https://fujisawa-npo.jp/wp-content/uploads/2023/10/110854-scaled.jpg
ORGANIZER;CN="%E3%81%95%E3%81%8C%E3%81%BF%E3%81%AF%E3%82%89%E5%B8%82%E6%B0%91%E6%B4%BB%E5%8B%95%E3%82%B5%E3%83%9D%E3%83%BC%E3%83%88%E3%82%BB%E3%83%B3%E3%82%BF%E3%83%BC":MAILTO:sagami.saposen@iris.ocn.ne.jp
END:VEVENT
BEGIN:VEVENT
DTSTART;TZID=Asia/Tokyo:20231206T110000
DTEND;TZID=Asia/Tokyo:20231210T160000
DTSTAMP:20260422T023011
CREATED:20231114T060242Z
LAST-MODIFIED:20231114T060242Z
UID:10716-1701860400-1702224000@fujisawa-npo.jp
SUMMARY:湘南藤沢文化ネットワーク 蔵まえと共に12年の歩み
DESCRIPTION:情報No.111007 \n\n・昭和の道具展・パネル展示・ビデオ放映\n・レコードかふぇ「さよなら蔵まえ・ジャズ名演集」12/7(木) 14:00～15:45
URL:https://fujisawa-npo.jp/event/%e6%b9%98%e5%8d%97%e8%97%a4%e6%b2%a2%e6%96%87%e5%8c%96%e3%83%8d%e3%83%83%e3%83%88%e3%83%af%e3%83%bc%e3%82%af-%e8%94%b5%e3%81%be%e3%81%88%e3%81%a8%e5%85%b1%e3%81%ab12%e5%b9%b4%e3%81%ae%e6%ad%a9
LOCATION:蔵まえギャラリー\, 藤沢630-1\, 藤沢市\, 神奈川県\, 日本
CATEGORIES:イベント
ATTACH;FMTTYPE=image/jpeg:https://fujisawa-npo.jp/wp-content/uploads/2023/11/111007-scaled.jpg
END:VEVENT
BEGIN:VEVENT
DTSTART;TZID=Asia/Tokyo:20231204T090000
DTEND;TZID=Asia/Tokyo:20231209T170000
DTSTAMP:20260422T023011
CREATED:20231110T015529Z
LAST-MODIFIED:20231110T015529Z
UID:10665-1701680400-1702141200@fujisawa-npo.jp
SUMMARY:とつかの地域活動とあなたを結ぶ活動紹介展
DESCRIPTION:第1期：11/21(火)～12/3(日)、会場：戸塚総合庁舎 3階 区民広場\n第2期：12/4(月)～12/9(土)、会場：戸塚図書館 入口横(戸塚センター 1階ロビー)\n第2期：2024/1/17(水)～1/26(金)、会場：西武東戸塚S.C. 7階 連絡通路(ファーストブリッジ)\n【主催】とつか区民活動センター、戸塚区役所\nPDF情報No.110977 \n\n3つの会場で、戸塚区内・近隣の市民活動・ボランティア活動・生涯学習活動をチラシ展で紹介します。\n「何か始めたい人」と「地域活動」の出会いの場です。\n様々な分野の46団体が大集合！\n地域活動を始めたい、興味・関心がある方のご来場をお待ちしています。\n※詳しくはこちら
URL:https://fujisawa-npo.jp/event/%e3%81%a8%e3%81%a4%e3%81%8b%e3%81%ae%e5%9c%b0%e5%9f%9f%e6%b4%bb%e5%8b%95%e3%81%a8%e3%81%82%e3%81%aa%e3%81%9f%e3%82%92%e7%b5%90%e3%81%b6%e6%b4%bb%e5%8b%95%e7%b4%b9%e4%bb%8b%e5%b1%95-2
LOCATION:横浜市立戸塚図書館(戸塚センター)\, 戸塚区戸塚町127\, 横浜市\, 神奈川県\, 日本
CATEGORIES:イベント
ATTACH;FMTTYPE=image/jpeg:https://fujisawa-npo.jp/wp-content/uploads/2023/11/110977-scaled.jpg
END:VEVENT
BEGIN:VEVENT
DTSTART;VALUE=DATE:20231204
DTEND;VALUE=DATE:20240401
DTSTAMP:20260422T023011
CREATED:20231103T045151Z
LAST-MODIFIED:20231220T022118Z
UID:10441-1701648000-1711929599@fujisawa-npo.jp
SUMMARY:水・福 連携希望・相談募集中！
DESCRIPTION:↑に拘わりなく随時募集\n情報No.110925 \n\n神奈川県では、人手を求める水産業の方と、就労したいけれどなかなか活躍の場を見出せない福祉人材の方のマッチングを支援する事業に取り組んでいます。\n水産業者、障害福祉サービス事業所など、マッチングを希望される方はお気軽にご相談ください！\n※県へのメールはこちら\n※詳しくはこちら
URL:https://fujisawa-npo.jp/event/%e6%b0%b4%e3%83%bb%e7%a6%8f-%e9%80%a3%e6%90%ba%e5%b8%8c%e6%9c%9b%e3%83%bb%e7%9b%b8%e8%ab%87%e5%8b%9f%e9%9b%86%e4%b8%ad%ef%bc%81-2
CATEGORIES:イベント
ATTACH;FMTTYPE=image/jpeg:https://fujisawa-npo.jp/wp-content/uploads/2023/11/110925-scaled.jpg
END:VEVENT
BEGIN:VEVENT
DTSTART;VALUE=DATE:20231204
DTEND;VALUE=DATE:20231205
DTSTAMP:20260422T023011
CREATED:20231108T093139Z
LAST-MODIFIED:20231108T093139Z
UID:10611-1701648000-1701734399@fujisawa-npo.jp
SUMMARY:「現代語 安居院義道」を出版しますクラウドファンディングをご支援ください。
DESCRIPTION:↑に拘わらず、随時受付中\n情報No.110972 \n\n「報徳開拓者　安居院義道」は鷲山恭平氏が昭和28年(70年前)大日本報徳社から発行した本です。\n今回、「報徳の師父」シリーズ第３集として本書の現代語訳を出版するに当って支援を求めます。\n出版した本は支援者に返礼品とするとともに、報徳の師父シリーズを蔵書とする大学図書館、静岡県内公共図書館に寄贈します。\n※クラウドファンディングはこちら
URL:https://fujisawa-npo.jp/event/%e3%80%8c%e7%8f%be%e4%bb%a3%e8%aa%9e-%e5%ae%89%e5%b1%85%e9%99%a2%e7%be%a9%e9%81%93%e3%80%8d%e3%82%92%e5%87%ba%e7%89%88%e3%81%97%e3%81%be%e3%81%99%e3%82%af%e3%83%a9%e3%82%a6%e3%83%89%e3%83%95-2
CATEGORIES:イベント
ATTACH;FMTTYPE=image/jpeg:https://fujisawa-npo.jp/wp-content/uploads/2023/11/110972-scaled.jpg
ORGANIZER;CN="%E4%BA%8C%E5%AE%AE%E5%B0%8A%E5%BE%B3%E3%81%AE%E4%BC%9A":MAILTO:jinyidefu@gmail.com
END:VEVENT
BEGIN:VEVENT
DTSTART;TZID=Asia/Tokyo:20231203T140000
DTEND;TZID=Asia/Tokyo:20231203T150000
DTSTAMP:20260422T023011
CREATED:20231102T121841Z
LAST-MODIFIED:20231102T121841Z
UID:10409-1701612000-1701615600@fujisawa-npo.jp
SUMMARY:ミュージックドロップ vol.51
DESCRIPTION:※事前申込制\n情報No.110912 \n\n・影絵紙芝居「星の王子」\n・フルート＆バイオリンによるミニコンサート
URL:https://fujisawa-npo.jp/event/%e3%83%9f%e3%83%a5%e3%83%bc%e3%82%b8%e3%83%83%e3%82%af%e3%83%89%e3%83%ad%e3%83%83%e3%83%97-vol-51
LOCATION:SAKAESTA(本郷地区センター)\, 栄区小菅ケ谷1-5-4\, 横浜市\, 神奈川県\, 日本
CATEGORIES:イベント
ATTACH;FMTTYPE=image/jpeg:https://fujisawa-npo.jp/wp-content/uploads/2023/11/110912-scaled.jpg
ORGANIZER;CN="%E3%81%8A%E3%81%A8%E5%B7%A5%E6%88%BF%E3%81%BD%E3%82%8A%E3%81%BE":MAILTO:2008porima@gmail.com
END:VEVENT
BEGIN:VEVENT
DTSTART;TZID=Asia/Tokyo:20231203T100000
DTEND;TZID=Asia/Tokyo:20231203T160000
DTSTAMP:20260422T023011
CREATED:20231120T122759Z
LAST-MODIFIED:20231120T122759Z
UID:10792-1701597600-1701619200@fujisawa-npo.jp
SUMMARY:NPO法人優タウン設立イベント
DESCRIPTION:PDF情報No.111022 \n\nどんな子どもにも優しいまち“優タウン”\nNPO法人優タウン設立オープニングイベントです。\n不登校をきっかけに、たくさんの当たり前を見直した当事者や保護者がそれぞれの価値観で想いを語ります。\n学び方は、子どもの数だけあっていい。\nこのイベントから感じた皆さん自身の想いも大切に持って帰っていただきたいです。\nこのイベントが誰かの小さな一歩になりますように。\n※午前の部 参加申し込みフォームはこちら
URL:https://fujisawa-npo.jp/event/npo%e6%b3%95%e4%ba%ba%e5%84%aa%e3%82%bf%e3%82%a6%e3%83%b3%e8%a8%ad%e7%ab%8b%e3%82%a4%e3%83%99%e3%83%b3%e3%83%88
LOCATION:藤沢市役所 分庁舎\, 朝日町1-1\, 藤沢市\, 神奈川県
CATEGORIES:イベント
ATTACH;FMTTYPE=image/jpeg:https://fujisawa-npo.jp/wp-content/uploads/2023/11/111022-scaled.jpg
ORGANIZER;CN="NPO%E6%B3%95%E4%BA%BA %E5%84%AA%E3%82%BF%E3%82%A6%E3%83%B3":MAILTO:event@yu-town.org
END:VEVENT
BEGIN:VEVENT
DTSTART;VALUE=DATE:20231203
DTEND;VALUE=DATE:20231204
DTSTAMP:20260422T023011
CREATED:20230915T044002Z
LAST-MODIFIED:20230915T044002Z
UID:9152-1701561600-1701647999@fujisawa-npo.jp
SUMMARY:細川千尋ピアノ・トリオ JAZZ LIVE
DESCRIPTION:時間：13:30開場、14:00開演\nチケット：一般 前売り3500円・当日4000円、高校生以下 前売り2000円・当日2500円\nPDF情報No.110591 \n\n卓越したテクニックと抜群のセンスで定評のあるジャズピアニスト細川千尋。\nドラム セバスティアン･カプテイン、ベース 小山尚希を迎えトリオでお届けします、\nプログラム\n・再生-REBORN－細川千尋\n・シーズンズ･オブ･ラヴ[レント]より\n・ワン[コーラスライン]より\n・アナザー･デイ・オブ･サン｢ラ･ラ･ランド｣より\n・ミリオン･ドリームズ[グレイテスト･ショーマン]より\n・ミュージック･オブ･ザ･ナイト｢オペラ座の怪人｣より\n・サン・アンド･ムーン｢ミス･サイゴン｣より\n・悲しみのクラウン｢リトル･ナイト･ミュージック｣より\n・夢やぶれて｢レ･ミゼラブル｣より\n・メモリー「キャッツ｣より\n・チム･チム･チェリー｢メリー･ポピンズ｣より\nand more
URL:https://fujisawa-npo.jp/event/%e7%b4%b0%e5%b7%9d%e5%8d%83%e5%b0%8b%e3%83%94%e3%82%a2%e3%83%8e%e3%83%bb%e3%83%88%e3%83%aa%e3%82%aa-jazz-live
LOCATION:逗子文化プラザ なぎさホール\, 逗子4-2-10\, 逗子市\, 神奈川県\, 日本
CATEGORIES:イベント
ATTACH;FMTTYPE=image/jpeg:https://fujisawa-npo.jp/wp-content/uploads/2023/09/110591-scaled.jpg
END:VEVENT
BEGIN:VEVENT
DTSTART;TZID=Asia/Tokyo:20231202T170000
DTEND;TZID=Asia/Tokyo:20231202T190000
DTSTAMP:20260422T023011
CREATED:20231102T112401Z
LAST-MODIFIED:20231102T112401Z
UID:10381-1701536400-1701543600@fujisawa-npo.jp
SUMMARY:キャンドルナイト 2023 (あーすぷらざ)
DESCRIPTION:情報No.110889 \n\n・野外クリスマス ミニコンサート\nキーボードとハーモニカによるクリスマスソングを、定番曲からポップス・ジャズまで幅広くお楽しみください\n・キャンドル点灯隊\n※WEB予約はこちら\n・キッチンカー
URL:https://fujisawa-npo.jp/event/%e3%82%ad%e3%83%a3%e3%83%b3%e3%83%89%e3%83%ab%e3%83%8a%e3%82%a4%e3%83%88-2023-%e3%81%82%e3%83%bc%e3%81%99%e3%81%b7%e3%82%89%e3%81%96
LOCATION:あーすぷらざ (神奈川県立地球市民かながわプラザ)\, 栄区小菅ヶ谷1-2-1\, 横浜市\, 神奈川県\, 247-0007
CATEGORIES:イベント
ATTACH;FMTTYPE=image/jpeg:https://fujisawa-npo.jp/wp-content/uploads/2023/11/110889-scaled.jpg
ORGANIZER;CN="%E7%A5%9E%E5%A5%88%E5%B7%9D%E7%9C%8C%E7%AB%8B%E5%9C%B0%E7%90%83%E5%B8%82%E6%B0%91%E3%82%BB%E3%83%B3%E3%82%BF%E3%83%BC%E3%81%8B%E3%81%AA%E3%81%8C%E3%82%8F%E3%83%97%E3%83%A9%E3%82%B6(%E3%81%82%E3%83%BC%E3%81%99%E3%81%B7%E3%82%89%E3%81%96)":MAILTO:gakushu@earthplaza.jp
END:VEVENT
BEGIN:VEVENT
DTSTART;TZID=Asia/Tokyo:20231202T110000
DTEND;TZID=Asia/Tokyo:20231202T150000
DTSTAMP:20260422T023011
CREATED:20231120T140029Z
LAST-MODIFIED:20231120T140029Z
UID:10811-1701514800-1701529200@fujisawa-npo.jp
SUMMARY:藤沢ふれあいフェスタ2023
DESCRIPTION:会場：藤沢市役所 分庁舎(地域福祉プラザ)、本庁舎\nPDF情報No.111046 \n\n◆分庁舎1・2階(地域福祉プラザ)\n・体験イベント\n・パネル展示・展示ブース\n・福祉喫茶\n◆本庁舎 1階\n・ふれあいステージ\n・福祉マルシェ\n・体験イベント\n・アート展示など
URL:https://fujisawa-npo.jp/event/%e8%97%a4%e6%b2%a2%e3%81%b5%e3%82%8c%e3%81%82%e3%81%84%e3%83%95%e3%82%a7%e3%82%b9%e3%82%bf2023
CATEGORIES:イベント
ATTACH;FMTTYPE=image/jpeg:https://fujisawa-npo.jp/wp-content/uploads/2023/11/111046-scaled.jpg
END:VEVENT
BEGIN:VEVENT
DTSTART;VALUE=DATE:20231202
DTEND;VALUE=DATE:20231203
DTSTAMP:20260422T023011
CREATED:20231114T063806Z
LAST-MODIFIED:20231114T063806Z
UID:10734-1701475200-1701561599@fujisawa-npo.jp
SUMMARY:JUON NETWORK「秋冬のボランティア情報」
DESCRIPTION:情報No.111014 \n\n◆関東「かずさの里 森林の楽校(大多喜)」\n日時・場所；12/2(土) 千葉県夷隅郡大多喜町\n◆九州「つばきの里 森林の楽校」\n日時・場所；11/26(日) 長崎県長崎市\n◆関西「キノコの森 森林の楽校」\n日時・場所；11/19(日) 京都府亀岡市\n◆東海\n・「風の谷 森林の楽校 秋11月」\n日時・場所；11/11(土)～11/12(日) 岐阜県揖斐郡揖斐川町\n・「風の谷 森林の楽校・冬」\n日時・場所；12/9(土)～12/10(日) 岐阜県揖斐郡揖斐川町\n・「南伊勢のみかん 田畑の楽校」\n日時・場所；11/18(土)・11/19(日)・12/10(日)・2024/2/4(日) 三重県度会群南伊勢町
URL:https://fujisawa-npo.jp/event/juon-network%e3%80%8c%e7%a7%8b%e5%86%ac%e3%81%ae%e3%83%9c%e3%83%a9%e3%83%b3%e3%83%86%e3%82%a3%e3%82%a2%e6%83%85%e5%a0%b1%e3%80%8d-2
CATEGORIES:イベント
ATTACH;FMTTYPE=image/jpeg:https://fujisawa-npo.jp/wp-content/uploads/2023/11/111014-scaled.jpg
ORGANIZER;CN="%E8%AA%8D%E5%AE%9ANPO%E6%B3%95%E4%BA%BA JUON NETWORK(%E6%A8%B9%E6%81%A9%E3%83%8D%E3%83%83%E3%83%88%E3%83%AF%E3%83%BC%E3%82%AF)":MAILTO:juon-office@univcoop.or.jp
END:VEVENT
BEGIN:VEVENT
DTSTART;TZID=Asia/Tokyo:20231201T123000
DTEND;TZID=Asia/Tokyo:20231201T170000
DTSTAMP:20260422T023011
CREATED:20230928T105533Z
LAST-MODIFIED:20230928T105533Z
UID:9426-1701433800-1701450000@fujisawa-npo.jp
SUMMARY:神奈川県現代俳句協会 湘南ブロック吟行会
DESCRIPTION:吟行地：新林公園 他、駅周辺\n句会場：藤沢市民会館 第一展示集会ホール\n情報No.110670 \n\n※1位～15位まで賞品あり\n講演＆演奏 小笠原伸子氏\n(ヴァイオリニスト・横浜バロック室内合奏団主宰・東京室内管弦楽団コンサートマスター)\n講演「ヴァイオリンと俳句のコラボレーション」\nヴァイオリンの調べに乗って参加者全員でも歌いましよう♪
URL:https://fujisawa-npo.jp/event/%e7%a5%9e%e5%a5%88%e5%b7%9d%e7%9c%8c%e7%8f%be%e4%bb%a3%e4%bf%b3%e5%8f%a5%e5%8d%94%e4%bc%9a-%e6%b9%98%e5%8d%97%e3%83%96%e3%83%ad%e3%83%83%e3%82%af%e5%90%9f%e8%a1%8c%e4%bc%9a
LOCATION:藤沢市民会館\, 251-0026
CATEGORIES:イベント
ATTACH;FMTTYPE=image/jpeg:https://fujisawa-npo.jp/wp-content/uploads/2023/09/110670-scaled.jpg
ORGANIZER;CN="%E7%A5%9E%E5%A5%88%E5%B7%9D%E7%9C%8C%E7%8F%BE%E4%BB%A3%E4%BF%B3%E5%8F%A5%E5%8D%94%E4%BC%9A":MAILTO:yk.haga@w3.dion.ne.jp
END:VEVENT
BEGIN:VEVENT
DTSTART;TZID=Asia/Tokyo:20231201T090000
DTEND;TZID=Asia/Tokyo:20240121T163000
DTSTAMP:20260422T023011
CREATED:20231016T090615Z
LAST-MODIFIED:20231016T090827Z
UID:10017-1701421200-1705854600@fujisawa-npo.jp
SUMMARY:県立金沢文庫 特別展「中世寺院の書物－聖教とそのかたち」
DESCRIPTION:PDF情報No.110802 \n\n書物は作られる環境によって様々な形態を取りますが、寺院で僧によって書写された書物には、装訂や形態の面で寺院圈ならではの特徴があります。\nこうした寺院の写本は、本の歴史の上でも重要な位置を占めており、また、日本で商業出版が確立する以前、中世に本の印刷を行っていたのも主に寺院でした。\n本展覧会では、中世の寺院において書写あるいは印刷された本の表紙や装訂、紙背文書、書式など、本のかたちの面に注目し、国宝「称名寺聖教・金沢文庫文書」を書誌学的な観点から紹介します。\n※文化財保護のため会期中一部展示替があります。\n※詳しくはホームページでご確認ください。
URL:https://fujisawa-npo.jp/event/%e7%9c%8c%e7%ab%8b%e9%87%91%e6%b2%a2%e6%96%87%e5%ba%ab-%e7%89%b9%e5%88%a5%e5%b1%95%e3%80%8c%e4%b8%ad%e4%b8%96%e5%af%ba%e9%99%a2%e3%81%ae%e6%9b%b8%e7%89%a9%ef%bc%8d%e8%81%96%e6%95%99%e3%81%a8%e3%81%9d
LOCATION:神奈川県立金沢文庫\, 金沢区金沢町142\, 横浜市\, 神奈川県\, 日本
CATEGORIES:イベント
ATTACH;FMTTYPE=image/jpeg:https://fujisawa-npo.jp/wp-content/uploads/2023/10/110802-scaled.jpg
END:VEVENT
BEGIN:VEVENT
DTSTART;VALUE=DATE:20231201
DTEND;VALUE=DATE:20240101
DTSTAMP:20260422T023011
CREATED:20231207T223248Z
LAST-MODIFIED:20231207T223248Z
UID:11002-1701388800-1704067199@fujisawa-npo.jp
SUMMARY:寄付月間「欲しい未来へ寄付を贈ろう」
DESCRIPTION:情報No.111115 \n\n欲しい未来へ、寄付を贈ろう。\n一年の終わりに、考えたいのは未来のこと。\nもっと楽しい未来。もっと優しい未来。もっと平和な未来。もっと多様性が認められる未来。\nそんな未来を手にするために、あなたの気持ちを寄付にしよう。\n寄付は意思、寄付は投資、寄付は応援、寄付は願い。\n寄付で未来は変えられるのです。だから、「Giving December」。\n一年の終わりに、未来を考え寄付をする。\nそんな習慣を、はじめたいと思います。\n欲しい未来を叶えてくれるさまざまな取り組みに、あなたの想いを託しましょう。\nさあ、年の終わりに、新しい「寄付」がはじまります。\n◆寄付月間とは：\n寄付月間は、NPO、大学、企業、行政などで寄付に係る主な関係者が幅広く集い、寄付が人々の幸せを生み出す社会をつくるために、12月1日から31日の間、協働で行う全国的なキャンペーンです｡\nこの寄付月間は、特定の団体への寄付をお願いするものではありません｡\n一人ひとりがこの機会に寄付について考えたり、実際に寄付してみたり、寄付月間についてソーシャルメディアで広げたりすることや、寄付を受ける側か寄付者に感謝して、きちんと寄付の使い道を報告することが進むきっかけにしたいと考えています。
URL:https://fujisawa-npo.jp/event/%e5%af%84%e4%bb%98%e6%9c%88%e9%96%93%e3%80%8c%e6%ac%b2%e3%81%97%e3%81%84%e6%9c%aa%e6%9d%a5%e3%81%b8%e5%af%84%e4%bb%98%e3%82%92%e8%b4%88%e3%82%8d%e3%81%86%e3%80%8d
CATEGORIES:イベント
ATTACH;FMTTYPE=image/jpeg:https://fujisawa-npo.jp/wp-content/uploads/2023/12/111115-scaled.jpg
END:VEVENT
BEGIN:VEVENT
DTSTART;VALUE=DATE:20231201
DTEND;VALUE=DATE:20231202
DTSTAMP:20260422T023011
CREATED:20231106T122004Z
LAST-MODIFIED:20231106T122004Z
UID:10510-1701388800-1701475199@fujisawa-npo.jp
SUMMARY:スタンプラリー「聖地たび×青ブタシリーズ」
DESCRIPTION:↑に拘わりなく12/28まで開催\nスタンプラリー会場：藤沢市観光協会、新江ノ島水族館、江ノ電・藤沢駅、江ノ電・七里ヶ浜駅、109シネマズ湘南、鎌倉プリンスホテル\nPDF情報No.110948 \n\n「聖地たび」とは、その作品の舞台（「聖地」）をめぐる事で、全国各地の魅力再発見・サスティナブルな地域振興を目指したイベント企画です。\nその中で、今回「青ブタ」シリーズの聖地を巡るスタンプラリーをご用意しました。\n描き下ろしイラストを使用したプレミアムグッズ付きスタンプラリーに参加すると、推しのキャラクターと一緒に作品の舞台を巡ることができます。\nまた、等身大パネルの設置・オリジナルグッズの販売など盛りだくさん。\n推しと過ごす特別な時間をお楽しみください！\n※詳しくはこちら
URL:https://fujisawa-npo.jp/event/%e3%82%b9%e3%82%bf%e3%83%b3%e3%83%97%e3%83%a9%e3%83%aa%e3%83%bc%e3%80%8c%e8%81%96%e5%9c%b0%e3%81%9f%e3%81%b3x%e9%9d%92%e3%83%96%e3%82%bf%e3%82%b7%e3%83%aa%e3%83%bc%e3%82%ba%e3%80%8d-2
LOCATION:藤沢市観光協会\, 片瀬海岸2-20-13\, 藤沢市\, 神奈川県\, 日本
CATEGORIES:イベント
ATTACH;FMTTYPE=image/jpeg:https://fujisawa-npo.jp/wp-content/uploads/2023/11/110948-scaled.jpg
END:VEVENT
END:VCALENDAR