BEGIN:VCALENDAR
VERSION:2.0
PRODID:-//藤沢市市民活動推進センター - ECPv6.15.11//NONSGML v1.0//EN
CALSCALE:GREGORIAN
METHOD:PUBLISH
X-WR-CALNAME:藤沢市市民活動推進センター
X-ORIGINAL-URL:https://fujisawa-npo.jp
X-WR-CALDESC:藤沢市市民活動推進センター のイベント
REFRESH-INTERVAL;VALUE=DURATION:PT1H
X-Robots-Tag:noindex
X-PUBLISHED-TTL:PT1H
BEGIN:VTIMEZONE
TZID:Asia/Tokyo
BEGIN:STANDARD
TZOFFSETFROM:+0900
TZOFFSETTO:+0900
TZNAME:JST
DTSTART:20220101T000000
END:STANDARD
END:VTIMEZONE
BEGIN:VEVENT
DTSTART;TZID=Asia/Tokyo:20231203T140000
DTEND;TZID=Asia/Tokyo:20231203T150000
DTSTAMP:20260422T043541
CREATED:20231102T121841Z
LAST-MODIFIED:20231102T121841Z
UID:10409-1701612000-1701615600@fujisawa-npo.jp
SUMMARY:ミュージックドロップ vol.51
DESCRIPTION:※事前申込制\n情報No.110912 \n\n・影絵紙芝居「星の王子」\n・フルート＆バイオリンによるミニコンサート
URL:https://fujisawa-npo.jp/event/%e3%83%9f%e3%83%a5%e3%83%bc%e3%82%b8%e3%83%83%e3%82%af%e3%83%89%e3%83%ad%e3%83%83%e3%83%97-vol-51
LOCATION:SAKAESTA(本郷地区センター)\, 栄区小菅ケ谷1-5-4\, 横浜市\, 神奈川県\, 日本
CATEGORIES:イベント
ATTACH;FMTTYPE=image/jpeg:https://fujisawa-npo.jp/wp-content/uploads/2023/11/110912-scaled.jpg
ORGANIZER;CN="%E3%81%8A%E3%81%A8%E5%B7%A5%E6%88%BF%E3%81%BD%E3%82%8A%E3%81%BE":MAILTO:2008porima@gmail.com
END:VEVENT
BEGIN:VEVENT
DTSTART;TZID=Asia/Tokyo:20231203T100000
DTEND;TZID=Asia/Tokyo:20231203T160000
DTSTAMP:20260422T043541
CREATED:20231120T122759Z
LAST-MODIFIED:20231120T122759Z
UID:10792-1701597600-1701619200@fujisawa-npo.jp
SUMMARY:NPO法人優タウン設立イベント
DESCRIPTION:PDF情報No.111022 \n\nどんな子どもにも優しいまち“優タウン”\nNPO法人優タウン設立オープニングイベントです。\n不登校をきっかけに、たくさんの当たり前を見直した当事者や保護者がそれぞれの価値観で想いを語ります。\n学び方は、子どもの数だけあっていい。\nこのイベントから感じた皆さん自身の想いも大切に持って帰っていただきたいです。\nこのイベントが誰かの小さな一歩になりますように。\n※午前の部 参加申し込みフォームはこちら
URL:https://fujisawa-npo.jp/event/npo%e6%b3%95%e4%ba%ba%e5%84%aa%e3%82%bf%e3%82%a6%e3%83%b3%e8%a8%ad%e7%ab%8b%e3%82%a4%e3%83%99%e3%83%b3%e3%83%88
LOCATION:藤沢市役所 分庁舎\, 朝日町1-1\, 藤沢市\, 神奈川県
CATEGORIES:イベント
ATTACH;FMTTYPE=image/jpeg:https://fujisawa-npo.jp/wp-content/uploads/2023/11/111022-scaled.jpg
ORGANIZER;CN="NPO%E6%B3%95%E4%BA%BA %E5%84%AA%E3%82%BF%E3%82%A6%E3%83%B3":MAILTO:event@yu-town.org
END:VEVENT
BEGIN:VEVENT
DTSTART;VALUE=DATE:20231203
DTEND;VALUE=DATE:20231204
DTSTAMP:20260422T043541
CREATED:20230915T044002Z
LAST-MODIFIED:20230915T044002Z
UID:9152-1701561600-1701647999@fujisawa-npo.jp
SUMMARY:細川千尋ピアノ・トリオ JAZZ LIVE
DESCRIPTION:時間：13:30開場、14:00開演\nチケット：一般 前売り3500円・当日4000円、高校生以下 前売り2000円・当日2500円\nPDF情報No.110591 \n\n卓越したテクニックと抜群のセンスで定評のあるジャズピアニスト細川千尋。\nドラム セバスティアン･カプテイン、ベース 小山尚希を迎えトリオでお届けします、\nプログラム\n・再生-REBORN－細川千尋\n・シーズンズ･オブ･ラヴ[レント]より\n・ワン[コーラスライン]より\n・アナザー･デイ・オブ･サン｢ラ･ラ･ランド｣より\n・ミリオン･ドリームズ[グレイテスト･ショーマン]より\n・ミュージック･オブ･ザ･ナイト｢オペラ座の怪人｣より\n・サン・アンド･ムーン｢ミス･サイゴン｣より\n・悲しみのクラウン｢リトル･ナイト･ミュージック｣より\n・夢やぶれて｢レ･ミゼラブル｣より\n・メモリー「キャッツ｣より\n・チム･チム･チェリー｢メリー･ポピンズ｣より\nand more
URL:https://fujisawa-npo.jp/event/%e7%b4%b0%e5%b7%9d%e5%8d%83%e5%b0%8b%e3%83%94%e3%82%a2%e3%83%8e%e3%83%bb%e3%83%88%e3%83%aa%e3%82%aa-jazz-live
LOCATION:逗子文化プラザ なぎさホール\, 逗子4-2-10\, 逗子市\, 神奈川県\, 日本
CATEGORIES:イベント
ATTACH;FMTTYPE=image/jpeg:https://fujisawa-npo.jp/wp-content/uploads/2023/09/110591-scaled.jpg
END:VEVENT
BEGIN:VEVENT
DTSTART;TZID=Asia/Tokyo:20231202T170000
DTEND;TZID=Asia/Tokyo:20231202T190000
DTSTAMP:20260422T043541
CREATED:20231102T112401Z
LAST-MODIFIED:20231102T112401Z
UID:10381-1701536400-1701543600@fujisawa-npo.jp
SUMMARY:キャンドルナイト 2023 (あーすぷらざ)
DESCRIPTION:情報No.110889 \n\n・野外クリスマス ミニコンサート\nキーボードとハーモニカによるクリスマスソングを、定番曲からポップス・ジャズまで幅広くお楽しみください\n・キャンドル点灯隊\n※WEB予約はこちら\n・キッチンカー
URL:https://fujisawa-npo.jp/event/%e3%82%ad%e3%83%a3%e3%83%b3%e3%83%89%e3%83%ab%e3%83%8a%e3%82%a4%e3%83%88-2023-%e3%81%82%e3%83%bc%e3%81%99%e3%81%b7%e3%82%89%e3%81%96
LOCATION:あーすぷらざ (神奈川県立地球市民かながわプラザ)\, 栄区小菅ヶ谷1-2-1\, 横浜市\, 神奈川県\, 247-0007
CATEGORIES:イベント
ATTACH;FMTTYPE=image/jpeg:https://fujisawa-npo.jp/wp-content/uploads/2023/11/110889-scaled.jpg
ORGANIZER;CN="%E7%A5%9E%E5%A5%88%E5%B7%9D%E7%9C%8C%E7%AB%8B%E5%9C%B0%E7%90%83%E5%B8%82%E6%B0%91%E3%82%BB%E3%83%B3%E3%82%BF%E3%83%BC%E3%81%8B%E3%81%AA%E3%81%8C%E3%82%8F%E3%83%97%E3%83%A9%E3%82%B6(%E3%81%82%E3%83%BC%E3%81%99%E3%81%B7%E3%82%89%E3%81%96)":MAILTO:gakushu@earthplaza.jp
END:VEVENT
BEGIN:VEVENT
DTSTART;TZID=Asia/Tokyo:20231202T110000
DTEND;TZID=Asia/Tokyo:20231202T150000
DTSTAMP:20260422T043541
CREATED:20231120T140029Z
LAST-MODIFIED:20231120T140029Z
UID:10811-1701514800-1701529200@fujisawa-npo.jp
SUMMARY:藤沢ふれあいフェスタ2023
DESCRIPTION:会場：藤沢市役所 分庁舎(地域福祉プラザ)、本庁舎\nPDF情報No.111046 \n\n◆分庁舎1・2階(地域福祉プラザ)\n・体験イベント\n・パネル展示・展示ブース\n・福祉喫茶\n◆本庁舎 1階\n・ふれあいステージ\n・福祉マルシェ\n・体験イベント\n・アート展示など
URL:https://fujisawa-npo.jp/event/%e8%97%a4%e6%b2%a2%e3%81%b5%e3%82%8c%e3%81%82%e3%81%84%e3%83%95%e3%82%a7%e3%82%b9%e3%82%bf2023
LOCATION:神奈川県
CATEGORIES:イベント
ATTACH;FMTTYPE=image/jpeg:https://fujisawa-npo.jp/wp-content/uploads/2023/11/111046-scaled.jpg
END:VEVENT
BEGIN:VEVENT
DTSTART;VALUE=DATE:20231202
DTEND;VALUE=DATE:20231203
DTSTAMP:20260422T043541
CREATED:20231114T063806Z
LAST-MODIFIED:20231114T063806Z
UID:10734-1701475200-1701561599@fujisawa-npo.jp
SUMMARY:JUON NETWORK「秋冬のボランティア情報」
DESCRIPTION:情報No.111014 \n\n◆関東「かずさの里 森林の楽校(大多喜)」\n日時・場所；12/2(土) 千葉県夷隅郡大多喜町\n◆九州「つばきの里 森林の楽校」\n日時・場所；11/26(日) 長崎県長崎市\n◆関西「キノコの森 森林の楽校」\n日時・場所；11/19(日) 京都府亀岡市\n◆東海\n・「風の谷 森林の楽校 秋11月」\n日時・場所；11/11(土)～11/12(日) 岐阜県揖斐郡揖斐川町\n・「風の谷 森林の楽校・冬」\n日時・場所；12/9(土)～12/10(日) 岐阜県揖斐郡揖斐川町\n・「南伊勢のみかん 田畑の楽校」\n日時・場所；11/18(土)・11/19(日)・12/10(日)・2024/2/4(日) 三重県度会群南伊勢町
URL:https://fujisawa-npo.jp/event/juon-network%e3%80%8c%e7%a7%8b%e5%86%ac%e3%81%ae%e3%83%9c%e3%83%a9%e3%83%b3%e3%83%86%e3%82%a3%e3%82%a2%e6%83%85%e5%a0%b1%e3%80%8d-2
LOCATION:神奈川県
CATEGORIES:イベント
ATTACH;FMTTYPE=image/jpeg:https://fujisawa-npo.jp/wp-content/uploads/2023/11/111014-scaled.jpg
ORGANIZER;CN="%E8%AA%8D%E5%AE%9ANPO%E6%B3%95%E4%BA%BA JUON NETWORK(%E6%A8%B9%E6%81%A9%E3%83%8D%E3%83%83%E3%83%88%E3%83%AF%E3%83%BC%E3%82%AF)":MAILTO:juon-office@univcoop.or.jp
END:VEVENT
BEGIN:VEVENT
DTSTART;TZID=Asia/Tokyo:20231201T123000
DTEND;TZID=Asia/Tokyo:20231201T170000
DTSTAMP:20260422T043541
CREATED:20230928T105533Z
LAST-MODIFIED:20230928T105533Z
UID:9426-1701433800-1701450000@fujisawa-npo.jp
SUMMARY:神奈川県現代俳句協会 湘南ブロック吟行会
DESCRIPTION:吟行地：新林公園 他、駅周辺\n句会場：藤沢市民会館 第一展示集会ホール\n情報No.110670 \n\n※1位～15位まで賞品あり\n講演＆演奏 小笠原伸子氏\n(ヴァイオリニスト・横浜バロック室内合奏団主宰・東京室内管弦楽団コンサートマスター)\n講演「ヴァイオリンと俳句のコラボレーション」\nヴァイオリンの調べに乗って参加者全員でも歌いましよう♪
URL:https://fujisawa-npo.jp/event/%e7%a5%9e%e5%a5%88%e5%b7%9d%e7%9c%8c%e7%8f%be%e4%bb%a3%e4%bf%b3%e5%8f%a5%e5%8d%94%e4%bc%9a-%e6%b9%98%e5%8d%97%e3%83%96%e3%83%ad%e3%83%83%e3%82%af%e5%90%9f%e8%a1%8c%e4%bc%9a
LOCATION:藤沢市民会館\, 251-0026
CATEGORIES:イベント
ATTACH;FMTTYPE=image/jpeg:https://fujisawa-npo.jp/wp-content/uploads/2023/09/110670-scaled.jpg
ORGANIZER;CN="%E7%A5%9E%E5%A5%88%E5%B7%9D%E7%9C%8C%E7%8F%BE%E4%BB%A3%E4%BF%B3%E5%8F%A5%E5%8D%94%E4%BC%9A":MAILTO:yk.haga@w3.dion.ne.jp
END:VEVENT
BEGIN:VEVENT
DTSTART;TZID=Asia/Tokyo:20231201T090000
DTEND;TZID=Asia/Tokyo:20240121T163000
DTSTAMP:20260422T043541
CREATED:20231016T090615Z
LAST-MODIFIED:20231016T090827Z
UID:10017-1701421200-1705854600@fujisawa-npo.jp
SUMMARY:県立金沢文庫 特別展「中世寺院の書物－聖教とそのかたち」
DESCRIPTION:PDF情報No.110802 \n\n書物は作られる環境によって様々な形態を取りますが、寺院で僧によって書写された書物には、装訂や形態の面で寺院圈ならではの特徴があります。\nこうした寺院の写本は、本の歴史の上でも重要な位置を占めており、また、日本で商業出版が確立する以前、中世に本の印刷を行っていたのも主に寺院でした。\n本展覧会では、中世の寺院において書写あるいは印刷された本の表紙や装訂、紙背文書、書式など、本のかたちの面に注目し、国宝「称名寺聖教・金沢文庫文書」を書誌学的な観点から紹介します。\n※文化財保護のため会期中一部展示替があります。\n※詳しくはホームページでご確認ください。
URL:https://fujisawa-npo.jp/event/%e7%9c%8c%e7%ab%8b%e9%87%91%e6%b2%a2%e6%96%87%e5%ba%ab-%e7%89%b9%e5%88%a5%e5%b1%95%e3%80%8c%e4%b8%ad%e4%b8%96%e5%af%ba%e9%99%a2%e3%81%ae%e6%9b%b8%e7%89%a9%ef%bc%8d%e8%81%96%e6%95%99%e3%81%a8%e3%81%9d
LOCATION:神奈川県立金沢文庫\, 金沢区金沢町142\, 横浜市\, 神奈川県\, 日本
CATEGORIES:イベント
ATTACH;FMTTYPE=image/jpeg:https://fujisawa-npo.jp/wp-content/uploads/2023/10/110802-scaled.jpg
END:VEVENT
BEGIN:VEVENT
DTSTART;VALUE=DATE:20231201
DTEND;VALUE=DATE:20240101
DTSTAMP:20260422T043541
CREATED:20231207T223248Z
LAST-MODIFIED:20231207T223248Z
UID:11002-1701388800-1704067199@fujisawa-npo.jp
SUMMARY:寄付月間「欲しい未来へ寄付を贈ろう」
DESCRIPTION:情報No.111115 \n\n欲しい未来へ、寄付を贈ろう。\n一年の終わりに、考えたいのは未来のこと。\nもっと楽しい未来。もっと優しい未来。もっと平和な未来。もっと多様性が認められる未来。\nそんな未来を手にするために、あなたの気持ちを寄付にしよう。\n寄付は意思、寄付は投資、寄付は応援、寄付は願い。\n寄付で未来は変えられるのです。だから、「Giving December」。\n一年の終わりに、未来を考え寄付をする。\nそんな習慣を、はじめたいと思います。\n欲しい未来を叶えてくれるさまざまな取り組みに、あなたの想いを託しましょう。\nさあ、年の終わりに、新しい「寄付」がはじまります。\n◆寄付月間とは：\n寄付月間は、NPO、大学、企業、行政などで寄付に係る主な関係者が幅広く集い、寄付が人々の幸せを生み出す社会をつくるために、12月1日から31日の間、協働で行う全国的なキャンペーンです｡\nこの寄付月間は、特定の団体への寄付をお願いするものではありません｡\n一人ひとりがこの機会に寄付について考えたり、実際に寄付してみたり、寄付月間についてソーシャルメディアで広げたりすることや、寄付を受ける側か寄付者に感謝して、きちんと寄付の使い道を報告することが進むきっかけにしたいと考えています。
URL:https://fujisawa-npo.jp/event/%e5%af%84%e4%bb%98%e6%9c%88%e9%96%93%e3%80%8c%e6%ac%b2%e3%81%97%e3%81%84%e6%9c%aa%e6%9d%a5%e3%81%b8%e5%af%84%e4%bb%98%e3%82%92%e8%b4%88%e3%82%8d%e3%81%86%e3%80%8d
LOCATION:神奈川県
CATEGORIES:イベント
ATTACH;FMTTYPE=image/jpeg:https://fujisawa-npo.jp/wp-content/uploads/2023/12/111115-scaled.jpg
END:VEVENT
BEGIN:VEVENT
DTSTART;VALUE=DATE:20231201
DTEND;VALUE=DATE:20231202
DTSTAMP:20260422T043541
CREATED:20231106T122004Z
LAST-MODIFIED:20231106T122004Z
UID:10510-1701388800-1701475199@fujisawa-npo.jp
SUMMARY:スタンプラリー「聖地たび×青ブタシリーズ」
DESCRIPTION:↑に拘わりなく12/28まで開催\nスタンプラリー会場：藤沢市観光協会、新江ノ島水族館、江ノ電・藤沢駅、江ノ電・七里ヶ浜駅、109シネマズ湘南、鎌倉プリンスホテル\nPDF情報No.110948 \n\n「聖地たび」とは、その作品の舞台（「聖地」）をめぐる事で、全国各地の魅力再発見・サスティナブルな地域振興を目指したイベント企画です。\nその中で、今回「青ブタ」シリーズの聖地を巡るスタンプラリーをご用意しました。\n描き下ろしイラストを使用したプレミアムグッズ付きスタンプラリーに参加すると、推しのキャラクターと一緒に作品の舞台を巡ることができます。\nまた、等身大パネルの設置・オリジナルグッズの販売など盛りだくさん。\n推しと過ごす特別な時間をお楽しみください！\n※詳しくはこちら
URL:https://fujisawa-npo.jp/event/%e3%82%b9%e3%82%bf%e3%83%b3%e3%83%97%e3%83%a9%e3%83%aa%e3%83%bc%e3%80%8c%e8%81%96%e5%9c%b0%e3%81%9f%e3%81%b3x%e9%9d%92%e3%83%96%e3%82%bf%e3%82%b7%e3%83%aa%e3%83%bc%e3%82%ba%e3%80%8d-2
LOCATION:藤沢市観光協会\, 片瀬海岸2-20-13\, 藤沢市\, 神奈川県\, 日本
CATEGORIES:イベント
ATTACH;FMTTYPE=image/jpeg:https://fujisawa-npo.jp/wp-content/uploads/2023/11/110948-scaled.jpg
END:VEVENT
BEGIN:VEVENT
DTSTART;TZID=Asia/Tokyo:20231130T143000
DTEND;TZID=Asia/Tokyo:20231130T170000
DTSTAMP:20260422T043541
CREATED:20231108T084255Z
LAST-MODIFIED:20231108T084255Z
UID:10594-1701354600-1701363600@fujisawa-npo.jp
SUMMARY:湘南ふじさわ学びネット「講師紹介・体験会 開催します」 申込締切11/16
DESCRIPTION:PDF情報No.110951 \n\nさまざまなジャンルの講師から、直接登録内容を聞くことができる機会です！\n是非、皆様の講座企画にお役立てください！ご参加お待ちしております♪\n※藤沢市生涯学習人材バンクについてはこちら
URL:https://fujisawa-npo.jp/event/%e6%b9%98%e5%8d%97%e3%81%b5%e3%81%98%e3%81%95%e3%82%8f%e5%ad%a6%e3%81%b3%e3%83%8d%e3%83%83%e3%83%88%e3%80%8c%e8%ac%9b%e5%b8%ab%e7%b4%b9%e4%bb%8b%e3%83%bb%e4%bd%93%e9%a8%93%e4%bc%9a-%e9%96%8b%e5%82%ac
LOCATION:藤沢市役所 本庁舎\, 朝日町1-1\, 藤沢市\, 神奈川県\, 日本
CATEGORIES:イベント
ATTACH;FMTTYPE=image/jpeg:https://fujisawa-npo.jp/wp-content/uploads/2023/11/110951-scaled.jpg
ORGANIZER;CN="%E8%97%A4%E6%B2%A2%E5%B8%82%E7%94%9F%E6%B6%AF%E5%AD%A6%E7%BF%92%E6%B4%BB%E5%8B%95%E6%8E%A8%E9%80%B2%E5%AE%A4(F%E3%83%97%E3%83%AC%E3%82%A4%E3%82%B92%E9%9A%8E)":MAILTO:fj1-manabi@city.fujisawa.lg.jp
END:VEVENT
BEGIN:VEVENT
DTSTART;VALUE=DATE:20231130
DTEND;VALUE=DATE:20231201
DTSTAMP:20260422T043541
CREATED:20230925T163044Z
LAST-MODIFIED:20230925T163044Z
UID:9345-1701302400-1701388799@fujisawa-npo.jp
SUMMARY:健康チャレンジ 2023 取組期限11/30
DESCRIPTION:取組期間：10/1(日)～↑(11/30(木))の内30日以上チャレンジ\n提出期限：12/15(金)\n【主催】神奈川県生活協同組合連合会、川崎医療生協、神奈川みなみ医療生協、神奈川中央医療生協、医療生協かながわ、福祉クラブ生協\nPDF情報No.110691 \n\n～わたし3さい、わたしは100才 みんなで楽しく健康チャレンジ！～\n参加方法：チャレンジシートに記入による提出、またはWEBによる参加\n手順：\n1. チャレンジコースを選ぶ\n2. 期間中30日間取り組む\n3. チャレンジシートを提出する(WEBに入力する)\n※WEB参加はこちら
URL:https://fujisawa-npo.jp/event/%e5%81%a5%e5%ba%b7%e3%83%81%e3%83%a3%e3%83%ac%e3%83%b3%e3%82%b8-2023-%e5%8f%96%e7%b5%84%e6%9c%9f%e9%99%9011-30-2
LOCATION:神奈川県
CATEGORIES:イベント
ATTACH;FMTTYPE=image/jpeg:https://fujisawa-npo.jp/wp-content/uploads/2023/09/110691-scaled.jpg
END:VEVENT
BEGIN:VEVENT
DTSTART;TZID=Asia/Tokyo:20231127T140000
DTEND;TZID=Asia/Tokyo:20231127T160000
DTSTAMP:20260422T043541
CREATED:20231103T060522Z
LAST-MODIFIED:20231103T060522Z
UID:10456-1701093600-1701100800@fujisawa-npo.jp
SUMMARY:(社福)いきいき福祉会「みんなでゆるゆるオーナー」
DESCRIPTION:情報No.110940 \n\nテーマ：～園芸～ネモフィラの種をまこう
URL:https://fujisawa-npo.jp/event/%e7%a4%be%e7%a6%8f%e3%81%84%e3%81%8d%e3%81%84%e3%81%8d%e7%a6%8f%e7%a5%89%e4%bc%9a%e3%80%8c%e3%81%bf%e3%82%93%e3%81%aa%e3%81%a7%e3%82%86%e3%82%8b%e3%82%86%e3%82%8b%e3%82%aa%e3%83%bc%e3%83%8a%e3%83%bc-5
LOCATION:ラポール城南かるがも\, 城南4-9-8\, 藤沢市\, 神奈川県\, 日本
CATEGORIES:イベント
ATTACH;FMTTYPE=image/jpeg:https://fujisawa-npo.jp/wp-content/uploads/2023/11/110940-scaled.jpg
END:VEVENT
BEGIN:VEVENT
DTSTART;VALUE=DATE:20231127
DTEND;VALUE=DATE:20231128
DTSTAMP:20260422T043541
CREATED:20231031T084527Z
LAST-MODIFIED:20231102T110859Z
UID:10359-1701043200-1701129599@fujisawa-npo.jp
SUMMARY:藤沢市情報公開制度 運営審議会委員を募集します！ 応募締切11/27
DESCRIPTION:↑：応募締切\n任期：2024/4/1(月)～2026/3/31(火)\nPDF情報No.110880 \n\n藤沢市では、より開かれた市政の推進のため、情報公開制度について審議・検討を行う「藤沢市情報公開制度運営審議会」を設置しております。\nこのたび、第20期情報公開制度運営審議会の市民委員を募集します。※報酬あり\n●内容\n年4回程度の審議会に出席し、情報公開制度の運用状況等についての検討など\n●求める人物像\n①情報公開制度に関心がある方 ②情報公開制度に対して、市民目線でのご意見をお持ちの方\n※電子申請画面はこちら
URL:https://fujisawa-npo.jp/event/%e8%97%a4%e6%b2%a2%e5%b8%82%e6%83%85%e5%a0%b1%e5%85%ac%e9%96%8b%e5%88%b6%e5%ba%a6-%e9%81%8b%e5%96%b6%e5%af%a9%e8%ad%b0%e4%bc%9a%e5%a7%94%e5%93%a1%e3%82%92%e5%8b%9f%e9%9b%86%e3%81%97%e3%81%be%e3%81%99
LOCATION:神奈川県
CATEGORIES:イベント
ATTACH;FMTTYPE=image/jpeg:https://fujisawa-npo.jp/wp-content/uploads/2023/11/110880-scaled.jpg
END:VEVENT
BEGIN:VEVENT
DTSTART;TZID=Asia/Tokyo:20231126T103500
DTEND;TZID=Asia/Tokyo:20231126T111000
DTSTAMP:20260422T043541
CREATED:20231120T234920Z
LAST-MODIFIED:20231120T234920Z
UID:10821-1700994900-1700997000@fujisawa-npo.jp
SUMMARY:「ひらつかの空」取材＆編集ボランティア 活動報告会
DESCRIPTION:PDF情報No.111057 \n\n今夏、ボランティア活動を体験し、ボランティア情報誌｢ひらつかの空｣の編集に関わった経験談を6名の若者たちが「ひらつか市民活動センターまつり」のパフォーマンス会場にて発表します。
URL:https://fujisawa-npo.jp/event/%e3%80%8c%e3%81%b2%e3%82%89%e3%81%a4%e3%81%8b%e3%81%ae%e7%a9%ba%e3%80%8d%e5%8f%96%e6%9d%90%ef%bc%86%e7%b7%a8%e9%9b%86%e3%83%9c%e3%83%a9%e3%83%b3%e3%83%86%e3%82%a3%e3%82%a2-%e6%b4%bb%e5%8b%95%e5%a0%b1
LOCATION:平塚市崇善公民館\, 見附町1-8\, 平塚市\, 神奈川県\, 日本
CATEGORIES:イベント
ATTACH;FMTTYPE=image/jpeg:https://fujisawa-npo.jp/wp-content/uploads/2023/11/111057-scaled.jpg
ORGANIZER;CN="%E3%81%B2%E3%82%89%E3%81%A4%E3%81%8B%E5%B8%82%E6%B0%91%E6%B4%BB%E5%8B%95%E3%82%BB%E3%83%B3%E3%82%BF%E3%83%BC":MAILTO:info@hiratsuka-shimin.net
END:VEVENT
BEGIN:VEVENT
DTSTART;TZID=Asia/Tokyo:20231126T100000
DTEND;TZID=Asia/Tokyo:20231126T150000
DTSTAMP:20260422T043541
CREATED:20230928T104308Z
LAST-MODIFIED:20230928T104308Z
UID:9418-1700992800-1701010800@fujisawa-npo.jp
SUMMARY:第17回 ひらつか市民活動センターまつり
DESCRIPTION:PDF情報No.110661 \n\n来て！見て！知って！市民活動\nパフォーマンス、展示、相談、体験、物販をはじめスタンプラリーやSOZENマーチンク’パントの演奏など楽しい企画がいっぱい!\n2023年5月、ひらつか市民活動センターは開設20周年を迎えました！\n【センター20周年記念アーカイブ】\n2003年5月から今までのセンターの20年を振り返る特別展示です。\n【センター20周年記念団体メッセージ】\nセンター20周年を記念し、団体の皆様からお寄せいただいたメッセージを掲示します。
URL:https://fujisawa-npo.jp/event/%e7%ac%ac17%e5%9b%9e-%e3%81%b2%e3%82%89%e3%81%a4%e3%81%8b%e5%b8%82%e6%b0%91%e6%b4%bb%e5%8b%95%e3%82%bb%e3%83%b3%e3%82%bf%e3%83%bc%e3%81%be%e3%81%a4%e3%82%8a
LOCATION:ひらつか市民活動センター\, 見附町1-8\, 平塚市\, 神奈川県\, 日本
CATEGORIES:イベント
ATTACH;FMTTYPE=image/jpeg:https://fujisawa-npo.jp/wp-content/uploads/2023/09/110661-scaled.jpg
ORGANIZER;CN="%E3%81%B2%E3%82%89%E3%81%A4%E3%81%8B%E5%B8%82%E6%B0%91%E6%B4%BB%E5%8B%95%E3%82%BB%E3%83%B3%E3%82%BF%E3%83%BC":MAILTO:info@hiratsuka-shimin.net
END:VEVENT
BEGIN:VEVENT
DTSTART;VALUE=DATE:20231126
DTEND;VALUE=DATE:20231127
DTSTAMP:20260422T043541
CREATED:20231114T060506Z
LAST-MODIFIED:20231114T060506Z
UID:10718-1700956800-1701043199@fujisawa-npo.jp
SUMMARY:ハレの日を楽しむユニバーサルレストラン 申込締切11/26
DESCRIPTION:↑：申込締切\n開催日時：12/10(日)12:00～14:00\n【主催】NPO法人 湘南食育ラボ、NPO法人 laule’a\n情報No.111008 \n\n内容：\n障がいによって嚥下の難しいお子さんとそのご家族がハレの日(今回はクリスマス仕様の食事を想定しています)楽しめる場所を提供します。\n刻み食やペースト食など様々な食形態に対応致しますのでご相談ください。
URL:https://fujisawa-npo.jp/event/%e3%83%8f%e3%83%ac%e3%81%ae%e6%97%a5%e3%82%92%e6%a5%bd%e3%81%97%e3%82%80%e3%83%a6%e3%83%8b%e3%83%90%e3%83%bc%e3%82%b5%e3%83%ab%e3%83%ac%e3%82%b9%e3%83%88%e3%83%a9%e3%83%b3-%e7%94%b3%e8%be%bc%e7%b7%a0
LOCATION:ニコズキッチン(玉樹ビル 1F)\, 大鋸1-9-2\, 藤沢市\, 神奈川県\, 日本
CATEGORIES:イベント
ATTACH;FMTTYPE=image/jpeg:https://fujisawa-npo.jp/wp-content/uploads/2023/11/111008-scaled.jpg
END:VEVENT
BEGIN:VEVENT
DTSTART;TZID=Asia/Tokyo:20231125T200000
DTEND;TZID=Asia/Tokyo:20231125T213000
DTSTAMP:20260422T043541
CREATED:20230921T223418Z
LAST-MODIFIED:20230921T223418Z
UID:9276-1700942400-1700947800@fujisawa-npo.jp
SUMMARY:「ケアラー誰でもオンラインサロン」～８時だよ全員集合～
DESCRIPTION:開催日時：毎月第4土曜日 20:00～21:30\n情報No.110677 \n\n内容：Zoomで自分の事や介護のことを話し合います。\n【ケアラーのみなさん】\n毎日の介護で感じている心の疲れ、葛藤などはありませんか。\n自分のことを話し、他人の話を聴いて、少し息抜きをしませんか。\n自宅から参加でき、いろいろなケアラーと話せる場として利用してください。\n※詳しくは(参加URLを含む)はこちら
URL:https://fujisawa-npo.jp/event/%e3%80%8c%e3%82%b1%e3%82%a2%e3%83%a9%e3%83%bc%e8%aa%b0%e3%81%a7%e3%82%82%e3%82%aa%e3%83%b3%e3%83%a9%e3%82%a4%e3%83%b3%e3%82%b5%e3%83%ad%e3%83%b3%e3%80%8d%ef%bd%9e%ef%bc%98%e6%99%82%e3%81%a0%e3%82%88-2
LOCATION:オンライン(Zoom)
CATEGORIES:イベント
ATTACH;FMTTYPE=image/jpeg:https://fujisawa-npo.jp/wp-content/uploads/2023/09/110677-scaled.jpg
ORGANIZER;CN="%E8%AA%8D%E5%AE%9ANPO%E6%B3%95%E4%BA%BA %E3%81%95%E3%81%84%E3%81%9F%E3%81%BENPO%E3%82%BB%E3%83%B3%E3%82%BF%E3%83%BC":MAILTO:office@sa-npo.org
END:VEVENT
BEGIN:VEVENT
DTSTART;TZID=Asia/Tokyo:20231125T151000
DTEND;TZID=Asia/Tokyo:20231125T170000
DTSTAMP:20260422T043541
CREATED:20231120T123700Z
LAST-MODIFIED:20231120T123700Z
UID:10798-1700925000-1700931600@fujisawa-npo.jp
SUMMARY:研修交流会「マンションの植栽管理のポイント」
DESCRIPTION:参加費用：湘管ネット会員 無料、非会員は500円(資料代)\n情報No.111036 \n\nマンション管理に袷寺つ情報提供・管理組合間の情報交換の場として活用して頂けるよう、新しく研修交流会を企画しました。\n第1部(15:10～16:10)：講演「マンションの植栽管理のポイント」\n【講演内容】\nマンション植栽の問題点について、美しい庭にするために注意すること、樹木にとって正しい手入れとは。\n植栽にも而用年数があるのか、など実例をあげて説明いたします。\n第2部(16:15～17:00)：質疑応答と、参加された管理組合と「マンションの植栽管理のポイント」について情報交換を行います。
URL:https://fujisawa-npo.jp/event/%e7%a0%94%e4%bf%ae%e4%ba%a4%e6%b5%81%e4%bc%9a%e3%80%8c%e3%83%9e%e3%83%b3%e3%82%b7%e3%83%a7%e3%83%b3%e3%81%ae%e6%a4%8d%e6%a0%bd%e7%ae%a1%e7%90%86%e3%81%ae%e3%83%9d%e3%82%a4%e3%83%b3%e3%83%88%e3%80%8d
LOCATION:藤沢市市民活動推進センター(アーバンセンター藤沢 2F)\, 藤沢1031\, 藤沢市\, 神奈川県\, 日本
CATEGORIES:イベント
ATTACH;FMTTYPE=image/jpeg:https://fujisawa-npo.jp/wp-content/uploads/2023/11/111036-scaled.jpg
END:VEVENT
BEGIN:VEVENT
DTSTART;TZID=Asia/Tokyo:20231125T150000
DTEND;TZID=Asia/Tokyo:20231125T163000
DTSTAMP:20260422T043541
CREATED:20230615T215138Z
LAST-MODIFIED:20230727T135812Z
UID:6747-1700924400-1700929800@fujisawa-npo.jp
SUMMARY:公開マンション管理セミナー＆無料相談会
DESCRIPTION:セミナーの日程・内容：\n1. 7/22(土)「マンションの終活(高経年化マンションになる前に)」\n2. 9/23(土)「長期修繕計画と大規模修繕工事の進め方について」\n3. 11/25(土)「マンション管理計画認定制度について」\nPDF情報No.110041 \n\nNPO分譲マンション管理相談センターのマンション管理士が、マンション管理組合の役員、組合員様等を対象に、マンション管理に関するセミナーを開催します。\nその後、個々にお悩みの諸問題に関する無料相談をお受けします。\n※詳細はこちら
URL:https://fujisawa-npo.jp/event/%e5%85%ac%e9%96%8b%e3%83%9e%e3%83%b3%e3%82%b7%e3%83%a7%e3%83%b3%e7%ae%a1%e7%90%86%e3%82%bb%e3%83%9f%e3%83%8a%e3%83%bc%ef%bc%86%e7%84%a1%e6%96%99%e7%9b%b8%e8%ab%87%e4%bc%9a-6
LOCATION:藤沢市市民活動推進センター(アーバンセンター藤沢 2F)\, 藤沢1031\, 藤沢市\, 神奈川県\, 日本
CATEGORIES:イベント,講座
ATTACH;FMTTYPE=image/jpeg:https://fujisawa-npo.jp/wp-content/uploads/2023/06/110041-scaled.jpg
ORGANIZER;CN="NPO%E6%B3%95%E4%BA%BA %E5%88%86%E8%AD%B2%E3%83%9E%E3%83%B3%E3%82%B7%E3%83%A7%E3%83%B3%E7%AE%A1%E7%90%86%E7%9B%B8%E8%AB%87%E3%82%BB%E3%83%B3%E3%82%BF%E3%83%BC":MAILTO:info@bunjyounpo.or.jp
END:VEVENT
BEGIN:VEVENT
DTSTART;TZID=Asia/Tokyo:20231125T110000
DTEND;TZID=Asia/Tokyo:20231125T190000
DTSTAMP:20260422T043541
CREATED:20231120T141714Z
LAST-MODIFIED:20231120T141714Z
UID:10817-1700910000-1700938800@fujisawa-npo.jp
SUMMARY:藤沢ワインまつり2023 in 藤沢駅北口サンパール広場
DESCRIPTION:【主催】藤沢商工会議所 青年部、藤沢ワインまつり実行委員会\nPDF情報No.111052 \n\n○企画\n・藤沢の多様な地元店舗によるおつまみ屋台\n・メルシヤン株式会社による無料ワイン試飲会\n・藤沢商工会議所 青年部によるワイン屋台\n・SPECIAL LIVE & SESSION！
URL:https://fujisawa-npo.jp/event/%e8%97%a4%e6%b2%a2%e3%83%af%e3%82%a4%e3%83%b3%e3%81%be%e3%81%a4%e3%82%8a2023-in-%e8%97%a4%e6%b2%a2%e9%a7%85%e5%8c%97%e5%8f%a3%e3%82%b5%e3%83%b3%e3%83%91%e3%83%bc%e3%83%ab%e5%ba%83%e5%a0%b4
LOCATION:藤沢駅前 サンパール広場
CATEGORIES:イベント
ATTACH;FMTTYPE=image/jpeg:https://fujisawa-npo.jp/wp-content/uploads/2023/11/111052-scaled.jpg
END:VEVENT
BEGIN:VEVENT
DTSTART;TZID=Asia/Tokyo:20231125T100000
DTEND;TZID=Asia/Tokyo:20231126T160000
DTSTAMP:20260422T043541
CREATED:20231003T035925Z
LAST-MODIFIED:20231003T035925Z
UID:9779-1700906400-1701014400@fujisawa-npo.jp
SUMMARY:第9回 府中市民協働まつり
DESCRIPTION:※企画により有料のものもあります。\nPDF情報No.110730 \n\n市内で活動する市民活動団体やCSR活動を行っている企業や行政各課の日頃の活動を知ることのできる二日間です。\n市民のみなさんが、地域での活動をはじめるきっかけとなることを目ざして開催するイベントです。\n新しい発見や出会いを探しにおでかけください。\n※特設サイトはこちら
URL:https://fujisawa-npo.jp/event/%e7%ac%ac9%e5%9b%9e-%e5%ba%9c%e4%b8%ad%e5%b8%82%e6%b0%91%e5%8d%94%e5%83%8d%e3%81%be%e3%81%a4%e3%82%8a
LOCATION:府中市市民活動センタープラッツ\, 宮町1-100-5\, 府中市\, 東京都\, 日本
CATEGORIES:イベント
ATTACH;FMTTYPE=image/jpeg:https://fujisawa-npo.jp/wp-content/uploads/2023/10/110730-scaled.jpg
END:VEVENT
BEGIN:VEVENT
DTSTART;VALUE=DATE:20231125
DTEND;VALUE=DATE:20231126
DTSTAMP:20260422T043541
CREATED:20231023T092303Z
LAST-MODIFIED:20231023T092350Z
UID:10167-1700870400-1700956799@fujisawa-npo.jp
SUMMARY:上映会「Silent Fallout  乳歯が語る大陸汚染」
DESCRIPTION:時間：13:00開場、13:30上映開始\n参加費：500円、当日700円\nPDF情報No.110826 \n\n19年に渡る独自取材にもとづく、渾身のドキュメンタリー\n30人の証言、4000ページに及ぶ文書。\nアメリカ・ネバダの核実験場から広がった“見えない放射性降下物”アメリカ大陸の放射能汚染の実態に迫る。\n1951年、アメリカ大陸ネバダ核実験場で大気圏内核実験が始まった。\n計100回に及ぶ実験はアメリカ大陸を放射能汚染。それを実証しようとしたのは女性たちだった。\n「子どもの命を守りたい」。彼女たちの思いと行動が国を動かした歴史的事実とともに、放射能汚染に向き合う30人の証言と当時の文書から、いまなお潜む、“サイレント･フォールアウト、見えない放射性投下物”の実態をあぶり出す。
URL:https://fujisawa-npo.jp/event/%e4%b8%8a%e6%98%a0%e4%bc%9a%e3%80%8csilent-fallout-%e4%b9%b3%e6%ad%af%e3%81%8c%e8%aa%9e%e3%82%8b%e5%a4%a7%e9%99%b8%e6%b1%9a%e6%9f%93%e3%80%8d
LOCATION:藤沢市民会館\, 251-0026
CATEGORIES:イベント
ATTACH;FMTTYPE=image/jpeg:https://fujisawa-npo.jp/wp-content/uploads/2023/10/110826-scaled.jpg
END:VEVENT
BEGIN:VEVENT
DTSTART;VALUE=DATE:20231125
DTEND;VALUE=DATE:20231126
DTSTAMP:20260422T043541
CREATED:20230817T150403Z
LAST-MODIFIED:20230817T150403Z
UID:8615-1700870400-1700956799@fujisawa-npo.jp
SUMMARY:エンジョイウォーク
DESCRIPTION:日程(予定)：9/29(金)、10/28(土)、11/25(土)、12/22(金)、2024/1/26(金)、2024/2/17(土)\n集合：桜木町駅・関内駅等\nPDF情報No.110459 \n\nゆっくり歩く フレイル予防\nみんなで歩いて食べて笑ってプレイルを予防しよう！\n当日の天気に柔軟に対応するため，行程は当日までのお楽しみ。\nどこへ行くかではなく誰と行くかを大切にしています\n※最新情報はこちら\n※ご予約はこちら
URL:https://fujisawa-npo.jp/event/%e3%82%a8%e3%83%b3%e3%82%b8%e3%83%a7%e3%82%a4%e3%82%a6%e3%82%a9%e3%83%bc%e3%82%af-4
LOCATION:神奈川県
CATEGORIES:イベント
ATTACH;FMTTYPE=image/jpeg:https://fujisawa-npo.jp/wp-content/uploads/2023/08/110459-scaled.jpg
END:VEVENT
BEGIN:VEVENT
DTSTART;VALUE=DATE:20231124
DTEND;VALUE=DATE:20231125
DTSTAMP:20260422T043541
CREATED:20231103T050851Z
LAST-MODIFIED:20231103T050851Z
UID:10444-1700784000-1700870399@fujisawa-npo.jp
SUMMARY:キャンドルナイト 2023 インスタグラム開設!!
DESCRIPTION:情報No.110926 \n\n11月24日(金)に神奈川大学横浜キャンパスで開催されるキャンドルナイト。\n神奈川区・港北区の各地でワークショップ開催中！！\nフォローしてキャンドルナイトの情報をcheck！\n※インスタグラムはこちら
URL:https://fujisawa-npo.jp/event/%e3%82%ad%e3%83%a3%e3%83%b3%e3%83%89%e3%83%ab%e3%83%8a%e3%82%a4%e3%83%88-2023-%e3%82%a4%e3%83%b3%e3%82%b9%e3%82%bf%e3%82%b0%e3%83%a9%e3%83%a0%e9%96%8b%e8%a8%ad
LOCATION:神奈川大学 横浜キャンパス\, 神奈川区六角橋3-27-1\, 横浜市\, 神奈川県\, 日本
CATEGORIES:イベント
ATTACH;FMTTYPE=image/jpeg:https://fujisawa-npo.jp/wp-content/uploads/2023/11/110926-scaled.jpg
ORGANIZER;CN="NPO%E6%B3%95%E4%BA%BA %E3%81%BE%E3%81%A1%C3%97%E5%AD%A6%E7%94%9F%E3%83%97%E3%83%AD%E3%82%B8%E3%82%A7%E3%82%AF%E3%83%88plus":MAILTO:info@matikake.yokohama
END:VEVENT
BEGIN:VEVENT
DTSTART;VALUE=DATE:20231124
DTEND;VALUE=DATE:20231125
DTSTAMP:20260422T043541
CREATED:20231023T094804Z
LAST-MODIFIED:20231023T094818Z
UID:10173-1700784000-1700870399@fujisawa-npo.jp
SUMMARY:共生社会推進講座「自分らしく、ありのままに」 申込締切11/24
DESCRIPTION:↑：申込締切\n日程：12/3(日)13:00～16:00\n映画鑑賞とトークイベント\nPDF情報No.110833 \n\n「さんわーくかぐや」とは、\n障がいがあってもなくても、自分らしくありのままに、いつでも仲間と一緒に過ごせる場所として2008年4月、藤沢市善行の広大な竹林と緑のエリアに開所。\n「かぐやびより」とは、\nさんわーくかぐやでの暮らしを、3年半追いかけたドキュメンタリー映画。\n監督は、延べ120日間、さんわーくかぐやに通い続け撮影を行った。\n※申し込みは明治公民館に来館または電話にて受付(平日9:00～17:00)
URL:https://fujisawa-npo.jp/event/%e5%85%b1%e7%94%9f%e7%a4%be%e4%bc%9a%e6%8e%a8%e9%80%b2%e8%ac%9b%e5%ba%a7%e3%80%8c%e8%87%aa%e5%88%86%e3%82%89%e3%81%97%e3%81%8f%e3%80%81%e3%81%82%e3%82%8a%e3%81%ae%e3%81%be%e3%81%be%e3%81%ab%e3%80%8d
LOCATION:明治公民館\, 辻堂新町1-11-23\, 藤沢市\, 神奈川県\, 日本
CATEGORIES:イベント,講座
ATTACH;FMTTYPE=image/jpeg:https://fujisawa-npo.jp/wp-content/uploads/2023/10/110833-scaled.jpg
END:VEVENT
BEGIN:VEVENT
DTSTART;TZID=Asia/Tokyo:20231123T133000
DTEND;TZID=Asia/Tokyo:20231123T150000
DTSTAMP:20260422T043541
CREATED:20231120T125110Z
LAST-MODIFIED:20231120T125110Z
UID:10804-1700746200-1700751600@fujisawa-npo.jp
SUMMARY:藤沢市アートスペース「祝日の意味を考えるフォトスナップ体験！」
DESCRIPTION:日程(全2回)：\n撮影会：11/23(木)\n発表会＆レクチャー：11/26(日)\n情報No.111043 \n\n祝日とはどんな日なのか、考えたことはありますか？\nアーティストと一緒に祝日の藤沢周辺を歩いて、歴史的背景を紐解きながら、祝日の景色をフォトスナップ(撮影)します。\n今回のテーマは「動労感謝の日」。\n後日のレクチャー＆発表会では、参加者が撮影した写真を見ながら、祝日の制度や歴史をレクチャーします。\n意図せず撮った写真には、祝日しかない景色が写っているかもしれません。\n撮影した写真の一部は、アーティストがプリントしてレクチャーの日にお渡しします。(両日参加者のみ)
URL:https://fujisawa-npo.jp/event/%e8%97%a4%e6%b2%a2%e5%b8%82%e3%82%a2%e3%83%bc%e3%83%88%e3%82%b9%e3%83%9a%e3%83%bc%e3%82%b9%e3%80%8c%e7%a5%9d%e6%97%a5%e3%81%ae%e6%84%8f%e5%91%b3%e3%82%92%e8%80%83%e3%81%88%e3%82%8b%e3%83%95%e3%82%a9
LOCATION:藤沢市アートスペース(ココテラス湘南6F)\, 辻堂神台2-2-2\, 藤沢市\, 神奈川県\, 251-0041
CATEGORIES:イベント
ATTACH;FMTTYPE=image/jpeg:https://fujisawa-npo.jp/wp-content/uploads/2023/11/111043-scaled.jpg
ORGANIZER;CN="%E8%97%A4%E6%B2%A2%E5%B8%82%E3%82%A2%E3%83%BC%E3%83%88%E3%82%B9%E3%83%9A%E3%83%BC%E3%82%B9":MAILTO:fj-art@city.fujisawa.lg.jp
END:VEVENT
BEGIN:VEVENT
DTSTART;TZID=Asia/Tokyo:20231123T130000
DTEND;TZID=Asia/Tokyo:20231123T160000
DTSTAMP:20260422T043541
CREATED:20231102T111516Z
LAST-MODIFIED:20231102T111705Z
UID:10369-1700744400-1700755200@fujisawa-npo.jp
SUMMARY:共生コンサート&体験 一緒に踊って演奏しよう～皆で創る共生オリジナルソング
DESCRIPTION:PDF情報No.110886 \n\n「多様性」「平和」をテーマにコンサートと楽しいワークショップを開催！障がいの有無も越えて、ダンスや歌を楽しみませんか♪\n支援学校とのコラボで「共生」オリジナルソングを制作中で、皆様から歌詞を公募します。\n被爆ピアノを描いた絵本「ヒロシマのピアノ」 音楽朗読劇もインクルーシブな表現として発表。広島に届ける平和メッセージも募集！\n※お問い合わせ(LINEオープンチャット)はこちら
URL:https://fujisawa-npo.jp/event/%e5%85%b1%e7%94%9f%e3%82%b3%e3%83%b3%e3%82%b5%e3%83%bc%e3%83%88%e4%bd%93%e9%a8%93-%e4%b8%80%e7%b7%92%e3%81%ab%e8%b8%8a%e3%81%a3%e3%81%a6%e6%bc%94%e5%a5%8f%e3%81%97%e3%82%88%e3%81%86%ef%bd%9e%e7%9a%86
LOCATION:神奈川県
CATEGORIES:イベント
ATTACH;FMTTYPE=image/jpeg:https://fujisawa-npo.jp/wp-content/uploads/2023/11/110886-scaled.jpg
ORGANIZER;CN="%E6%B9%98%E5%8D%97SHOW%E7%82%B9":MAILTO:clef-de-sol@jcom.home.ne.jp
END:VEVENT
BEGIN:VEVENT
DTSTART;TZID=Asia/Tokyo:20231121T090000
DTEND;TZID=Asia/Tokyo:20231203T170000
DTSTAMP:20260422T043541
CREATED:20231110T015029Z
LAST-MODIFIED:20231110T015029Z
UID:10656-1700557200-1701622800@fujisawa-npo.jp
SUMMARY:とつかの地域活動とあなたを結ぶ活動紹介展
DESCRIPTION:第1期：11/21(火)～12/3(日)、会場：戸塚総合庁舎 3階 区民広場\n第2期：12/4(月)～12/9(土)、会場：戸塚図書館 入口横(戸塚センター 1階ロビー)\n第2期：2024/1/17(水)～1/26(金)、会場：西武東戸塚S.C. 7階 連絡通路(ファーストブリッジ)\n【主催】とつか区民活動センター、戸塚区役所\nPDF情報No.110977 \n\n3つの会場で、戸塚区内・近隣の市民活動・ボランティア活動・生涯学習活動をチラシ展で紹介します。\n「何か始めたい人」と「地域活動」の出会いの場です。\n様々な分野の46団体が大集合！\n地域活動を始めたい、興味・関心がある方のご来場をお待ちしています。\n※詳しくはこちら
URL:https://fujisawa-npo.jp/event/%e3%81%a8%e3%81%a4%e3%81%8b%e3%81%ae%e5%9c%b0%e5%9f%9f%e6%b4%bb%e5%8b%95%e3%81%a8%e3%81%82%e3%81%aa%e3%81%9f%e3%82%92%e7%b5%90%e3%81%b6%e6%b4%bb%e5%8b%95%e7%b4%b9%e4%bb%8b%e5%b1%95
LOCATION:戸塚総合庁舎・戸塚区民文化センター\, 戸塚区戸塚町16-17\, 横浜市\, 神奈川県\, 日本
CATEGORIES:イベント
ATTACH;FMTTYPE=image/jpeg:https://fujisawa-npo.jp/wp-content/uploads/2023/11/110977-scaled.jpg
END:VEVENT
BEGIN:VEVENT
DTSTART;VALUE=DATE:20231121
DTEND;VALUE=DATE:20231122
DTSTAMP:20260422T043541
CREATED:20231103T044534Z
LAST-MODIFIED:20231103T044534Z
UID:10437-1700524800-1700611199@fujisawa-npo.jp
SUMMARY:クリスマスコンサート 申込締切11/21
DESCRIPTION:↑：申込締切\n開催日時：12/4(月) 10:00～10:40\n情報No.110924 \n\n～ばぁばのマゴころコンサート～\n・こどもの歌\n・クリスマスの歌と音楽\n・ミュージックベル\n・リズム♪ダンス\n※申し込みはこちら
URL:https://fujisawa-npo.jp/event/%e3%82%af%e3%83%aa%e3%82%b9%e3%83%9e%e3%82%b9%e3%82%b3%e3%83%b3%e3%82%b5%e3%83%bc%e3%83%88-%e7%94%b3%e8%be%bc%e7%b7%a0%e5%88%8711-21
LOCATION:藤沢青少年会館\, 朝日町10-8\, 藤沢市\, 神奈川県\, 日本
CATEGORIES:イベント
ATTACH;FMTTYPE=image/jpeg:https://fujisawa-npo.jp/wp-content/uploads/2023/11/110924-scaled.jpg
END:VEVENT
END:VCALENDAR