BEGIN:VCALENDAR
VERSION:2.0
PRODID:-//藤沢市市民活動推進センター - ECPv6.15.11//NONSGML v1.0//EN
CALSCALE:GREGORIAN
METHOD:PUBLISH
X-WR-CALNAME:藤沢市市民活動推進センター
X-ORIGINAL-URL:https://fujisawa-npo.jp
X-WR-CALDESC:藤沢市市民活動推進センター のイベント
REFRESH-INTERVAL;VALUE=DURATION:PT1H
X-Robots-Tag:noindex
X-PUBLISHED-TTL:PT1H
BEGIN:VTIMEZONE
TZID:Asia/Tokyo
BEGIN:STANDARD
TZOFFSETFROM:+0900
TZOFFSETTO:+0900
TZNAME:JST
DTSTART:20220101T000000
END:STANDARD
END:VTIMEZONE
BEGIN:VEVENT
DTSTART;TZID=Asia/Tokyo:20231125T100000
DTEND;TZID=Asia/Tokyo:20231126T160000
DTSTAMP:20260422T061306
CREATED:20231003T035925Z
LAST-MODIFIED:20231003T035925Z
UID:9779-1700906400-1701014400@fujisawa-npo.jp
SUMMARY:第9回 府中市民協働まつり
DESCRIPTION:※企画により有料のものもあります。\nPDF情報No.110730 \n\n市内で活動する市民活動団体やCSR活動を行っている企業や行政各課の日頃の活動を知ることのできる二日間です。\n市民のみなさんが、地域での活動をはじめるきっかけとなることを目ざして開催するイベントです。\n新しい発見や出会いを探しにおでかけください。\n※特設サイトはこちら
URL:https://fujisawa-npo.jp/event/%e7%ac%ac9%e5%9b%9e-%e5%ba%9c%e4%b8%ad%e5%b8%82%e6%b0%91%e5%8d%94%e5%83%8d%e3%81%be%e3%81%a4%e3%82%8a
LOCATION:府中市市民活動センタープラッツ\, 宮町1-100-5\, 府中市\, 東京都\, 日本
CATEGORIES:イベント
ATTACH;FMTTYPE=image/jpeg:https://fujisawa-npo.jp/wp-content/uploads/2023/10/110730-scaled.jpg
END:VEVENT
BEGIN:VEVENT
DTSTART;VALUE=DATE:20231125
DTEND;VALUE=DATE:20231126
DTSTAMP:20260422T061306
CREATED:20231023T092303Z
LAST-MODIFIED:20231023T092350Z
UID:10167-1700870400-1700956799@fujisawa-npo.jp
SUMMARY:上映会「Silent Fallout  乳歯が語る大陸汚染」
DESCRIPTION:時間：13:00開場、13:30上映開始\n参加費：500円、当日700円\nPDF情報No.110826 \n\n19年に渡る独自取材にもとづく、渾身のドキュメンタリー\n30人の証言、4000ページに及ぶ文書。\nアメリカ・ネバダの核実験場から広がった“見えない放射性降下物”アメリカ大陸の放射能汚染の実態に迫る。\n1951年、アメリカ大陸ネバダ核実験場で大気圏内核実験が始まった。\n計100回に及ぶ実験はアメリカ大陸を放射能汚染。それを実証しようとしたのは女性たちだった。\n「子どもの命を守りたい」。彼女たちの思いと行動が国を動かした歴史的事実とともに、放射能汚染に向き合う30人の証言と当時の文書から、いまなお潜む、“サイレント･フォールアウト、見えない放射性投下物”の実態をあぶり出す。
URL:https://fujisawa-npo.jp/event/%e4%b8%8a%e6%98%a0%e4%bc%9a%e3%80%8csilent-fallout-%e4%b9%b3%e6%ad%af%e3%81%8c%e8%aa%9e%e3%82%8b%e5%a4%a7%e9%99%b8%e6%b1%9a%e6%9f%93%e3%80%8d
LOCATION:藤沢市民会館\, 251-0026
CATEGORIES:イベント
ATTACH;FMTTYPE=image/jpeg:https://fujisawa-npo.jp/wp-content/uploads/2023/10/110826-scaled.jpg
END:VEVENT
BEGIN:VEVENT
DTSTART;VALUE=DATE:20231125
DTEND;VALUE=DATE:20231126
DTSTAMP:20260422T061306
CREATED:20230817T150403Z
LAST-MODIFIED:20230817T150403Z
UID:8615-1700870400-1700956799@fujisawa-npo.jp
SUMMARY:エンジョイウォーク
DESCRIPTION:日程(予定)：9/29(金)、10/28(土)、11/25(土)、12/22(金)、2024/1/26(金)、2024/2/17(土)\n集合：桜木町駅・関内駅等\nPDF情報No.110459 \n\nゆっくり歩く フレイル予防\nみんなで歩いて食べて笑ってプレイルを予防しよう！\n当日の天気に柔軟に対応するため，行程は当日までのお楽しみ。\nどこへ行くかではなく誰と行くかを大切にしています\n※最新情報はこちら\n※ご予約はこちら
URL:https://fujisawa-npo.jp/event/%e3%82%a8%e3%83%b3%e3%82%b8%e3%83%a7%e3%82%a4%e3%82%a6%e3%82%a9%e3%83%bc%e3%82%af-4
LOCATION:神奈川県
CATEGORIES:イベント
ATTACH;FMTTYPE=image/jpeg:https://fujisawa-npo.jp/wp-content/uploads/2023/08/110459-scaled.jpg
END:VEVENT
BEGIN:VEVENT
DTSTART;VALUE=DATE:20231124
DTEND;VALUE=DATE:20231125
DTSTAMP:20260422T061306
CREATED:20231103T050851Z
LAST-MODIFIED:20231103T050851Z
UID:10444-1700784000-1700870399@fujisawa-npo.jp
SUMMARY:キャンドルナイト 2023 インスタグラム開設!!
DESCRIPTION:情報No.110926 \n\n11月24日(金)に神奈川大学横浜キャンパスで開催されるキャンドルナイト。\n神奈川区・港北区の各地でワークショップ開催中！！\nフォローしてキャンドルナイトの情報をcheck！\n※インスタグラムはこちら
URL:https://fujisawa-npo.jp/event/%e3%82%ad%e3%83%a3%e3%83%b3%e3%83%89%e3%83%ab%e3%83%8a%e3%82%a4%e3%83%88-2023-%e3%82%a4%e3%83%b3%e3%82%b9%e3%82%bf%e3%82%b0%e3%83%a9%e3%83%a0%e9%96%8b%e8%a8%ad
LOCATION:神奈川大学 横浜キャンパス\, 神奈川区六角橋3-27-1\, 横浜市\, 神奈川県\, 日本
CATEGORIES:イベント
ATTACH;FMTTYPE=image/jpeg:https://fujisawa-npo.jp/wp-content/uploads/2023/11/110926-scaled.jpg
ORGANIZER;CN="NPO%E6%B3%95%E4%BA%BA %E3%81%BE%E3%81%A1%C3%97%E5%AD%A6%E7%94%9F%E3%83%97%E3%83%AD%E3%82%B8%E3%82%A7%E3%82%AF%E3%83%88plus":MAILTO:info@matikake.yokohama
END:VEVENT
BEGIN:VEVENT
DTSTART;VALUE=DATE:20231124
DTEND;VALUE=DATE:20231125
DTSTAMP:20260422T061306
CREATED:20231023T094804Z
LAST-MODIFIED:20231023T094818Z
UID:10173-1700784000-1700870399@fujisawa-npo.jp
SUMMARY:共生社会推進講座「自分らしく、ありのままに」 申込締切11/24
DESCRIPTION:↑：申込締切\n日程：12/3(日)13:00～16:00\n映画鑑賞とトークイベント\nPDF情報No.110833 \n\n「さんわーくかぐや」とは、\n障がいがあってもなくても、自分らしくありのままに、いつでも仲間と一緒に過ごせる場所として2008年4月、藤沢市善行の広大な竹林と緑のエリアに開所。\n「かぐやびより」とは、\nさんわーくかぐやでの暮らしを、3年半追いかけたドキュメンタリー映画。\n監督は、延べ120日間、さんわーくかぐやに通い続け撮影を行った。\n※申し込みは明治公民館に来館または電話にて受付(平日9:00～17:00)
URL:https://fujisawa-npo.jp/event/%e5%85%b1%e7%94%9f%e7%a4%be%e4%bc%9a%e6%8e%a8%e9%80%b2%e8%ac%9b%e5%ba%a7%e3%80%8c%e8%87%aa%e5%88%86%e3%82%89%e3%81%97%e3%81%8f%e3%80%81%e3%81%82%e3%82%8a%e3%81%ae%e3%81%be%e3%81%be%e3%81%ab%e3%80%8d
LOCATION:明治公民館\, 辻堂新町1-11-23\, 藤沢市\, 神奈川県\, 日本
CATEGORIES:イベント,講座
ATTACH;FMTTYPE=image/jpeg:https://fujisawa-npo.jp/wp-content/uploads/2023/10/110833-scaled.jpg
END:VEVENT
BEGIN:VEVENT
DTSTART;TZID=Asia/Tokyo:20231123T133000
DTEND;TZID=Asia/Tokyo:20231123T150000
DTSTAMP:20260422T061306
CREATED:20231120T125110Z
LAST-MODIFIED:20231120T125110Z
UID:10804-1700746200-1700751600@fujisawa-npo.jp
SUMMARY:藤沢市アートスペース「祝日の意味を考えるフォトスナップ体験！」
DESCRIPTION:日程(全2回)：\n撮影会：11/23(木)\n発表会＆レクチャー：11/26(日)\n情報No.111043 \n\n祝日とはどんな日なのか、考えたことはありますか？\nアーティストと一緒に祝日の藤沢周辺を歩いて、歴史的背景を紐解きながら、祝日の景色をフォトスナップ(撮影)します。\n今回のテーマは「動労感謝の日」。\n後日のレクチャー＆発表会では、参加者が撮影した写真を見ながら、祝日の制度や歴史をレクチャーします。\n意図せず撮った写真には、祝日しかない景色が写っているかもしれません。\n撮影した写真の一部は、アーティストがプリントしてレクチャーの日にお渡しします。(両日参加者のみ)
URL:https://fujisawa-npo.jp/event/%e8%97%a4%e6%b2%a2%e5%b8%82%e3%82%a2%e3%83%bc%e3%83%88%e3%82%b9%e3%83%9a%e3%83%bc%e3%82%b9%e3%80%8c%e7%a5%9d%e6%97%a5%e3%81%ae%e6%84%8f%e5%91%b3%e3%82%92%e8%80%83%e3%81%88%e3%82%8b%e3%83%95%e3%82%a9
LOCATION:藤沢市アートスペース(ココテラス湘南6F)\, 辻堂神台2-2-2\, 藤沢市\, 神奈川県\, 251-0041
CATEGORIES:イベント
ATTACH;FMTTYPE=image/jpeg:https://fujisawa-npo.jp/wp-content/uploads/2023/11/111043-scaled.jpg
ORGANIZER;CN="%E8%97%A4%E6%B2%A2%E5%B8%82%E3%82%A2%E3%83%BC%E3%83%88%E3%82%B9%E3%83%9A%E3%83%BC%E3%82%B9":MAILTO:fj-art@city.fujisawa.lg.jp
END:VEVENT
BEGIN:VEVENT
DTSTART;TZID=Asia/Tokyo:20231123T130000
DTEND;TZID=Asia/Tokyo:20231123T160000
DTSTAMP:20260422T061306
CREATED:20231102T111516Z
LAST-MODIFIED:20231102T111705Z
UID:10369-1700744400-1700755200@fujisawa-npo.jp
SUMMARY:共生コンサート&体験 一緒に踊って演奏しよう～皆で創る共生オリジナルソング
DESCRIPTION:PDF情報No.110886 \n\n「多様性」「平和」をテーマにコンサートと楽しいワークショップを開催！障がいの有無も越えて、ダンスや歌を楽しみませんか♪\n支援学校とのコラボで「共生」オリジナルソングを制作中で、皆様から歌詞を公募します。\n被爆ピアノを描いた絵本「ヒロシマのピアノ」 音楽朗読劇もインクルーシブな表現として発表。広島に届ける平和メッセージも募集！\n※お問い合わせ(LINEオープンチャット)はこちら
URL:https://fujisawa-npo.jp/event/%e5%85%b1%e7%94%9f%e3%82%b3%e3%83%b3%e3%82%b5%e3%83%bc%e3%83%88%e4%bd%93%e9%a8%93-%e4%b8%80%e7%b7%92%e3%81%ab%e8%b8%8a%e3%81%a3%e3%81%a6%e6%bc%94%e5%a5%8f%e3%81%97%e3%82%88%e3%81%86%ef%bd%9e%e7%9a%86
LOCATION:神奈川県
CATEGORIES:イベント
ATTACH;FMTTYPE=image/jpeg:https://fujisawa-npo.jp/wp-content/uploads/2023/11/110886-scaled.jpg
ORGANIZER;CN="%E6%B9%98%E5%8D%97SHOW%E7%82%B9":MAILTO:clef-de-sol@jcom.home.ne.jp
END:VEVENT
BEGIN:VEVENT
DTSTART;TZID=Asia/Tokyo:20231121T090000
DTEND;TZID=Asia/Tokyo:20231203T170000
DTSTAMP:20260422T061306
CREATED:20231110T015029Z
LAST-MODIFIED:20231110T015029Z
UID:10656-1700557200-1701622800@fujisawa-npo.jp
SUMMARY:とつかの地域活動とあなたを結ぶ活動紹介展
DESCRIPTION:第1期：11/21(火)～12/3(日)、会場：戸塚総合庁舎 3階 区民広場\n第2期：12/4(月)～12/9(土)、会場：戸塚図書館 入口横(戸塚センター 1階ロビー)\n第2期：2024/1/17(水)～1/26(金)、会場：西武東戸塚S.C. 7階 連絡通路(ファーストブリッジ)\n【主催】とつか区民活動センター、戸塚区役所\nPDF情報No.110977 \n\n3つの会場で、戸塚区内・近隣の市民活動・ボランティア活動・生涯学習活動をチラシ展で紹介します。\n「何か始めたい人」と「地域活動」の出会いの場です。\n様々な分野の46団体が大集合！\n地域活動を始めたい、興味・関心がある方のご来場をお待ちしています。\n※詳しくはこちら
URL:https://fujisawa-npo.jp/event/%e3%81%a8%e3%81%a4%e3%81%8b%e3%81%ae%e5%9c%b0%e5%9f%9f%e6%b4%bb%e5%8b%95%e3%81%a8%e3%81%82%e3%81%aa%e3%81%9f%e3%82%92%e7%b5%90%e3%81%b6%e6%b4%bb%e5%8b%95%e7%b4%b9%e4%bb%8b%e5%b1%95
LOCATION:戸塚総合庁舎・戸塚区民文化センター\, 戸塚区戸塚町16-17\, 横浜市\, 神奈川県\, 日本
CATEGORIES:イベント
ATTACH;FMTTYPE=image/jpeg:https://fujisawa-npo.jp/wp-content/uploads/2023/11/110977-scaled.jpg
END:VEVENT
BEGIN:VEVENT
DTSTART;VALUE=DATE:20231121
DTEND;VALUE=DATE:20231122
DTSTAMP:20260422T061306
CREATED:20231103T044534Z
LAST-MODIFIED:20231103T044534Z
UID:10437-1700524800-1700611199@fujisawa-npo.jp
SUMMARY:クリスマスコンサート 申込締切11/21
DESCRIPTION:↑：申込締切\n開催日時：12/4(月) 10:00～10:40\n情報No.110924 \n\n～ばぁばのマゴころコンサート～\n・こどもの歌\n・クリスマスの歌と音楽\n・ミュージックベル\n・リズム♪ダンス\n※申し込みはこちら
URL:https://fujisawa-npo.jp/event/%e3%82%af%e3%83%aa%e3%82%b9%e3%83%9e%e3%82%b9%e3%82%b3%e3%83%b3%e3%82%b5%e3%83%bc%e3%83%88-%e7%94%b3%e8%be%bc%e7%b7%a0%e5%88%8711-21
LOCATION:藤沢青少年会館\, 朝日町10-8\, 藤沢市\, 神奈川県\, 日本
CATEGORIES:イベント
ATTACH;FMTTYPE=image/jpeg:https://fujisawa-npo.jp/wp-content/uploads/2023/11/110924-scaled.jpg
END:VEVENT
BEGIN:VEVENT
DTSTART;TZID=Asia/Tokyo:20231120T100000
DTEND;TZID=Asia/Tokyo:20231122T110000
DTSTAMP:20260422T061306
CREATED:20231023T085951Z
LAST-MODIFIED:20231023T091805Z
UID:10155-1700474400-1700650800@fujisawa-npo.jp
SUMMARY:住宅型有料老人ホームで働くメンバー募集(説明会)
DESCRIPTION:日程：11/20(月)～11/22(水)、12/18(月)～12/20(水)、2023/1/15(月)～1/17(水)\n時間：各日共10:00～11:00\nPDF情報No.110825 \n\n福祉クラブ生協の「住み慣れた街で暮らし続けたい」\n在宅福祉支援サービスを実践する複合福祉施設「みのり藤沢」では、子育て中の方、子供が手を離れて何かを始めようと考えている方、定年退職して地域での活動を考えている方、一緒に入居者のお世話をしてみませんか。\n未経験な方も大歓迎です。きっとあなたに合った働き方が見つかるはず。\nあなたの生きがいを探してみませんか。\n※複合福祉施設「みのり藤沢」は入居者の方だけではなく、他のサービス利用者や組合員、地域の方、みんなが集い、いきいきと暮らす施設を目指します。\n※複合福祉施設の紹介動画はこちら
URL:https://fujisawa-npo.jp/event/%e4%bd%8f%e5%ae%85%e5%9e%8b%e6%9c%89%e6%96%99%e8%80%81%e4%ba%ba%e3%83%9b%e3%83%bc%e3%83%a0%e3%81%a7%e5%83%8d%e3%81%8f%e3%83%a1%e3%83%b3%e3%83%90%e3%83%bc%e5%8b%9f%e9%9b%86%e8%aa%ac%e6%98%8e%e4%bc%9a-2
LOCATION:複合福祉施設「みのり藤沢」\, 辻堂元町6-3-9\, 藤沢市\, 神奈川県\, 日本
CATEGORIES:イベント
ATTACH;FMTTYPE=image/jpeg:https://fujisawa-npo.jp/wp-content/uploads/2023/10/110825-scaled.jpg
END:VEVENT
BEGIN:VEVENT
DTSTART;TZID=Asia/Tokyo:20231119T140000
DTEND;TZID=Asia/Tokyo:20231119T150000
DTSTAMP:20260422T061306
CREATED:20231030T121151Z
LAST-MODIFIED:20231030T121235Z
UID:10319-1700402400-1700406000@fujisawa-npo.jp
SUMMARY:チャランゴ系YouTuberがお届けするボリビア
DESCRIPTION:ミニコンサート＆トーク\n参加費：常設展示室観覧料(未就学児無料、小・中学生100円、大人400円、学生・65歳以上で左記以外の20歳未満の方200円)\n情報No.110891 \n\nこども歓迎！楽器体験あり！\nアンデス地方の楽器「チャランゴ｣つて､どんな音色なんだろう？\nチャランゴ系YouTuberがボリビアの楽しい音楽と面白いトークをお届けします。\nイベント終了後には､こどもの国際理解展示室でいろんな楽器を体験しよう！ \n講師：桑原 健一 氏\n東京都出身。TOYO草薙氏と出会いチャランゴを始める。\n21歳のとき1年間ボリビアに自主留学。2011年から8年間活動拠点をボリビアに移し活動。\nソロ奏者として第36回アイキレ国際チャランゴ・コンクール国際部門金賞を受賞。\n2019年より拠点を日本に移し「東京リャマ計画」、「3人アンデス」のメンバーとして精力的に活動中。\n日本初のチャランゴ系YouTuberとしても知られている。\n「アニメ・ゆるキャン△SEASON2」のBGM録音参加。\nBSテレ東「おんがく交差点」などメディア出演もしている。
URL:https://fujisawa-npo.jp/event/%e3%83%81%e3%83%a3%e3%83%a9%e3%83%b3%e3%82%b4%e7%b3%bbyoutuber%e3%81%8c%e3%81%8a%e5%b1%8a%e3%81%91%e3%81%99%e3%82%8b%e3%83%9c%e3%83%aa%e3%83%93%e3%82%a2
LOCATION:あーすぷらざ (神奈川県立地球市民かながわプラザ)\, 栄区小菅ヶ谷1-2-1\, 横浜市\, 神奈川県\, 247-0007
CATEGORIES:イベント
ATTACH;FMTTYPE=image/jpeg:https://fujisawa-npo.jp/wp-content/uploads/2023/10/110891-scaled.jpg
ORGANIZER;CN="%E7%A5%9E%E5%A5%88%E5%B7%9D%E7%9C%8C%E7%AB%8B%E5%9C%B0%E7%90%83%E5%B8%82%E6%B0%91%E3%82%BB%E3%83%B3%E3%82%BF%E3%83%BC%E3%81%8B%E3%81%AA%E3%81%8C%E3%82%8F%E3%83%97%E3%83%A9%E3%82%B6(%E3%81%82%E3%83%BC%E3%81%99%E3%81%B7%E3%82%89%E3%81%96)":MAILTO:gakushu@earthplaza.jp
END:VEVENT
BEGIN:VEVENT
DTSTART;TZID=Asia/Tokyo:20231119T100000
DTEND;TZID=Asia/Tokyo:20231119T124500
DTSTAMP:20260422T061306
CREATED:20231030T115951Z
LAST-MODIFIED:20231030T115951Z
UID:10315-1700388000-1700397900@fujisawa-npo.jp
SUMMARY:湘南に響く被爆ピアノ＠茅ヶ崎
DESCRIPTION:【主催】湘南SHOW点、湘南市民ワークショップ\n情報No.110885 \n\n被爆ピアノ体験会／音楽朗読劇「ヒロシマのピアノ」 出演者を募集中！\n被爆ピアノを知つていますか？ 原爆で傷ついたピアノの音色を、聴いたことがありますか？\n演奏できる状態の被爆ピアノは、7台しか現存しません。貴重なピアノを弾いて・聴いてみませんか？\n◆被爆ピアノ体験会(事前予麹制・参加無料)おひとり5分以内の演奏となります。\n10:30～10:45／12:00～12:15(予定) 各3人 参加者募集中\n◆「ヒロシマのピアノ」音楽朗読劇 出演者募集！ 出演希望者は事前WSにご参加ください\n※参加費：500円
URL:https://fujisawa-npo.jp/event/%e6%b9%98%e5%8d%97%e3%81%ab%e9%9f%bf%e3%81%8f%e8%a2%ab%e7%88%86%e3%83%94%e3%82%a2%e3%83%8e%ef%bc%a0%e8%8c%85%e3%83%b6%e5%b4%8e
LOCATION:茅ヶ崎市役所 分庁舎\, 茅ヶ崎1-1-1\, 茅ヶ崎市\, 神奈川県\, 日本
CATEGORIES:イベント
ATTACH;FMTTYPE=image/jpeg:https://fujisawa-npo.jp/wp-content/uploads/2023/10/110885-scaled.jpg
ORGANIZER;CN="%E6%B9%98%E5%8D%97SHOW%E7%82%B9":MAILTO:clef-de-sol@jcom.home.ne.jp
END:VEVENT
BEGIN:VEVENT
DTSTART;TZID=Asia/Tokyo:20231119T100000
DTEND;TZID=Asia/Tokyo:20231119T120000
DTSTAMP:20260422T061306
CREATED:20230628T231737Z
LAST-MODIFIED:20230628T231737Z
UID:7073-1700388000-1700395200@fujisawa-npo.jp
SUMMARY:令和5年度 里山歩き事業「里山歩きへのお誘い」
DESCRIPTION:実施場所：県立座間谷戸公園\n集合場所：座間市立青少年センター3階 会議室\n情報No.110101 \n\n私たちと一緒に歩きましょう！\n当法人は、障がいのある人もない人も、地域で共に安心して暮らす社会を目指しています。\n支援する側に必要な学びの場のひとつとして里山歩き事業を実施しています。\n本人たちと私たちの共通点を知り、特性や注意点などを共に学びながら、自然の中で楽しく歩きましょう！\n※申込はこちら
URL:https://fujisawa-npo.jp/event/%e4%bb%a4%e5%92%8c5%e5%b9%b4%e5%ba%a6-%e9%87%8c%e5%b1%b1%e6%ad%a9%e3%81%8d%e4%ba%8b%e6%a5%ad%e3%80%8c%e9%87%8c%e5%b1%b1%e6%ad%a9%e3%81%8d%e3%81%b8%e3%81%ae%e3%81%8a%e8%aa%98%e3%81%84%e3%80%8d-4
LOCATION:座間市立青少年センター\, 立野台1-1-4\, 座間市\, 神奈川県\, 日本
CATEGORIES:イベント
ATTACH;FMTTYPE=image/jpeg:https://fujisawa-npo.jp/wp-content/uploads/2023/06/110101-scaled.jpg
END:VEVENT
BEGIN:VEVENT
DTSTART;TZID=Asia/Tokyo:20231119T094500
DTEND;TZID=Asia/Tokyo:20231119T150000
DTSTAMP:20260422T061306
CREATED:20231016T091209Z
LAST-MODIFIED:20231016T091209Z
UID:10020-1700387100-1700406000@fujisawa-npo.jp
SUMMARY:市民活動発表会2023
DESCRIPTION:PDF情報No.110804 \n\n佐倉市が市民公益活動団体の発表の場として例年開催していた「ボランティア・市民活動フェスタ」は、新型コロナウイルス感染症の影響を受け、令和2年度以降は中止となっていました。\nしかし、さまざまな活動が再開しはじめた今年度、多くの方々に市民団体の活動を知っていただく新たな機会として、「市民活動発表会2023」を開催いたします。団体の舞台発表やブース展示、体験コーナーなど楽しいイベントが盛りだくさんです。
URL:https://fujisawa-npo.jp/event/%e5%b8%82%e6%b0%91%e6%b4%bb%e5%8b%95%e7%99%ba%e8%a1%a8%e4%bc%9a2023
LOCATION:佐倉市立中央公民館\, 鏑木町198-3\, 佐倉市\, 千葉県\, 日本
CATEGORIES:イベント
ATTACH;FMTTYPE=image/jpeg:https://fujisawa-npo.jp/wp-content/uploads/2023/10/110804-scaled.jpg
END:VEVENT
BEGIN:VEVENT
DTSTART;TZID=Asia/Tokyo:20231119T090000
DTEND;TZID=Asia/Tokyo:20231119T123000
DTSTAMP:20260422T061306
CREATED:20230814T135952Z
LAST-MODIFIED:20230814T135952Z
UID:8544-1700384400-1700397000@fujisawa-npo.jp
SUMMARY:ふじさわ子ども森の探偵団 申込締切11/15
DESCRIPTION:情報No.110444 \n\n秋の森でノコギリ体験と落ち葉でやきいも作りをしよう！\nご希望の保護者の方には、子どもたちのノコギリ体験の間に、森を知る樹木観察ツアーも行います\n・服装：森に入るので、長そで・長ズボンの服装、運動ぐつ\n・持ち物：飲み物、タオル、軍手(綿)、自転車用ヘルメット
URL:https://fujisawa-npo.jp/event/%e3%81%b5%e3%81%98%e3%81%95%e3%82%8f%e5%ad%90%e3%81%a9%e3%82%82%e6%a3%ae%e3%81%ae%e6%8e%a2%e5%81%b5%e5%9b%a3-%e7%94%b3%e8%be%bc%e7%b7%a0%e5%88%8711-15
LOCATION:藤沢市少年の森\, 打戻2345\, 藤沢市\, 神奈川県\, 日本
CATEGORIES:イベント
ATTACH;FMTTYPE=image/jpeg:https://fujisawa-npo.jp/wp-content/uploads/2023/08/110444-scaled.jpg
END:VEVENT
BEGIN:VEVENT
DTSTART;VALUE=DATE:20231119
DTEND;VALUE=DATE:20240201
DTSTAMP:20260422T061306
CREATED:20231025T064211Z
LAST-MODIFIED:20231026T100017Z
UID:10248-1700352000-1706745599@fujisawa-npo.jp
SUMMARY:イルミネーション湘南台 2023
DESCRIPTION:日程：\n・点灯式セレモニー：11/19(日)14:00～18:20\n・クリスマスツリー：11/19(日)～12/25(月)\n・イルミネーション：11月初旬～2024/1月末\n会場：湘南台駅地下・3駅構内・湘南台市民センター\nPDF情報No.110860 \n\nイルミネーションのあたたかい光で皆様の冬もあたたかくなりますように！\n子ども・学生・地域住民・地域団体・商店街・企業・行政などが協働して、x’masツリー＆イルミネーション点灯・点灯イベント開催。園児がデザインしたクリスマスの絵・小学生のメッセージの展示により、湘南台の冬を演出。
URL:https://fujisawa-npo.jp/event/__trashed-2
LOCATION:神奈川県
CATEGORIES:イベント
ATTACH;FMTTYPE=image/jpeg:https://fujisawa-npo.jp/wp-content/uploads/2023/10/110860-scaled.jpg
ORGANIZER;CN="%E3%82%A4%E3%83%AB%E3%83%9F%E3%83%8D%E3%83%BC%E3%82%B7%E3%83%A7%E3%83%B3%E6%B9%98%E5%8D%97%E5%8F%B0 %E5%AE%9F%E8%A1%8C%E5%A7%94%E5%93%A1%E4%BC%9A":MAILTO:nokimoto_y@yahoo.co.jp
END:VEVENT
BEGIN:VEVENT
DTSTART;TZID=Asia/Tokyo:20231118T113000
DTEND;TZID=Asia/Tokyo:20231118T160000
DTSTAMP:20260422T061306
CREATED:20230928T105836Z
LAST-MODIFIED:20230928T105836Z
UID:9428-1700307000-1700323200@fujisawa-npo.jp
SUMMARY:湘南に響く被爆ピアノ＠湘南台
DESCRIPTION:会場：湘南台駅地下(湘南台アートスクエア)\n【主催】湘南SHOW点、湘南市民ワークショップ、イルミネーション湘南台\n情報No.110689 \n\n被爆ピアノ体験会／音楽朗読劇「ヒロシマのピアノ」 出演者を募集中！\n被爆ピアノを知つていますか？ 原爆で傷ついたピアノの音色を、聴いたことがありますか？\n演奏できる状態の被爆ピアノは、7台しか現存しません。貴重なピアノを弾いて・聴いてみませんか？\n◆被爆ピアノ体験会(事前予麹制・参加無料)おひとり5分以内の演奏となります。\n12:30～13:00／14:30～15:00(予定) 各5人 参加者募集中\n◆「ヒロシマのピアノ」音楽朗読劇 出演者募集！ 事前練習にご参加を\n※参加費：500円
URL:https://fujisawa-npo.jp/event/%e6%b9%98%e5%8d%97%e3%81%ab%e9%9f%bf%e3%81%8f%e8%a2%ab%e7%88%86%e3%83%94%e3%82%a2%e3%83%8e%ef%bc%a0%e6%b9%98%e5%8d%97%e5%8f%b0
LOCATION:神奈川県
CATEGORIES:イベント
ATTACH;FMTTYPE=image/jpeg:https://fujisawa-npo.jp/wp-content/uploads/2023/09/110689-scaled.jpg
ORGANIZER;CN="%E6%B9%98%E5%8D%97SHOW%E7%82%B9":MAILTO:clef-de-sol@jcom.home.ne.jp
END:VEVENT
BEGIN:VEVENT
DTSTART;TZID=Asia/Tokyo:20231118T110000
DTEND;TZID=Asia/Tokyo:20231118T140000
DTSTAMP:20260422T061306
CREATED:20231108T084651Z
LAST-MODIFIED:20231108T084651Z
UID:10596-1700305200-1700316000@fujisawa-npo.jp
SUMMARY:第16回 広町緑地 収穫祭
DESCRIPTION:場所：広町緑地 管理棟前 広場 及び その周辺\n主催【2023年収穫祭実行委員会】\n情報No.110959 \n\n広町の森を恵を分かちあおう！\n広町緑地収穫祭は、里山「広町」の恵みを市民のみなさまと共に祝い、分け合うお祭りです！\n広町は公園なので収穫物は地域に分けられるのは一年にこのときだけです。\nぜひこの機会に広町の恵をお楽しみにください。\n・収穫物の販売\n・焼き芋などの食べ物販売\n・ワークショップいろいろ\n※詳細はこちら
URL:https://fujisawa-npo.jp/event/%e7%ac%ac16%e5%9b%9e-%e5%ba%83%e7%94%ba%e7%b7%91%e5%9c%b0-%e5%8f%8e%e7%a9%ab%e7%a5%ad
LOCATION:神奈川県
CATEGORIES:イベント
ATTACH;FMTTYPE=image/jpeg:https://fujisawa-npo.jp/wp-content/uploads/2023/11/110959-scaled.jpg
END:VEVENT
BEGIN:VEVENT
DTSTART;TZID=Asia/Tokyo:20231118T103000
DTEND;TZID=Asia/Tokyo:20231118T153000
DTSTAMP:20260422T061306
CREATED:20231030T120400Z
LAST-MODIFIED:20231030T120400Z
UID:10317-1700303400-1700321400@fujisawa-npo.jp
SUMMARY:ごえん楽市 2023
DESCRIPTION:情報No.110887 \n\nごえん楽市は､川崎市内で活動する市民活動団体と出会える年1回の見本市です。\nどなたでも参加できる楽しい企画から専門的な相談まで、みんなの力が光る豊かな企画でみなさまをお待ちしています！\n※ごえん楽市特設ページはこちら
URL:https://fujisawa-npo.jp/event/%e3%81%94%e3%81%88%e3%82%93%e6%a5%bd%e5%b8%82-2023
LOCATION:かわさき市民活動センター(中原市民館)\, 中原区新丸子東3-1100-12\, 川崎市\, 神奈川県\, 日本
CATEGORIES:イベント
ATTACH;FMTTYPE=image/jpeg:https://fujisawa-npo.jp/wp-content/uploads/2023/10/110887-scaled.jpg
END:VEVENT
BEGIN:VEVENT
DTSTART;TZID=Asia/Tokyo:20231118T103000
DTEND;TZID=Asia/Tokyo:20231118T120000
DTSTAMP:20260422T061306
CREATED:20231030T123856Z
LAST-MODIFIED:20231030T123856Z
UID:10337-1700303400-1700308800@fujisawa-npo.jp
SUMMARY:０から始める多言語のススメ
DESCRIPTION:多言語ワークショップ：11/18(土)・ココテラス湘南 5階、11/25(土)・藤沢商工会館ミナパーク\nオンライン講座：11/23(木)\nPDF情報No.110921 \n\n世界が広がる 日常が変わる\n家族で参加できるワークショップ＆講座 多言語で世界につながろう！\nこんな方におすすめ\n・子どもと自然に英語を・・・\n・いろんな言語に興味がある\n・育児をもっと楽しくしたい\n・親子で一緒に楽しめるもの\n・素敵な仲間が欲しい\n・ホームステイ・留学に興味がある
URL:https://fujisawa-npo.jp/event/%ef%bc%90%e3%81%8b%e3%82%89%e5%a7%8b%e3%82%81%e3%82%8b%e5%a4%9a%e8%a8%80%e8%aa%9e%e3%81%ae%e3%82%b9%e3%82%b9%e3%83%a1
LOCATION:神奈川県
CATEGORIES:イベント,講座
ATTACH;FMTTYPE=image/jpeg:https://fujisawa-npo.jp/wp-content/uploads/2023/10/110921-scaled.jpg
END:VEVENT
BEGIN:VEVENT
DTSTART;VALUE=DATE:20231118
DTEND;VALUE=DATE:20231119
DTSTAMP:20260422T061306
CREATED:20231114T063332Z
LAST-MODIFIED:20231114T063332Z
UID:10732-1700265600-1700351999@fujisawa-npo.jp
SUMMARY:JUON NETWORK「秋冬のボランティア情報」
DESCRIPTION:情報No.111014 \n\n◆関東「かずさの里 森林の楽校(大多喜)」\n日時・場所；12/2(土) 千葉県夷隅郡大多喜町\n◆九州「つばきの里 森林の楽校」\n日時・場所；11/26(日) 長崎県長崎市\n◆関西「キノコの森 森林の楽校」\n日時・場所；11/19(日) 京都府亀岡市\n◆東海\n・「風の谷 森林の楽校 秋11月」\n日時・場所；11/11(土)～11/12(日) 岐阜県揖斐郡揖斐川町\n・「風の谷 森林の楽校・冬」\n日時・場所；12/9(土)～12/10(日) 岐阜県揖斐郡揖斐川町\n・「南伊勢のみかん 田畑の楽校」\n日時・場所；11/18(土)・11/19(日)・12/10(日)・2024/2/4(日) 三重県度会群南伊勢町
URL:https://fujisawa-npo.jp/event/juon-network%e3%80%8c%e7%a7%8b%e5%86%ac%e3%81%ae%e3%83%9c%e3%83%a9%e3%83%b3%e3%83%86%e3%82%a3%e3%82%a2%e6%83%85%e5%a0%b1%e3%80%8d
LOCATION:神奈川県
CATEGORIES:イベント
ATTACH;FMTTYPE=image/jpeg:https://fujisawa-npo.jp/wp-content/uploads/2023/11/111014-scaled.jpg
ORGANIZER;CN="%E8%AA%8D%E5%AE%9ANPO%E6%B3%95%E4%BA%BA JUON NETWORK(%E6%A8%B9%E6%81%A9%E3%83%8D%E3%83%83%E3%83%88%E3%83%AF%E3%83%BC%E3%82%AF)":MAILTO:juon-office@univcoop.or.jp
END:VEVENT
BEGIN:VEVENT
DTSTART;VALUE=DATE:20231118
DTEND;VALUE=DATE:20231119
DTSTAMP:20260422T061306
CREATED:20231016T091817Z
LAST-MODIFIED:20231016T091817Z
UID:10022-1700265600-1700351999@fujisawa-npo.jp
SUMMARY:逗子次世代育成プロジェクト「和太鼓×篠笛 Session Live」
DESCRIPTION:時間：15:30開場、16:00開演\nチケット：前売り4000円、当日4500円\n【主催】(株)いのちとぶんか社\nPDF情報No.110807 \n\n文化を次世代へ継承し育成するプロジェクト。\n第4弾となる今回は、和太鼓・篠笛のセッションライブをお届け致します。\n大迫力の和太鼓演奏と篠笛の調べをどうぞお楽しみください。\n※チケットシステムはこちら
URL:https://fujisawa-npo.jp/event/%e9%80%97%e5%ad%90%e6%ac%a1%e4%b8%96%e4%bb%a3%e8%82%b2%e6%88%90%e3%83%97%e3%83%ad%e3%82%b8%e3%82%a7%e3%82%af%e3%83%88%e3%80%8c%e5%92%8c%e5%a4%aa%e9%bc%93x%e7%af%a0%e7%ac%9b-session-live%e3%80%8d
LOCATION:逗子文化プラザ なぎさホール\, 逗子4-2-10\, 逗子市\, 神奈川県\, 日本
CATEGORIES:イベント
ATTACH;FMTTYPE=image/jpeg:https://fujisawa-npo.jp/wp-content/uploads/2023/10/110807-scaled.jpg
END:VEVENT
BEGIN:VEVENT
DTSTART;VALUE=DATE:20231117
DTEND;VALUE=DATE:20231118
DTSTAMP:20260422T061306
CREATED:20231024T134110Z
LAST-MODIFIED:20231024T134110Z
UID:10222-1700179200-1700265599@fujisawa-npo.jp
SUMMARY:かながわコミュニティカレッジ 講座企画提案募集 応募締切11/17
DESCRIPTION:応募期間：10/20(金)～↑(11/17(金))\n情報No.110870 \n\n令和6年7月上旬から令和7年3月上旬の期間内に、かながわコミュニティカレッジで実施する講座の企画提案を募集します。\n※詳細はこちら\n※e-kanagawa電子申請システムはこちら
URL:https://fujisawa-npo.jp/event/%e3%81%8b%e3%81%aa%e3%81%8c%e3%82%8f%e3%82%b3%e3%83%9f%e3%83%a5%e3%83%8b%e3%83%86%e3%82%a3%e3%82%ab%e3%83%ac%e3%83%83%e3%82%b8-%e8%ac%9b%e5%ba%a7%e4%bc%81%e7%94%bb%e6%8f%90%e6%a1%88%e5%8b%9f%e9%9b%86
LOCATION:神奈川県
CATEGORIES:イベント
ATTACH;FMTTYPE=image/jpeg:https://fujisawa-npo.jp/wp-content/uploads/2023/10/110870-scaled.jpg
END:VEVENT
BEGIN:VEVENT
DTSTART;VALUE=DATE:20231115
DTEND;VALUE=DATE:20231225
DTSTAMP:20260422T061306
CREATED:20231207T223525Z
LAST-MODIFIED:20231207T223525Z
UID:11004-1700006400-1703462399@fujisawa-npo.jp
SUMMARY:キャンドルナイト2023
DESCRIPTION:日程：分散開催 11/15(水)～12/23(土)、全施設一斉開催 12/24(日)\n【主催】キャンドルナイト2023実行委員会\nPDF情報No.111119 \n\n【合言葉は「冬に再会しよう」】\n冬にイベントがなくて、せっかく仲良くなっても地域の方々と会えない時間が生まれてしまう。\nこれを解決すべく、夏、秋のイベントで出会った方々と「冬に再会しよう」と始まったのがキャンドルナイトです。\nキャンドルナイトは、牛乳パックで作ったキャンドルホルダーに明かりを灯し、各団体さんの施設と神奈川大学で点灯しています。\n2018年から始まったキャンドルナイトを今年で6回目の開催を迎えることが出来ました。\n※まちかけとは：\n世代を超えて想いをつなぐ「まち」づくりを目標にかかげている「まちＸ学生プロジェクトplUS」というNPO法人です。\n2018年から、横浜市六角橋を中心に活動しています。名前の通り、「まち」と「学生」をつなげることで学生とまちの方々の交流を深めてきました。\n交流をすることで、お互いの意見を尊重し合える関係を築き様々な活動をしています。\n※インスタグラムはこちら
URL:https://fujisawa-npo.jp/event/%e3%82%ad%e3%83%a3%e3%83%b3%e3%83%89%e3%83%ab%e3%83%8a%e3%82%a4%e3%83%882023
LOCATION:神奈川大学 横浜キャンパス\, 神奈川区六角橋3-27-1\, 横浜市\, 神奈川県\, 日本
CATEGORIES:イベント
ATTACH;FMTTYPE=image/jpeg:https://fujisawa-npo.jp/wp-content/uploads/2023/12/111119-scaled.jpg
ORGANIZER;CN="NPO%E6%B3%95%E4%BA%BA %E3%81%BE%E3%81%A1%C3%97%E5%AD%A6%E7%94%9F%E3%83%97%E3%83%AD%E3%82%B8%E3%82%A7%E3%82%AF%E3%83%88plus":MAILTO:info@matikake.yokohama
END:VEVENT
BEGIN:VEVENT
DTSTART;TZID=Asia/Tokyo:20231114T100000
DTEND;TZID=Asia/Tokyo:20231217T190000
DTSTAMP:20260422T061306
CREATED:20231114T062153Z
LAST-MODIFIED:20231114T062153Z
UID:10727-1699956000-1702839600@fujisawa-npo.jp
SUMMARY:藤沢市藤澤浮世絵館「なぜか忠臣蔵」
DESCRIPTION:日程：\n・前期：11/14(火)～11/29(水)\n・後期：12/02(土)～12/17(日)\n情報No.111010 \n\n藤沢のヒーロー小栗判官と江戸歌舞伎
URL:https://fujisawa-npo.jp/event/%e8%97%a4%e6%b2%a2%e5%b8%82%e8%97%a4%e6%be%a4%e6%b5%ae%e4%b8%96%e7%b5%b5%e9%a4%a8%e3%80%8c%e3%81%aa%e3%81%9c%e3%81%8b%e5%bf%a0%e8%87%a3%e8%94%b5%e3%80%8d
LOCATION:藤沢市藤澤浮世絵館(ココテラス湘南7F)\, 辻堂神台2-2-2\, 藤沢市\, 神奈川県\, 日本
CATEGORIES:イベント
ATTACH;FMTTYPE=image/jpeg:https://fujisawa-npo.jp/wp-content/uploads/2023/11/111010-scaled.jpg
ORGANIZER;CN="%E8%97%A4%E6%B2%A2%E5%B8%82%E8%97%A4%E6%BE%A4%E6%B5%AE%E4%B8%96%E7%B5%B5%E9%A4%A8":MAILTO:fj-ukiyoe@city.fujisawa.lg.jp
END:VEVENT
BEGIN:VEVENT
DTSTART;TZID=Asia/Tokyo:20231114T100000
DTEND;TZID=Asia/Tokyo:20231114T113000
DTSTAMP:20260422T061306
CREATED:20231005T151821Z
LAST-MODIFIED:20231005T151821Z
UID:9850-1699956000-1699961400@fujisawa-npo.jp
SUMMARY:まち活おしゃべりタイム
DESCRIPTION:※事前申込制\n情報No.110761 \n\nテーマ：季節を感じる暮らし方②\nまち活パートナース(登録講師)の『絵手紙の極意～五感で感じる』についてミニ講座もあります。\n季節(四季)を感じる暮らし方について、みんなで情報交換しましよう。\n※申し込みはこちら
URL:https://fujisawa-npo.jp/event/%e3%81%be%e3%81%a1%e6%b4%bb%e3%81%8a%e3%81%97%e3%82%83%e3%81%b9%e3%82%8a%e3%82%bf%e3%82%a4%e3%83%a0
LOCATION:青葉区役所 / 青葉区区民活動支援センター\, 青葉区市ケ尾町31-4\, 横浜市\, 神奈川県\, 日本
CATEGORIES:イベント
ATTACH;FMTTYPE=image/jpeg:https://fujisawa-npo.jp/wp-content/uploads/2023/10/110761-scaled.jpg
ORGANIZER;CN="%E9%9D%92%E8%91%89%E5%8C%BA%E5%8C%BA%E6%B0%91%E6%B4%BB%E5%8B%95%E6%94%AF%E6%8F%B4%E3%82%BB%E3%83%B3%E3%82%BF%E3%83%BC":MAILTO:ao-machikatsu@city.yokohama.jp
END:VEVENT
BEGIN:VEVENT
DTSTART;TZID=Asia/Tokyo:20231113T100000
DTEND;TZID=Asia/Tokyo:20231113T104000
DTSTAMP:20260422T061306
CREATED:20231103T054005Z
LAST-MODIFIED:20231103T054005Z
UID:10452-1699869600-1699872000@fujisawa-npo.jp
SUMMARY:藤沢ピアノ音楽教室 藤沢駅前リトミック
DESCRIPTION:会場・日程：\n会場 Fプレイス、日程 11/6(月)\n会場 太陽ぬ荘てぃーだぬ、日程 11/13(月)・11/27(月)\n情報No.110938 \n\n1・2・3歳の心と頭を豊かにはぐくむ\n子供達は楽しい遊びが大好き！\nピアノの生演奏で、子供の大好きな歌や踊り、絵本を使って♪音感♪リズム感♪集中力♪注意力♪聴く力♪想像力♪社会性etc…を育んでいきます。\n楽しいから、ぐんぐん力が身につく\nそれが当教室のコンセプトです。
URL:https://fujisawa-npo.jp/event/%e8%97%a4%e6%b2%a2%e3%83%94%e3%82%a2%e3%83%8e%e9%9f%b3%e6%a5%bd%e6%95%99%e5%ae%a4-%e8%97%a4%e6%b2%a2%e9%a7%85%e5%89%8d%e3%83%aa%e3%83%88%e3%83%9f%e3%83%83%e3%82%af-2
LOCATION:太陽ぬ荘てぃーだぬ(ビックライズビル 3F)\, 鵠沼石上1-7-8\, 藤沢市\, 神奈川県\, 日本
CATEGORIES:イベント
ATTACH;FMTTYPE=image/jpeg:https://fujisawa-npo.jp/wp-content/uploads/2023/11/110938-scaled.jpg
END:VEVENT
BEGIN:VEVENT
DTSTART;VALUE=DATE:20231113
DTEND;VALUE=DATE:20231114
DTSTAMP:20260422T061307
CREATED:20231108T092946Z
LAST-MODIFIED:20231108T092946Z
UID:10607-1699833600-1699919999@fujisawa-npo.jp
SUMMARY:「現代語 安居院義道」を出版しますクラウドファンディングをご支援ください。
DESCRIPTION:↑に拘わらず、随時受付中\n情報No.110972 \n\n「報徳開拓者　安居院義道」は鷲山恭平氏が昭和28年(70年前)大日本報徳社から発行した本です。\n今回、「報徳の師父」シリーズ第３集として本書の現代語訳を出版するに当って支援を求めます。\n出版した本は支援者に返礼品とするとともに、報徳の師父シリーズを蔵書とする大学図書館、静岡県内公共図書館に寄贈します。\n※クラウドファンディングはこちら
URL:https://fujisawa-npo.jp/event/%e3%80%8c%e7%8f%be%e4%bb%a3%e8%aa%9e-%e5%ae%89%e5%b1%85%e9%99%a2%e7%be%a9%e9%81%93%e3%80%8d%e3%82%92%e5%87%ba%e7%89%88%e3%81%97%e3%81%be%e3%81%99%e3%82%af%e3%83%a9%e3%82%a6%e3%83%89%e3%83%95%e3%82%a1
LOCATION:神奈川県
CATEGORIES:イベント
ATTACH;FMTTYPE=image/jpeg:https://fujisawa-npo.jp/wp-content/uploads/2023/11/110972-scaled.jpg
ORGANIZER;CN="%E4%BA%8C%E5%AE%AE%E5%B0%8A%E5%BE%B3%E3%81%AE%E4%BC%9A":MAILTO:jinyidefu@gmail.com
END:VEVENT
BEGIN:VEVENT
DTSTART;VALUE=DATE:20231113
DTEND;VALUE=DATE:20231114
DTSTAMP:20260422T061307
CREATED:20231106T121649Z
LAST-MODIFIED:20231106T121718Z
UID:10508-1699833600-1699919999@fujisawa-npo.jp
SUMMARY:スタンプラリー「聖地たび×青ブタシリーズ」
DESCRIPTION:↑に拘わりなく12/28まで開催\nスタンプラリー会場：藤沢市観光協会、新江ノ島水族館、江ノ電・藤沢駅、江ノ電・七里ヶ浜駅、109シネマズ湘南、鎌倉プリンスホテル\nPDF情報No.110948 \n\n「聖地たび」とは、その作品の舞台（「聖地」）をめぐる事で、全国各地の魅力再発見・サスティナブルな地域振興を目指したイベント企画です。\nその中で、今回「青ブタ」シリーズの聖地を巡るスタンプラリーをご用意しました。\n描き下ろしイラストを使用したプレミアムグッズ付きスタンプラリーに参加すると、推しのキャラクターと一緒に作品の舞台を巡ることができます。\nまた、等身大パネルの設置・オリジナルグッズの販売など盛りだくさん。\n推しと過ごす特別な時間をお楽しみください！\n※詳しくはこちら
URL:https://fujisawa-npo.jp/event/%e3%82%b9%e3%82%bf%e3%83%b3%e3%83%97%e3%83%a9%e3%83%aa%e3%83%bc%e3%80%8c%e8%81%96%e5%9c%b0%e3%81%9f%e3%81%b3x%e9%9d%92%e3%83%96%e3%82%bf%e3%82%b7%e3%83%aa%e3%83%bc%e3%82%ba%e3%80%8d
LOCATION:藤沢市観光協会\, 片瀬海岸2-20-13\, 藤沢市\, 神奈川県\, 日本
CATEGORIES:イベント
ATTACH;FMTTYPE=image/jpeg:https://fujisawa-npo.jp/wp-content/uploads/2023/11/110948-scaled.jpg
END:VEVENT
BEGIN:VEVENT
DTSTART;TZID=Asia/Tokyo:20231112T130000
DTEND;TZID=Asia/Tokyo:20231112T160000
DTSTAMP:20260422T061307
CREATED:20231016T094330Z
LAST-MODIFIED:20231016T094330Z
UID:10026-1699794000-1699804800@fujisawa-npo.jp
SUMMARY:藤沢市空家移動相談会
DESCRIPTION:PDF情報No.110817 \n\n～わが家を空家にしないための相談会～\n◆空家・住慘いの「無料相談」\n時間：13:00～16:00(要予約制)\n◆“成年後見制度”～売ろうと思ったときに認知症だったら～\n時間：13:00～14:00(予約不要)\n◆専門家団体の参加\n※空家移動相談会とは‥・\nこの相談会は、市内の２つの不動産団体と市住宅政策課の主催により、年2回(毎年6月と11月に)開催しています。\n専門家団体が無料で空家や住まいの相談に応じるほか、無料のセミナーなどを行っています。\n参加は申し込み不要ですが、一部予約が必要なコーナーがあります。
URL:https://fujisawa-npo.jp/event/%e8%97%a4%e6%b2%a2%e5%b8%82%e7%a9%ba%e5%ae%b6%e7%a7%bb%e5%8b%95%e7%9b%b8%e8%ab%87%e4%bc%9a-2
LOCATION:六会市民センター\, 亀井野4-8-1\, 藤沢市\, 神奈川県
CATEGORIES:イベント
ATTACH;FMTTYPE=image/jpeg:https://fujisawa-npo.jp/wp-content/uploads/2023/10/110817-scaled.jpg
ORGANIZER;CN="%E8%97%A4%E6%B2%A2%E5%B8%82 %E8%A8%88%E7%94%BB%E5%BB%BA%E7%AF%89%E9%83%A8 %E4%BD%8F%E3%81%BE%E3%81%84%E6%9A%AE%E3%82%89%E3%81%97%E6%94%BF%E7%AD%96%E8%AA%B2":MAILTO:fj-jutaku@city.fujisawa.lg.jp
END:VEVENT
END:VCALENDAR