BEGIN:VCALENDAR
VERSION:2.0
PRODID:-//藤沢市市民活動推進センター - ECPv6.15.11//NONSGML v1.0//EN
CALSCALE:GREGORIAN
METHOD:PUBLISH
X-ORIGINAL-URL:https://fujisawa-npo.jp
X-WR-CALDESC:藤沢市市民活動推進センター のイベント
REFRESH-INTERVAL;VALUE=DURATION:PT1H
X-Robots-Tag:noindex
X-PUBLISHED-TTL:PT1H
BEGIN:VTIMEZONE
TZID:Asia/Tokyo
BEGIN:STANDARD
TZOFFSETFROM:+0900
TZOFFSETTO:+0900
TZNAME:JST
DTSTART:20250101T000000
END:STANDARD
END:VTIMEZONE
BEGIN:VEVENT
DTSTART;TZID=Asia/Tokyo:20260425T100000
DTEND;TZID=Asia/Tokyo:20260823T170000
DTSTAMP:20260420T002921
CREATED:20260419T081509Z
LAST-MODIFIED:20260419T081509Z
UID:22783-1777111200-1787504400@fujisawa-npo.jp
SUMMARY:写真展 写真家がとらえた昭和のこども
DESCRIPTION:【期間】4月25日(土)〜8月23日(日)　10:00〜17:00(最終入場16:30まで)※祝日を除く月曜日休館\n【入場料】大人400円/高校・大学生・65歳以上・左記以外で20歳未満の方200円/小・中学生100円/未就学児無料\n※常設展示室観覧料と共通\n【会場】\nあーすプラザ　3階　企画展示室\nPDF情報No.115519 \n\nあーすぷらざ \n昭和100年を迎えて\n昭和元年から起算して満100年を迎える本年。\n昭和は、戦争や復興、高度経済成長へと大きく揺れ動き、まさに疾風怒濤の時代でした。\n昭和の歩みをたどり、私たちが生きる現在、そして未来へとつながる平和な社会について考える機会になることを願っています。
URL:https://fujisawa-npo.jp/event/%e5%86%99%e7%9c%9f%e5%b1%95-%e5%86%99%e7%9c%9f%e5%ae%b6%e3%81%8c%e3%81%a8%e3%82%89%e3%81%88%e3%81%9f%e6%98%ad%e5%92%8c%e3%81%ae%e3%81%93%e3%81%a9%e3%82%82
LOCATION:あーすぷらざ (神奈川県立地球市民かながわプラザ)\, 栄区小菅ヶ谷1-2-1\, 横浜市\, 神奈川県\, 247-0007
CATEGORIES:イベント
ATTACH;FMTTYPE=image/jpeg:https://fujisawa-npo.jp/wp-content/uploads/2026/04/115519-scaled.jpg
ORGANIZER;CN="%E7%A5%9E%E5%A5%88%E5%B7%9D%E7%9C%8C%E7%AB%8B%E5%9C%B0%E7%90%83%E5%B8%82%E6%B0%91%E3%82%BB%E3%83%B3%E3%82%BF%E3%83%BC%E3%81%8B%E3%81%AA%E3%81%8C%E3%82%8F%E3%83%97%E3%83%A9%E3%82%B6(%E3%81%82%E3%83%BC%E3%81%99%E3%81%B7%E3%82%89%E3%81%96)":MAILTO:gakushu@earthplaza.jp
END:VEVENT
BEGIN:VEVENT
DTSTART;VALUE=DATE:20260514
DTEND;VALUE=DATE:20261115
DTSTAMP:20260420T002921
CREATED:20260418T054604Z
LAST-MODIFIED:20260418T062852Z
UID:22693-1778716800-1794700799@fujisawa-npo.jp
SUMMARY:【締切日5月30日】NPOインターンシップ参加者募集！
DESCRIPTION:説明会　【開催日】5月14日 \n短期体験コース\n【期間】10日間(80時間)\n【内容】NPOについて　活動体験・見学\n【募集】大学生　約40名\n【主な受入先】NPO　約25団体\n【参加費】　一般学生：3000円　連携大学生：1500円 \n長期実践コース\n【期間】3～6ヶ月(200～400時間)\n【内容】NPOについて課題発見・解決　プロジェクトの実施等\n【募集】大学生　約20名\n【主な受入先】NPO　約10団体\n【参加費】　一般学生：3000円　連携大学生：1500円\nPDF情報No.115517 \n\n特定非営利活動法人　アクションポートYOKOHAMA
URL:https://fujisawa-npo.jp/event/%e3%80%90%e7%b7%a0%e5%88%87%e6%97%a55%e6%9c%8830%e6%97%a5%e3%80%91npo%e3%82%a4%e3%83%b3%e3%82%bf%e3%83%bc%e3%83%b3%e3%82%b7%e3%83%83%e3%83%97%e5%8f%82%e5%8a%a0%e8%80%85%e5%8b%9f%e9%9b%86%ef%bc%81
LOCATION:特定非営利活動法人　アクションポートYOKOHAMA\, 山下町94番地 横浜中華街パーキング協同組合内\, 横浜市中区\, 神奈川県\, 231-0023
CATEGORIES:イベント
ATTACH;FMTTYPE=image/jpeg:https://fujisawa-npo.jp/wp-content/uploads/2026/04/115517-scaled.jpg
ORGANIZER;CN="%E7%89%B9%E5%AE%9A%E9%9D%9E%E5%96%B6%E5%88%A9%E6%B4%BB%E5%8B%95%E6%B3%95%E4%BA%BA%E3%80%80%E3%82%A2%E3%82%AF%E3%82%B7%E3%83%A7%E3%83%B3%E3%83%9D%E3%83%BC%E3%83%88YOKOHAMA":MAILTO:info@actionport-yokohama.org
END:VEVENT
END:VCALENDAR