BEGIN:VCALENDAR
VERSION:2.0
PRODID:-//藤沢市市民活動推進センター - ECPv6.15.11//NONSGML v1.0//EN
CALSCALE:GREGORIAN
METHOD:PUBLISH
X-WR-CALNAME:藤沢市市民活動推進センター
X-ORIGINAL-URL:https://fujisawa-npo.jp
X-WR-CALDESC:藤沢市市民活動推進センター のイベント
REFRESH-INTERVAL;VALUE=DURATION:PT1H
X-Robots-Tag:noindex
X-PUBLISHED-TTL:PT1H
BEGIN:VTIMEZONE
TZID:Asia/Tokyo
BEGIN:STANDARD
TZOFFSETFROM:+0900
TZOFFSETTO:+0900
TZNAME:JST
DTSTART:20220101T000000
END:STANDARD
END:VTIMEZONE
BEGIN:VEVENT
DTSTART;TZID=Asia/Tokyo:20240120T133000
DTEND;TZID=Asia/Tokyo:20240120T153000
DTSTAMP:20260420T162651
CREATED:20231123T132532Z
LAST-MODIFIED:20231123T132532Z
UID:10859-1705757400-1705764600@fujisawa-npo.jp
SUMMARY:戦争ではなく平和の準備を「田中優子講演会」
DESCRIPTION:参加費：1000円(当日1200円)、学生 無料\n情報No.111064 \n\n～「新しい戦前」に抗い、未来をつくる～\n｢週刊金曜日｣に新しい連載を始める時 タイトルに選んだのは「これからどうする？」だった。\n現状を正確に観察し、今の政治家やメディアの在り方を批判することは大切だ。\nしかし「どういう社会をつくるのか」というビジョンがなければ、単なる文句であって真の意味での批判にはならない。\nそのビジョンをつくっていきたいと思ったからである。その中心になるのは「戦争をしない社会をつくる」ことだ。\nその実現には多くの行動が必要だが、最も重要なのは「人権」という言葉に内実を持たせることである。\nつまり「差別をなくし多様性社会を実現する」ことである。\n明治時代以降、多くの戦争があった。その根本にはアジア蔑視と競争心、支配欲がある。\nその価値観の中心に「生産性」という言葉が居座る。生産性神話を超え、競争から降りられる社会をどうつくるか、共に考えていきたい。
URL:https://fujisawa-npo.jp/event/%e6%88%a6%e4%ba%89%e3%81%a7%e3%81%af%e3%81%aa%e3%81%8f%e5%b9%b3%e5%92%8c%e3%81%ae%e6%ba%96%e5%82%99%e3%82%92%e3%80%8c%e7%94%b0%e4%b8%ad%e5%84%aa%e5%ad%90%e8%ac%9b%e6%bc%94%e4%bc%9a%e3%80%8d
LOCATION:文教大学 湘南キャンパス\, 行谷1100\, 茅ヶ崎市\, 神奈川県\, 日本
CATEGORIES:講座
ATTACH;FMTTYPE=image/jpeg:https://fujisawa-npo.jp/wp-content/uploads/2023/11/111064-scaled.jpg
END:VEVENT
BEGIN:VEVENT
DTSTART;TZID=Asia/Tokyo:20240119T140000
DTEND;TZID=Asia/Tokyo:20240119T160000
DTSTAMP:20260420T162651
CREATED:20231218T120711Z
LAST-MODIFIED:20231218T121202Z
UID:11184-1705672800-1705680000@fujisawa-npo.jp
SUMMARY:第2回「聞き書き講座(自主学習会)」
DESCRIPTION:【主催】歴史工房やまと\n情報No.111202 \n\nピア・インタビューアーと論理問題の確認\n今回は、録音しながら、参加者がお互いにインタビューをし合います(1人10分ぐらい)。\nインタビューをした後、どのように感じたか話し合ってみましょう。\n次に、インタビューを行う時に確認しておくべきこと(同意を得ること、実名と仮名、プライバシーをどのように守るか、著作権の考え方、聞きたいことと聞けないこと、聞き手と話し手の力関係、録音資料の保管など)の倫理問題について、用意した資料を基に意見交換をします。\nインタビュー経験のある方はご自身の経験をお話しください。聞き書きを始める方は経験された方から学びましょう。\n最後に、参加者が聞き書きをしたいと思っている人について、またこのプロジェクトの今後の予定等についてのご意見をお聞きします。\n持ち物：ICレコーダー、スマホ(録音できるもの)、テープレコーダーなど録音できる機器
URL:https://fujisawa-npo.jp/event/%e7%ac%ac2%e5%9b%9e%e3%80%8c%e8%81%9e%e3%81%8d%e6%9b%b8%e3%81%8d%e8%ac%9b%e5%ba%a7%e8%87%aa%e4%b8%bb%e5%ad%a6%e7%bf%92%e4%bc%9a%e3%80%8d
LOCATION:大和市民活動センター(市民活動拠点ベテルギウス1F・2F)\, 深見西1-2-17\, 大和市\, 神奈川県\, 242-0018
CATEGORIES:講座
ATTACH;FMTTYPE=image/jpeg:https://fujisawa-npo.jp/wp-content/uploads/2023/12/111202-scaled.jpg
ORGANIZER;CN="%E5%A4%A7%E5%92%8C%E5%B8%82%E6%B0%91%E6%B4%BB%E5%8B%95%E3%82%BB%E3%83%B3%E3%82%BF%E3%83%BC":MAILTO:yamato@ar.wakwak.com
END:VEVENT
BEGIN:VEVENT
DTSTART;TZID=Asia/Tokyo:20240118T100000
DTEND;TZID=Asia/Tokyo:20240118T120000
DTSTAMP:20260420T162651
CREATED:20231207T224450Z
LAST-MODIFIED:20231207T224450Z
UID:11012-1705572000-1705579200@fujisawa-npo.jp
SUMMARY:まち活カフェ「出張保育でママを応援」
DESCRIPTION:情報No.111136 \n\nあなたの好き！を見つけよう。\nセカンドステージで私らしく地域参加をしているゲストスピーカーのお話しを聞き、参加者同士で情報交換しましょう。\n◆ゲストスピーカーのお話\n子育て応援をしている方、子育てに興味がある方、子育て中だけど自分の時間も作りたいなと思っている方に聞いてほしい…。\n地域で活動する魅力と保育のつながりについてお話ししていただきます。
URL:https://fujisawa-npo.jp/event/%e3%81%be%e3%81%a1%e6%b4%bb%e3%82%ab%e3%83%95%e3%82%a7%e3%80%8c%e5%87%ba%e5%bc%b5%e4%bf%9d%e8%82%b2%e3%81%a7%e3%83%9e%e3%83%9e%e3%82%92%e5%bf%9c%e6%8f%b4%e3%80%8d
LOCATION:青葉区役所 / 青葉区区民活動支援センター\, 青葉区市ケ尾町31-4\, 横浜市\, 神奈川県\, 日本
CATEGORIES:講座
ATTACH;FMTTYPE=image/jpeg:https://fujisawa-npo.jp/wp-content/uploads/2023/12/111136-scaled.jpg
ORGANIZER;CN="%E9%9D%92%E8%91%89%E5%8C%BA%E5%8C%BA%E6%B0%91%E6%B4%BB%E5%8B%95%E6%94%AF%E6%8F%B4%E3%82%BB%E3%83%B3%E3%82%BF%E3%83%BC":MAILTO:ao-machikatsu@city.yokohama.jp
END:VEVENT
BEGIN:VEVENT
DTSTART;TZID=Asia/Tokyo:20240118T080000
DTEND;TZID=Asia/Tokyo:20240118T170000
DTSTAMP:20260420T162651
CREATED:20240118T112513Z
LAST-MODIFIED:20240118T112513Z
UID:11621-1705564800-1705597200@fujisawa-npo.jp
SUMMARY:インフレ時代のお金の働き方改革
DESCRIPTION:藤沢商工会議所×野村証券\nPDF情報No.111385 \n\n企業経営者様 必見！\n物価が上がっていく時代をどう過ごしますか？\n新NISAを活用した福利厚生制度でインフレに負けない準備を！\n昨今のインフレで、食品や電気・ガスの値上げなどが鮮明になってきました。\n今後も更なる値上げが想定されます。\n企業経営はもちろんのこと、役員・従業員一人一人の生活にも影響が出始めてくることと思います。
URL:https://fujisawa-npo.jp/event/%e3%82%a4%e3%83%b3%e3%83%95%e3%83%ac%e6%99%82%e4%bb%a3%e3%81%ae%e3%81%8a%e9%87%91%e3%81%ae%e5%83%8d%e3%81%8d%e6%96%b9%e6%94%b9%e9%9d%a9
LOCATION:神奈川県
CATEGORIES:講座
ATTACH;FMTTYPE=image/jpeg:https://fujisawa-npo.jp/wp-content/uploads/2024/01/111385-scaled.jpg
END:VEVENT
BEGIN:VEVENT
DTSTART;VALUE=DATE:20240118
DTEND;VALUE=DATE:20240119
DTSTAMP:20260420T162651
CREATED:20231201T020413Z
LAST-MODIFIED:20231201T020434Z
UID:10943-1705536000-1705622399@fujisawa-npo.jp
SUMMARY:乙女文楽の多様な魅力
DESCRIPTION:時間：開場13:30、開演14:00\nPDF情報No.111100 \n\n東西2座によるレクチャー＆デモンストレーション\n乙女文楽は大正末に大阪に誕生した人形浄瑠璃。\n文楽の三人遣いに対し一人遣い形式で、女性ばかりで演じられます。\n戦後一部の演者が関東に移り住んだところから、東西に分かれて伝承され、操法も西では「腕金式」、東では「胴金式」と形式が異なります。\nそのため人形の表現もそれぞれに異なる魅力をもっています。\n今回は東西の座が共演し、実演と人形解説をお見せする、乙女文楽初めての試みです。
URL:https://fujisawa-npo.jp/event/%e4%b9%99%e5%a5%b3%e6%96%87%e6%a5%bd%e3%81%ae%e5%a4%9a%e6%a7%98%e3%81%aa%e9%ad%85%e5%8a%9b
LOCATION:神楽坂セッションハウス\, 矢来町158\, 新宿区\, 東京都\, 日本
CATEGORIES:イベント,講座
ATTACH;FMTTYPE=image/jpeg:https://fujisawa-npo.jp/wp-content/uploads/2023/12/111100-scaled.jpg
END:VEVENT
BEGIN:VEVENT
DTSTART;VALUE=DATE:20240115
DTEND;VALUE=DATE:20240116
DTSTAMP:20260420T162651
CREATED:20231215T015544Z
LAST-MODIFIED:20231215T015544Z
UID:11126-1705276800-1705363199@fujisawa-npo.jp
SUMMARY:外国人が安心して医療を受けられるための環境整備 申込締切1/15
DESCRIPTION:↑：申込締切\n日程：2/26(月)11:00～2/27(火)15:30〈全2日間〉\n【共催】(一財)自治体国際化協会(CLAIR)\nPDF情報No.111192 \n\nコロナ禍を経て、日本国内で生活する外国人だけでなく、日本を訪れる外国人観光客も再び増加しています。\n医療現場においては、医療従事者と異なる言語や文化をもつ外国人の間での意思疎通など、適正な医療を提供するための環境整備が求められています。\nこの研修では、外国人が安心して医療を受けられるための環境整備について、国の動向や地域での取組、病院での対応等を学び、地域の実情に応じた環境整備を推進することができる人材の育成を図ります。
URL:https://fujisawa-npo.jp/event/%e5%a4%96%e5%9b%bd%e4%ba%ba%e3%81%8c%e5%ae%89%e5%bf%83%e3%81%97%e3%81%a6%e5%8c%bb%e7%99%82%e3%82%92%e5%8f%97%e3%81%91%e3%82%89%e3%82%8c%e3%82%8b%e3%81%9f%e3%82%81%e3%81%ae%e7%92%b0%e5%a2%83%e6%95%b4
LOCATION:全国市町村国際文化研修所\, 唐崎2-13-1\, 大津市\, 滋賀県\, 日本
CATEGORIES:講座
ATTACH;FMTTYPE=image/jpeg:https://fujisawa-npo.jp/wp-content/uploads/2023/12/111192-scaled.jpg
ORGANIZER;CN="%E5%85%A8%E5%9B%BD%E5%B8%82%E7%94%BA%E6%9D%91%E5%9B%BD%E9%9A%9B%E6%96%87%E5%8C%96%E7%A0%94%E4%BF%AE%E6%89%80(JIAM)%E6%95%99%E5%8B%99%E9%83%A8":MAILTO:kenshu@jiam.jp
END:VEVENT
BEGIN:VEVENT
DTSTART;TZID=Asia/Tokyo:20240113T133000
DTEND;TZID=Asia/Tokyo:20240113T163000
DTSTAMP:20260420T162651
CREATED:20231201T010142Z
LAST-MODIFIED:20231201T010305Z
UID:10924-1705152600-1705163400@fujisawa-npo.jp
SUMMARY:多世代居住のまちづくり 担い手養成講座
DESCRIPTION:日程：1/13(土)・1/20(土)・1/27(土)〈全3回〉、時間：13:30～16:30\nPDF情報No.111083 \n\nテーマ：「私」を活かす 場づくり ～あなたの力が地域を創る～\nこれから自分で地域活動をはじめたい方(既存の活動への参加だけでなく、自分で活動を立ち上げたい方)を対象とした連続講座です。\n地域での場づくりは、自分発で自由に始められます。\n活動の場をつくるとはどういうことか、自分発でゼロから活動の場をつくるにはどうすればよいのかなどを、経験豊富な講師から学べます。\n自分発で地域で何かを始めたい方に、ぴったりの内容です。
URL:https://fujisawa-npo.jp/event/%e5%a4%9a%e4%b8%96%e4%bb%a3%e5%b1%85%e4%bd%8f%e3%81%ae%e3%81%be%e3%81%a1%e3%81%a5%e3%81%8f%e3%82%8a-%e6%8b%85%e3%81%84%e6%89%8b%e9%a4%8a%e6%88%90%e8%ac%9b%e5%ba%a7
LOCATION:プロミティあつぎ\, 中町4-16-21\, 厚木市\, 神奈川県\, 日本
CATEGORIES:講座
ATTACH;FMTTYPE=image/jpeg:https://fujisawa-npo.jp/wp-content/uploads/2023/12/111083-scaled.jpg
ORGANIZER;CN="(%E5%85%AC%E7%A4%BE)%E3%81%8B%E3%81%AA%E3%81%8C%E3%82%8F%E4%BD%8F%E3%81%BE%E3%81%84%E3%81%BE%E3%81%A1%E3%81%A5%E3%81%8F%E3%82%8A%E5%8D%94%E4%BC%9A":MAILTO:webadmin@machikyo.or.jp
END:VEVENT
BEGIN:VEVENT
DTSTART;TZID=Asia/Tokyo:20231223T110000
DTEND;TZID=Asia/Tokyo:20231223T143000
DTSTAMP:20260420T162651
CREATED:20231123T235830Z
LAST-MODIFIED:20231123T235830Z
UID:10868-1703329200-1703341800@fujisawa-npo.jp
SUMMARY:食・運動・癒しの未病改善レッスン 申込締切12/15
DESCRIPTION:情報No.111072 \n\n日々の生活に｢食･運動･いやし｣の未病改善を取ひ入れ､自分の“こころ”と“からだ”に向き合いましょう。\n自分らしい“幸せライフスタイル”はじめよう♪\nプログラム\n①冬の温活習慣はじめよう ほうじ茶づくりワークショップ\n②森林浴＆呼吸法でリラックス\n※詳しいアクセスはこちら
URL:https://fujisawa-npo.jp/event/%e9%a3%9f%e3%83%bb%e9%81%8b%e5%8b%95%e3%83%bb%e7%99%92%e3%81%97%e3%81%ae%e6%9c%aa%e7%97%85%e6%94%b9%e5%96%84%e3%83%ac%e3%83%83%e3%82%b9%e3%83%b3-%e7%94%b3%e8%be%bc%e7%b7%a0%e5%88%8712-15
LOCATION:未病バレー ビオトピア\, 大井町山田300\, 足柄上郡\, 神奈川県\, 日本
CATEGORIES:講座
ATTACH;FMTTYPE=image/jpeg:https://fujisawa-npo.jp/wp-content/uploads/2023/11/111072-scaled.jpg
ORGANIZER;CN="(%E5%85%AC%E8%B2%A1)%E3%81%8B%E3%81%AA%E3%81%8C%E3%82%8F%E5%81%A5%E5%BA%B7%E8%B2%A1%E5%9B%A3 %E5%81%A5%E5%BA%B7%E3%81%A5%E3%81%8F%E3%82%8A%E8%AA%B2":MAILTO:kanagawa-kenkou@khf.or.jp
END:VEVENT
BEGIN:VEVENT
DTSTART;TZID=Asia/Tokyo:20231223T020000
DTEND;TZID=Asia/Tokyo:20231223T160000
DTSTAMP:20260420T162651
CREATED:20231108T085728Z
LAST-MODIFIED:20231108T085728Z
UID:10600-1703296800-1703347200@fujisawa-npo.jp
SUMMARY:大人がはじめる学び方講座 申込締切12/1
DESCRIPTION:開催日時：12/23(土) 14:00～16:00\n会場：神奈川県立図書館およびオンライン(Zoom)\nPDF情報No.110968 \n\n－何を学び、どう学ぶか。学び方を知ろう－\n「何を学ぶか」「どう学ぶか」を考えて、生涯学習をはじめましょう。\n講義とワークショップをとおして、大人の学びについて考えます。
URL:https://fujisawa-npo.jp/event/%e5%a4%a7%e4%ba%ba%e3%81%8c%e3%81%af%e3%81%98%e3%82%81%e3%82%8b%e5%ad%a6%e3%81%b3%e6%96%b9%e8%ac%9b%e5%ba%a7-%e7%94%b3%e8%be%bc%e7%b7%a0%e5%88%8712-1
LOCATION:神奈川県立図書館\, 西区紅葉ケ丘9-2\, 横浜市\, 神奈川県\, 日本
CATEGORIES:講座
ATTACH;FMTTYPE=image/jpeg:https://fujisawa-npo.jp/wp-content/uploads/2023/11/110968-scaled.jpg
END:VEVENT
BEGIN:VEVENT
DTSTART;VALUE=DATE:20231223
DTEND;VALUE=DATE:20231224
DTSTAMP:20260420T162651
CREATED:20231201T010601Z
LAST-MODIFIED:20231201T010601Z
UID:10927-1703289600-1703375999@fujisawa-npo.jp
SUMMARY:ヒロシマから未来へ・つなぐ言葉
DESCRIPTION:時間：①10:30～12:00 ②14:00～15:30\n参加費：大人(中学生以上)1100円、小学生550円\n【主催】NPO法人 気候危機対策ネットワーク\n情報No.111088 \n\n止まらない戦禍、今ウクライナで、パレスチナで、イスラエルで、そして世界中のいたるところで多くの人々の命が奪われ、愚かな行為による悲劇は繰り返されています。\nこんな時こそ、世界で唯一の戦争による被ばく国である日本が、世界に向けて平和への願いを発信すべきではないでしょうか？\n私たちが住む神奈川に、そして藤沢にも広島・長崎にて被爆された方々がいらっしゃいます。\nいつまでも語り続けて欲しいという願いから、この催しを企画しました。\n※申し込みはこちら
URL:https://fujisawa-npo.jp/event/%e3%83%92%e3%83%ad%e3%82%b7%e3%83%9e%e3%81%8b%e3%82%89%e6%9c%aa%e6%9d%a5%e3%81%b8%e3%83%bb%e3%81%a4%e3%81%aa%e3%81%90%e8%a8%80%e8%91%89
LOCATION:エコストアパパラギ\, 鵠沼石上1-3-6\, 藤沢市\, 神奈川県\, 日本
CATEGORIES:講座
ATTACH;FMTTYPE=image/jpeg:https://fujisawa-npo.jp/wp-content/uploads/2023/12/111088-scaled.jpg
ORGANIZER;CN="%E3%82%A8%E3%82%B3%E3%82%B9%E3%83%88%E3%82%A2%E3%83%91%E3%83%91%E3%83%A9%E3%82%AE":MAILTO:fujisawa@eco-papa.com
END:VEVENT
BEGIN:VEVENT
DTSTART;VALUE=DATE:20231223
DTEND;VALUE=DATE:20231224
DTSTAMP:20260420T162651
CREATED:20231114T061212Z
LAST-MODIFIED:20231114T061302Z
UID:10720-1703289600-1703375999@fujisawa-npo.jp
SUMMARY:かながわ水産業福祉連携推進講座 参加者募集！
DESCRIPTION:日程・会場：\n・12/23(土) 10:00～12:00 藤沢市役所 本庁舎5-1\,5-2会議室\n・12/23(土) 14:00～16:00 ひらつか市民活動センター\n・2024/1/27(土) 10:00～12:00 おだわら市民交流センターUMECO\n・2024/2/3(土) 10:00～12:00 逗子市民交流センター\n【主催】神奈川県 環境農政局 農水産部 水産課、認定NPO法人 藤沢市民活動推進機構、NPO法人 湘南NPOサポートセンター\nPDF情報No.111009 \n\n神奈川県では、令和5年度から「水福連携」推進事業に取り組んでいます。\n農福連携はよく聞くけれど水福連携は聞いたことがない。そんな方も多いのではないでしょうか？\n実は水産業も人材不足という課題に直面しています。\n一方で障がい者、高齢者(若年性認知症を含む)、生活困窮者といった方々は社会との繋がりや就労の場を求めています。\nこの講座では、水福連携の目的や意義また県外の事例や神奈川県でのマッチング事例を学んでいただくと共に、意見交換します。
URL:https://fujisawa-npo.jp/event/%e3%81%8b%e3%81%aa%e3%81%8c%e3%82%8f%e6%b0%b4%e7%94%a3%e6%a5%ad%e7%a6%8f%e7%a5%89%e9%80%a3%e6%90%ba%e6%8e%a8%e9%80%b2%e8%ac%9b%e5%ba%a7-%e5%8f%82%e5%8a%a0%e8%80%85%e5%8b%9f%e9%9b%86%ef%bc%81
LOCATION:神奈川県
CATEGORIES:講座
ATTACH;FMTTYPE=image/jpeg:https://fujisawa-npo.jp/wp-content/uploads/2023/11/111009-scaled.jpg
END:VEVENT
BEGIN:VEVENT
DTSTART;VALUE=DATE:20231222
DTEND;VALUE=DATE:20231223
DTSTAMP:20260420T162651
CREATED:20231109T084827Z
LAST-MODIFIED:20231109T084827Z
UID:10563-1703203200-1703289599@fujisawa-npo.jp
SUMMARY:NPO・ボランティア団体の活動と運営 実務講座 申込締切12/22
DESCRIPTION:↑：申込締切\n日程：2024/1/11(木)～2/1(木)〈全4回〉、時間：19:00～20:30\n【講座実施団体】(一社)ソーシャルコーディネートかながわ\nPDF情報No.110934 \n\nNPO(非営利団体)に関する基礎知識、団体運営の実務を学べます。\nNPO・ボランティア団体の運営者・スタッフの方、NPO法人を立ち上げたい方、NPOについてもつと深く知りたい方にお勧めの講座です。
URL:https://fujisawa-npo.jp/event/npo%e3%83%bb%e3%83%9c%e3%83%a9%e3%83%b3%e3%83%86%e3%82%a3%e3%82%a2%e5%9b%a3%e4%bd%93%e3%81%ae%e6%b4%bb%e5%8b%95%e3%81%a8%e9%81%8b%e5%96%b6-%e5%ae%9f%e5%8b%99%e8%ac%9b%e5%ba%a7-%e7%94%b3%e8%be%bc
LOCATION:かながわ県民センター\, 神奈川区鶴屋町2-24-2\, 横浜市\, 神奈川県\, 日本
CATEGORIES:講座
ATTACH;FMTTYPE=image/jpeg:https://fujisawa-npo.jp/wp-content/uploads/2023/11/110934-scaled.jpg
END:VEVENT
BEGIN:VEVENT
DTSTART;TZID=Asia/Tokyo:20231221T133000
DTEND;TZID=Asia/Tokyo:20231221T164000
DTSTAMP:20260420T162651
CREATED:20231109T084536Z
LAST-MODIFIED:20231109T084536Z
UID:10551-1703165400-1703176800@fujisawa-npo.jp
SUMMARY:園芸療法ボランティア入門講座 申込締切12/5
DESCRIPTION:日程：12/21(木)～2024/2/22(木)〈全5回〉、時間：13:30～16:40\n※園芸実習教材費として別途3000円必要です。\n【講座実施団体】NPO法人 日本園芸療法研修会\nPDF情報No.110933 \n\n～地域課題の解決に向けて、園芸活動を通じた仲間作りや支援の方法を学びましょう～\n植物は人の心を癒し、穏やかにし、和ませる力があり、園芸作業は心身を前向きかつ能動的にする力があります。\n植物や園芸作業を活用する、リハビリテーションとしての“園芸療法″。\nその考え方や手法を取り入れて自分の中に種をまき、地域の中でボランティアとして活躍しませんか。
URL:https://fujisawa-npo.jp/event/%e5%9c%92%e8%8a%b8%e7%99%82%e6%b3%95%e3%83%9c%e3%83%a9%e3%83%b3%e3%83%86%e3%82%a3%e3%82%a2%e5%85%a5%e9%96%80%e8%ac%9b%e5%ba%a7-%e7%94%b3%e8%be%bc%e7%b7%a0%e5%88%8712-5
LOCATION:かながわ県民センター\, 神奈川区鶴屋町2-24-2\, 横浜市\, 神奈川県\, 日本
CATEGORIES:講座
ATTACH;FMTTYPE=image/jpeg:https://fujisawa-npo.jp/wp-content/uploads/2023/11/110933-scaled.jpg
END:VEVENT
BEGIN:VEVENT
DTSTART;VALUE=DATE:20231221
DTEND;VALUE=DATE:20231222
DTSTAMP:20260420T162651
CREATED:20231109T095332Z
LAST-MODIFIED:20231109T095332Z
UID:10574-1703116800-1703203199@fujisawa-npo.jp
SUMMARY:地域活動リーダー養成講座 申込締切12/21
DESCRIPTION:↑：申込締切\n日程：2024/1/13(土)～2/3(土)〈全4回〉、時間：13:00～16:45\n【講座実施団体】輝楽理庵(きらりあん)\nPDF情報No.110937 \n\n身近な地域で人と人が繋がり、地域を元気にするために、地域活動の課題と役割を理解し、アドラー心理学をベースにした「対人援助」のスキルを学んでみませんか。\n講座を通して地域でできることを一緒に考えましょう。
URL:https://fujisawa-npo.jp/event/%e5%9c%b0%e5%9f%9f%e6%b4%bb%e5%8b%95%e3%83%aa%e3%83%bc%e3%83%80%e3%83%bc%e9%a4%8a%e6%88%90%e8%ac%9b%e5%ba%a7-%e7%94%b3%e8%be%bc%e7%b7%a0%e5%88%8712-21
LOCATION:かながわ県民センター\, 神奈川区鶴屋町2-24-2\, 横浜市\, 神奈川県\, 日本
CATEGORIES:講座
ATTACH;FMTTYPE=image/jpeg:https://fujisawa-npo.jp/wp-content/uploads/2023/11/110937-scaled.jpg
END:VEVENT
BEGIN:VEVENT
DTSTART;TZID=Asia/Tokyo:20231217T140000
DTEND;TZID=Asia/Tokyo:20231217T160000
DTSTAMP:20260420T162651
CREATED:20231102T115930Z
LAST-MODIFIED:20231102T115930Z
UID:10401-1702821600-1702828800@fujisawa-npo.jp
SUMMARY:善行雑学大学「藤沢市で取り組むカーボンニュートラル」
DESCRIPTION:参加費：一般500円、会員無料\n情報No.110899 \n\n今年の夏の気温は過去に比べ飛び抜けて高く、野外の活動すら制限され、子どもも大人も夏の過ごし方が変わってしまった。\n気象災害も頻発し、「気候変動」の脅威はいよいよ身近に迫っている。\n世界中の科学者が最新の知見をまとめたレポート(IPCCレポート)は、子や孫の世代が被る被害はさらに増えると予測している。\n気候変動による影響を最小限に食い止めるには、2030年までに二酸化炭素などの温室効果ガスを半減させ、2050年までにはカーボンニュートラル(二酸化炭素の排出量と吸収量を相殺させ、ゼロ以下にすること)を達成する必要がある。\nそのような社会変革を短期間で起こすのはとてつもなくチャレンジングであり、藤沢市でも行政・企業・市民が一丸となって、エネルギー自給や自然保護を進めていく必要かおる。\n本講座では、カーボンニュートラルに向け、藤沢市にどんな可能性があるのか、未来の都市の姿について議論したい。\n※申し込みはこちら
URL:https://fujisawa-npo.jp/event/%e5%96%84%e8%a1%8c%e9%9b%91%e5%ad%a6%e5%a4%a7%e5%ad%a6%e3%80%8c%e8%97%a4%e6%b2%a2%e5%b8%82%e3%81%a7%e5%8f%96%e3%82%8a%e7%b5%84%e3%82%80%e3%82%ab%e3%83%bc%e3%83%9c%e3%83%b3%e3%83%8b%e3%83%a5%e3%83%bc
LOCATION:善行市民センター\, 善行1-2-3\, 藤沢市\, 神奈川県
CATEGORIES:講座
ATTACH;FMTTYPE=image/jpeg:https://fujisawa-npo.jp/wp-content/uploads/2023/11/110899-scaled.jpg
ORGANIZER;CN="%E5%96%84%E8%A1%8C%E9%9B%91%E5%AD%A6%E5%A4%A7%E5%AD%A6":MAILTO:kataoka9@gmail.com
END:VEVENT
BEGIN:VEVENT
DTSTART;TZID=Asia/Tokyo:20231217T140000
DTEND;TZID=Asia/Tokyo:20231217T153000
DTSTAMP:20260420T162651
CREATED:20230831T105408Z
LAST-MODIFIED:20230831T105507Z
UID:8747-1702821600-1702827000@fujisawa-npo.jp
SUMMARY:外国人とともに生きるために 申込締切12/13
DESCRIPTION:日程：\nseminar1：11/18(土)、申込締切：11/15(水)\nseminar2：12/17(日)、申込締切：12/13(水)\n時間：14:00～15:30(seminar1・seminar2共通)\nPDF情報No.110492 \n\n異なる言語や文化を持った外国籍住民もともに担い手となるような多文化共生の地域社会の姿はどのようなものか、日本人はどのような事柄を知っでおく必要があるのかなど、多文化共生社会のあリ方を探るセミナーを開催します。\nseminar1：無国籍ってなに？～国籍のないわたしたちのはなし～\n※申し込みフォームはこちら\nseminar2：やさしい日本語(実践編)・やさしい日本語を使ってみる(応用編①)\n※申し込みフォームはこちら
URL:https://fujisawa-npo.jp/event/%e5%a4%96%e5%9b%bd%e4%ba%ba%e3%81%a8%e3%81%a8%e3%82%82%e3%81%ab%e7%94%9f%e3%81%8d%e3%82%8b%e3%81%9f%e3%82%81%e3%81%ab-%e7%94%b3%e8%be%bc%e7%b7%a0%e5%88%8712-13
LOCATION:オンライン(Zoom)
CATEGORIES:講座
ATTACH;FMTTYPE=image/jpeg:https://fujisawa-npo.jp/wp-content/uploads/2023/08/110492-scaled.jpg
ORGANIZER;CN="(%E5%85%AC%E8%B2%A1)%E3%81%8B%E3%81%AA%E3%81%8C%E3%82%8F%E5%9B%BD%E9%9A%9B%E4%BA%A4%E6%B5%81%E8%B2%A1%E5%9B%A3":MAILTO:tabunkares@kifjp.org
END:VEVENT
BEGIN:VEVENT
DTSTART;TZID=Asia/Tokyo:20231216T130000
DTEND;TZID=Asia/Tokyo:20231216T170000
DTSTAMP:20260420T162651
CREATED:20231031T083631Z
LAST-MODIFIED:20231031T084253Z
UID:10354-1702731600-1702746000@fujisawa-npo.jp
SUMMARY:マンション管理組合 研修交流会・無料相談会
DESCRIPTION:日程：\n◆無料相談会：毎月第4土曜日(12月は12/16) 13:00～15:00\n◆研修交流会(会員無料、一般500円)：\n開催日時：12/16(土) 15:10～17:00\n・講演「マンション管理の現状と今後の動向(2023年総括)」\n開催日時：2024/1/27(土) 15:10～17:00\n・講演「～あなたのマンションは大丈夫～管理不全にならないための管理組合運営について」\n情報No.110873 \n\n湘南マンション管理組合ネットワークでは、マンション管理無料相談会や、マンション管理に役立つ情報提供・管理組合間の情報交換の場として活用して頂けるよう、研修交流会を行っていますので、ご案内いたします。
URL:https://fujisawa-npo.jp/event/%e3%83%9e%e3%83%b3%e3%82%b7%e3%83%a7%e3%83%b3%e7%ae%a1%e7%90%86%e7%b5%84%e5%90%88-%e7%a0%94%e4%bf%ae%e4%ba%a4%e6%b5%81%e4%bc%9a%e3%83%bb%e7%84%a1%e6%96%99%e7%9b%b8%e8%ab%87%e4%bc%9a-5
LOCATION:藤沢市市民活動推進センター(アーバンセンター藤沢 2F)\, 藤沢1031\, 藤沢市\, 神奈川県\, 日本
CATEGORIES:イベント,講座
ATTACH;FMTTYPE=image/jpeg:https://fujisawa-npo.jp/wp-content/uploads/2023/10/110873-scaled.jpg
END:VEVENT
BEGIN:VEVENT
DTSTART;TZID=Asia/Tokyo:20231216T100000
DTEND;TZID=Asia/Tokyo:20231216T140000
DTSTAMP:20260420T162651
CREATED:20231102T121310Z
LAST-MODIFIED:20231102T121310Z
UID:10403-1702720800-1702735200@fujisawa-npo.jp
SUMMARY:青少年国際交流セミナー2023「身近な多様性！ 五感を使って体験しよう」 申込締切12/8
DESCRIPTION:PDF情報No.110905 \n\n神奈川県にはいろいろな国からやってきた人たちがたくさん暮らしていることを知っていますか？\nこのセミナーでは、外国人増加の背景を知り、学び、働き、生活をする外国人の方々の活動拠点を訪問し、話を聞き、エスニックショップやレストランを訪問するなどのフィールドワークも行います。\n他校の高校生とグループワークなどを通して、みんなで多様性を感じたり、考えたりしてみませんか？\n申し込み及び詳細はこちら
URL:https://fujisawa-npo.jp/event/%e9%9d%92%e5%b0%91%e5%b9%b4%e5%9b%bd%e9%9a%9b%e4%ba%a4%e6%b5%81%e3%82%bb%e3%83%9f%e3%83%8a%e3%83%bc2023%e3%80%8c%e8%ba%ab%e8%bf%91%e3%81%aa%e5%a4%9a%e6%a7%98%e6%80%a7%ef%bc%81-%e4%ba%94%e6%84%9f
LOCATION:FUTURE PUBLIC(相鉄ムービル 1F)\, 西区南幸2-1-22\, 横浜市\, 神奈川県\, 日本
CATEGORIES:講座
ATTACH;FMTTYPE=image/jpeg:https://fujisawa-npo.jp/wp-content/uploads/2023/11/110905-scaled.jpg
ORGANIZER;CN="(%E5%85%AC%E8%B2%A1)%E3%81%8B%E3%81%AA%E3%81%8C%E3%82%8F%E5%9B%BD%E9%9A%9B%E4%BA%A4%E6%B5%81%E8%B2%A1%E5%9B%A3(%E8%8A%B8%E8%A1%93%E3%83%BB%E6%96%87%E5%8C%96%E4%BA%A4%E6%B5%81%E3%82%B0%E3%83%AB%E3%83%BC%E3%83%97)":MAILTO:kpit@kifjp.org
END:VEVENT
BEGIN:VEVENT
DTSTART;TZID=Asia/Tokyo:20231215T140000
DTEND;TZID=Asia/Tokyo:20231215T160000
DTSTAMP:20260420T162651
CREATED:20230727T063605Z
LAST-MODIFIED:20230727T063605Z
UID:8019-1702648800-1702656000@fujisawa-npo.jp
SUMMARY:電子帳簿保存法対応セミナー
DESCRIPTION:会場：対面およびオンライン\nPDF情報No.110307 \n\nこれを機にクラウド会計を導入しよう！\n電子帳簿対応・インボイス制度対応にも有効なツール！\n令和5年度の税制改正で、電子帳簿保存法の要件が緩和されました。\nまた、インボイス制度についても令和5年10月からの運用が決定しており､これらの制度に対応するには経理業務の効率化が急務です。\nこの経理業務の効率化についてはクラウト会計の導入が効果的で、本セミナーでは電子帳簿保存法の概要と関連するインボイス制度の解説、クラウト会計による業務効率化について解説いたします。\n※申し込みはこちら
URL:https://fujisawa-npo.jp/event/%e9%9b%bb%e5%ad%90%e5%b8%b3%e7%b0%bf%e4%bf%9d%e5%ad%98%e6%b3%95%e5%af%be%e5%bf%9c%e3%82%bb%e3%83%9f%e3%83%8a%e3%83%bc-2
LOCATION:藤沢商工会館ミナパーク\, 藤沢607-1\, 藤沢市\, 神奈川県\, 日本
CATEGORIES:講座
ATTACH;FMTTYPE=image/jpeg:https://fujisawa-npo.jp/wp-content/uploads/2023/07/110307-scaled.jpg
END:VEVENT
BEGIN:VEVENT
DTSTART;VALUE=DATE:20231215
DTEND;VALUE=DATE:20231216
DTSTAMP:20260420T162651
CREATED:20231026T105839Z
LAST-MODIFIED:20231026T105839Z
UID:10279-1702598400-1702684799@fujisawa-npo.jp
SUMMARY:回想法リーダー養成講座 申込締切12/15
DESCRIPTION:↑：申込締切\n日程：1/19(金)～3/1(金)〈全4回(オンラインは5回)〉、時間：13:00～16:30(オンラインは13:30～)\n会場：かながわ県民センター及びオンライン(Zoom)\n参加費：対面：12000円、オンライン：8000円\nかながわコミュニティカレッジ連携講座【主催】回想法プランニング\nPDF情報No.110871 \n\n・回想法は高齢者の記憶の特性を活用した心理療法で、なつかしい思い出を語り合う事で脳を活性ｲ匕させ、生きる活力を引き出す事ができます。\n・認知症予防や重度化の遅延、精神の安定に有効とされ“心のリハビリ”と言われます。\n傾聴を基本にした楽しいお話会は地域コミュニティの形成・高齢者地域サロンの運営ツールとして最適です。\n・この講座では、福祉施設や地’域サロンで回想法リーダーとして活動するための回想法を理論・体験・事例報告を通して学べます。\n※申し込みはこちら
URL:https://fujisawa-npo.jp/event/%e5%9b%9e%e6%83%b3%e6%b3%95%e3%83%aa%e3%83%bc%e3%83%80%e3%83%bc%e9%a4%8a%e6%88%90%e8%ac%9b%e5%ba%a7-%e7%94%b3%e8%be%bc%e7%b7%a0%e5%88%8712-15
LOCATION:かながわ県民センター\, 神奈川区鶴屋町2-24-2\, 横浜市\, 神奈川県\, 日本
CATEGORIES:講座
ATTACH;FMTTYPE=image/jpeg:https://fujisawa-npo.jp/wp-content/uploads/2023/10/110871-scaled.jpg
ORGANIZER;CN="%E5%9B%9E%E6%83%B3%E6%B3%95%E3%83%97%E3%83%A9%E3%83%B3%E3%83%8B%E3%83%B3%E3%82%B0":MAILTO:info@kaisoho.org
END:VEVENT
BEGIN:VEVENT
DTSTART;VALUE=DATE:20231215
DTEND;VALUE=DATE:20231216
DTSTAMP:20260420T162651
CREATED:20231026T103755Z
LAST-MODIFIED:20231026T103755Z
UID:10272-1702598400-1702684799@fujisawa-npo.jp
SUMMARY:NPO×企業×大学のコラボ会議 申込締切12/15
DESCRIPTION:↑：申込締切\n開催日時：2024/1/14(日) 13:00～16:30\nPDF情報No.110853 \n\n1部：基調講演「SDGsでつながろう」\n2部：NPO×企業×大学の連携事例紹介\n3部：つながろう会 グループワーク\n※申し込みフォームはこちら
URL:https://fujisawa-npo.jp/event/npox%e4%bc%81%e6%a5%adx%e5%a4%a7%e5%ad%a6%e3%81%ae%e3%82%b3%e3%83%a9%e3%83%9c%e4%bc%9a%e8%ad%b0-%e7%94%b3%e8%be%bc%e7%b7%a0%e5%88%8712-15
LOCATION:ユニコムプラザさがみはら(Bono 相模大野サウスモール3階)\, 南区相模大野3-3-2\, 相模原市\, 神奈川県\, 日本
CATEGORIES:イベント,講座
ATTACH;FMTTYPE=image/jpeg:https://fujisawa-npo.jp/wp-content/uploads/2023/10/110853-scaled.jpg
ORGANIZER;CN="%E3%81%95%E3%81%8C%E3%81%BF%E3%81%AF%E3%82%89%E5%B8%82%E6%B0%91%E6%B4%BB%E5%8B%95%E3%82%B5%E3%83%9D%E3%83%BC%E3%83%88%E3%82%BB%E3%83%B3%E3%82%BF%E3%83%BC":MAILTO:sagami.saposen@iris.ocn.ne.jp
END:VEVENT
BEGIN:VEVENT
DTSTART;VALUE=DATE:20231215
DTEND;VALUE=DATE:20231216
DTSTAMP:20260420T162651
CREATED:20231109T085310Z
LAST-MODIFIED:20231109T085722Z
UID:10570-1702598400-1702684799@fujisawa-npo.jp
SUMMARY:かながわコミュニティカレッジ 1月・2月開講講座 直近申込締切12/15
DESCRIPTION:↑：直近申込締切\n・詳しくは各団体のHPをご覧ください\n・講座へのお申込みは、各講座の実施団体へ直接ご連絡下さい\nPDF情報No.110935 \n\n①回想法リーダー養成講座\n・1/19(金)～3/1(金)〈全4回〉、時間：13:00～16:30 (会場開催)、申込締切：12/15(金)\n・1/19(金)～3/8(金)〈全5回〉〉、時間：13:00～16:30 (オンライン開催)、申込締切：12/15(金)\n受講料：対面12000円、オンライン8000円\n【講座実施団体】回想法プランニング\n※申し込みはこちら\n②子どもシェルターのボランティア養成講座\n・2/3(土)～3/2(土)〈全4回〉、時間：9:20～12:00、申込締切：1/9(火)\n受講料：4000円\n※団体HPはこちら
URL:https://fujisawa-npo.jp/event/%e3%81%8b%e3%81%aa%e3%81%8c%e3%82%8f%e3%82%b3%e3%83%9f%e3%83%a5%e3%83%8b%e3%83%86%e3%82%a3%e3%82%ab%e3%83%ac%e3%83%83%e3%82%b8-1%e6%9c%88%e3%83%bb2%e6%9c%88%e9%96%8b%e8%ac%9b%e8%ac%9b%e5%ba%a7
LOCATION:かながわ県民センター\, 神奈川区鶴屋町2-24-2\, 横浜市\, 神奈川県\, 日本
CATEGORIES:講座
ATTACH;FMTTYPE=image/jpeg:https://fujisawa-npo.jp/wp-content/uploads/2023/11/110935-scaled.jpg
END:VEVENT
BEGIN:VEVENT
DTSTART;TZID=Asia/Tokyo:20231210T140000
DTEND;TZID=Asia/Tokyo:20231210T160000
DTSTAMP:20260420T162651
CREATED:20231026T091331Z
LAST-MODIFIED:20231026T091331Z
UID:10235-1702216800-1702224000@fujisawa-npo.jp
SUMMARY:知っておきたい 労務の基本
DESCRIPTION:PDF情報No.110855 \n\n働き方改革によって、順次施行している法律にはNPOも対象になる 労務のルールが含まれています。 法令や制度についての正しい知識を身につけておくことは、雇用者にとってはリスク回避になり、働く立場の人の 身を守ることになります。\n働く人、雇用する人いずれの立場においても大切な知識を、社会保険労務士にわかりやすく話してもらう講座です。 お仲間と一緒に、ぜひ参加をご検討ください。
URL:https://fujisawa-npo.jp/event/%e7%9f%a5%e3%81%a3%e3%81%a6%e3%81%8a%e3%81%8d%e3%81%9f%e3%81%84-%e5%8a%b4%e5%8b%99%e3%81%ae%e5%9f%ba%e6%9c%ac
LOCATION:さがみはら市民活動サポートセンター(けやき会館3階)\, 富士見6-6-23\, 相模原市\, 神奈川県\, 日本
CATEGORIES:講座
ATTACH;FMTTYPE=image/jpeg:https://fujisawa-npo.jp/wp-content/uploads/2023/10/110855-scaled.jpg
ORGANIZER;CN="%E3%81%95%E3%81%8C%E3%81%BF%E3%81%AF%E3%82%89%E5%B8%82%E6%B0%91%E6%B4%BB%E5%8B%95%E3%82%B5%E3%83%9D%E3%83%BC%E3%83%88%E3%82%BB%E3%83%B3%E3%82%BF%E3%83%BC":MAILTO:sagami.saposen@iris.ocn.ne.jp
END:VEVENT
BEGIN:VEVENT
DTSTART;TZID=Asia/Tokyo:20231206T140000
DTEND;TZID=Asia/Tokyo:20231206T160000
DTSTAMP:20260420T162651
CREATED:20230727T075350Z
LAST-MODIFIED:20230727T075428Z
UID:8061-1701871200-1701878400@fujisawa-npo.jp
SUMMARY:デジタル化に向けた対策「IT導入補助金等の各種制度セミナー」
DESCRIPTION:会場：対面およびオンライン\nPDF情報No.110313 \n\nコロナ禍の影響もあり、経営課題を抱える中小企業は多いと思います。\n現場の効率化、社内システム改革、ペーパーレス化等の生産性向上に向けたデジタル化・IT化、設備投資等の対策が重要になってきます。\n莫大な投資や費用をかけるとなると本末転倒で、IT導入補助金等の活用等、自社にあったコストで行う工夫が必要です。\n本セミナーでは、IT導入補助金等の各種制度と中小企業の失敗しないIT導入の方法や考え方をわかりやすく解説いたします。\n※申し込みはこちら
URL:https://fujisawa-npo.jp/event/%e3%83%87%e3%82%b8%e3%82%bf%e3%83%ab%e5%8c%96%e3%81%ab%e5%90%91%e3%81%91%e3%81%9f%e5%af%be%e7%ad%96%e3%80%8cit%e5%b0%8e%e5%85%a5%e8%a3%9c%e5%8a%a9%e9%87%91%e7%ad%89%e3%81%ae%e5%90%84%e7%a8%ae%e5%88%b6
LOCATION:藤沢商工会館ミナパーク\, 藤沢607-1\, 藤沢市\, 神奈川県\, 日本
CATEGORIES:講座
ATTACH;FMTTYPE=image/jpeg:https://fujisawa-npo.jp/wp-content/uploads/2023/07/110313-scaled.jpg
END:VEVENT
BEGIN:VEVENT
DTSTART;TZID=Asia/Tokyo:20231203T140000
DTEND;TZID=Asia/Tokyo:20231203T152000
DTSTAMP:20260420T162651
CREATED:20231201T015129Z
LAST-MODIFIED:20231201T015129Z
UID:10931-1701612000-1701616800@fujisawa-npo.jp
SUMMARY:核廃棄物中間貯蔵施設を上関に？
DESCRIPTION:情報No.111090 \n\n～祝島における上関原発建設反対運動と核廃棄物中間貯蔵施設の現状～
URL:https://fujisawa-npo.jp/event/%e6%a0%b8%e5%bb%83%e6%a3%84%e7%89%a9%e4%b8%ad%e9%96%93%e8%b2%af%e8%94%b5%e6%96%bd%e8%a8%ad%e3%82%92%e4%b8%8a%e9%96%a2%e3%81%ab%ef%bc%9f
LOCATION:六会市民センター\, 亀井野4-8-1\, 藤沢市\, 神奈川県
CATEGORIES:講座
ATTACH;FMTTYPE=image/jpeg:https://fujisawa-npo.jp/wp-content/uploads/2023/12/111090.jpg
END:VEVENT
BEGIN:VEVENT
DTSTART;TZID=Asia/Tokyo:20231203T100000
DTEND;TZID=Asia/Tokyo:20231203T170000
DTSTAMP:20260420T162651
CREATED:20231120T123932Z
LAST-MODIFIED:20231120T123932Z
UID:10800-1701597600-1701622800@fujisawa-npo.jp
SUMMARY:未来へ“大和の食”いただきます
DESCRIPTION:【主催】食のアトリエ\n情報No.111039 \n\n大和の「食べたい・知りたい・作りたい」大集合\nコンテンツ紹介：\n・ワークショップ / 100円 先着30個「野菜マグネットを作ろう」\n・レシピ集 紹介「やってみよう！はじめてクッキング」\n・絵本紹介「りんごとくらす いちねん」\n・展示＆ワークショップ「おしえて！子どもが大好きな おうちご飯」\n・「大和の地産地消」\n・「大和MAP」
URL:https://fujisawa-npo.jp/event/%e6%9c%aa%e6%9d%a5%e3%81%b8%e5%a4%a7%e5%92%8c%e3%81%ae%e9%a3%9f%e3%81%84%e3%81%9f%e3%81%a0%e3%81%8d%e3%81%be%e3%81%99
LOCATION:大和市文化創造拠点シリウス\, 大和南1-8-1\, 大和市\, 神奈川県\, 日本
CATEGORIES:講座
ATTACH;FMTTYPE=image/jpeg:https://fujisawa-npo.jp/wp-content/uploads/2023/11/111039-scaled.jpg
ORGANIZER;CN="%E5%A4%A7%E5%92%8C%E5%B8%82%E6%B0%91%E6%B4%BB%E5%8B%95%E3%82%BB%E3%83%B3%E3%82%BF%E3%83%BC":MAILTO:yamato@ar.wakwak.com
END:VEVENT
BEGIN:VEVENT
DTSTART;TZID=Asia/Tokyo:20231202T140000
DTEND;TZID=Asia/Tokyo:20231202T160000
DTSTAMP:20260420T162651
CREATED:20231025T064002Z
LAST-MODIFIED:20231025T064002Z
UID:10240-1701525600-1701532800@fujisawa-npo.jp
SUMMARY:NPO法人のしまい方
DESCRIPTION:PDF情報No.110856 \n\n「法人格を取り下げて活動を続けようか」とお悩みの方へ\nNPO法人解散にかかる事務手続き、特に会計について学べる講座です。
URL:https://fujisawa-npo.jp/event/npo%e6%b3%95%e4%ba%ba%e3%81%ae%e3%81%97%e3%81%be%e3%81%84%e6%96%b9
LOCATION:さがみはら市民活動サポートセンター(けやき会館3階)\, 富士見6-6-23\, 相模原市\, 神奈川県\, 日本
CATEGORIES:講座
ATTACH;FMTTYPE=image/jpeg:https://fujisawa-npo.jp/wp-content/uploads/2023/10/110856-scaled.jpg
ORGANIZER;CN="%E3%81%95%E3%81%8C%E3%81%BF%E3%81%AF%E3%82%89%E5%B8%82%E6%B0%91%E6%B4%BB%E5%8B%95%E3%82%B5%E3%83%9D%E3%83%BC%E3%83%88%E3%82%BB%E3%83%B3%E3%82%BF%E3%83%BC":MAILTO:sagami.saposen@iris.ocn.ne.jp
END:VEVENT
BEGIN:VEVENT
DTSTART;TZID=Asia/Tokyo:20231202T124500
DTEND;TZID=Asia/Tokyo:20231203T170000
DTSTAMP:20260420T162651
CREATED:20231123T133833Z
LAST-MODIFIED:20231123T133833Z
UID:10863-1701521100-1701622800@fujisawa-npo.jp
SUMMARY:“協働”の次にくるもの ～これからの中間支援のあり方を考える～
DESCRIPTION:日程：12/2(土) ・12/3(日)、時間：両日とも13:00～17:00 (初日は12:45～ ハンドベル演奏)\n※事前申込制\nPDF情報No.111068 \n\n12/2(土)：式典、基調講演、パネルディスカッション、懇親会\n12/3(日)：市民団体活動発表、だれでも大交流会\n※申込フォームはこちら
URL:https://fujisawa-npo.jp/event/%e5%8d%94%e5%83%8d%e3%81%ae%e6%ac%a1%e3%81%ab%e3%81%8f%e3%82%8b%e3%82%82%e3%81%ae-%ef%bd%9e%e3%81%93%e3%82%8c%e3%81%8b%e3%82%89%e3%81%ae%e4%b8%ad%e9%96%93%e6%94%af%e6%8f%b4%e3%81%ae
LOCATION:三鷹市市民協働センター\, 下連雀4-17-23\, 三鷹市\, 東京都\, 日本
CATEGORIES:講座
ATTACH;FMTTYPE=image/jpeg:https://fujisawa-npo.jp/wp-content/uploads/2023/11/111068-scaled.jpg
ORGANIZER;CN="%E4%B8%89%E9%B7%B9%E5%B8%82%E5%B8%82%E6%B0%91%E5%8D%94%E5%83%8D%E3%82%BB%E3%83%B3%E3%82%BF%E3%83%BC":MAILTO:kyoudou@collabo-mitaka.jp
END:VEVENT
BEGIN:VEVENT
DTSTART;TZID=Asia/Tokyo:20231201T140000
DTEND;TZID=Asia/Tokyo:20231201T160000
DTSTAMP:20260420T162651
CREATED:20231120T124823Z
LAST-MODIFIED:20231120T124823Z
UID:10802-1701439200-1701446400@fujisawa-npo.jp
SUMMARY:第1回「聞き書き講座」
DESCRIPTION:【主催】歴史工房やまと\n情報No.111040 \n\n大和市には、農業や商業で、教育で、社会活動で、ボランティアで、街の発展を支えてきた人々がたくさんいらっしゃいます。\nその方たちの活動や生き方の軌跡を聞いて、私たちの街の歴史を一緒に考えてみませんか？\n「聞き書きプロジェクト：この指とまれ」では、講師をお招きして、聞き書きの意義と手法を学習します。
URL:https://fujisawa-npo.jp/event/%e7%ac%ac1%e5%9b%9e%e3%80%8c%e8%81%9e%e3%81%8d%e6%9b%b8%e3%81%8d%e8%ac%9b%e5%ba%a7%e3%80%8d
LOCATION:大和市民活動センター(市民活動拠点ベテルギウス1F・2F)\, 深見西1-2-17\, 大和市\, 神奈川県\, 242-0018
CATEGORIES:講座
ATTACH;FMTTYPE=image/jpeg:https://fujisawa-npo.jp/wp-content/uploads/2023/11/111040-scaled.jpg
ORGANIZER;CN="%E5%A4%A7%E5%92%8C%E5%B8%82%E6%B0%91%E6%B4%BB%E5%8B%95%E3%82%BB%E3%83%B3%E3%82%BF%E3%83%BC":MAILTO:yamato@ar.wakwak.com
END:VEVENT
BEGIN:VEVENT
DTSTART;TZID=Asia/Tokyo:20231201T134500
DTEND;TZID=Asia/Tokyo:20231201T163000
DTSTAMP:20260420T162651
CREATED:20231108T092724Z
LAST-MODIFIED:20231108T092724Z
UID:10605-1701438300-1701448200@fujisawa-npo.jp
SUMMARY:NPO法 25周年記念フォーラム「未来の市民社会を共に描こう」
DESCRIPTION:参加費：一般 フォーラム1100円、交流会5500円、25歳以下無料\nPDF情報No.110970 \n\nNPO法成立･施行から25年目を迎えたいま 法の理念として描いた社会に私たちはどれだけ近づいているでしょうか。\n予測が困難な「複雑な」この時代 改めて、社会の中のNPOの存在を確認しあい 協力･共創を深める機会が必要ではないでしょうか。\n本フォーラムでは、世代や、立場を超えて 未来の市民社会をともに描く場としたいと思います。\n※詳細はこちら
URL:https://fujisawa-npo.jp/event/npo%e6%b3%95-25%e5%91%a8%e5%b9%b4%e8%a8%98%e5%bf%b5%e3%83%95%e3%82%a9%e3%83%bc%e3%83%a9%e3%83%a0%e3%80%8c%e6%9c%aa%e6%9d%a5%e3%81%ae%e5%b8%82%e6%b0%91%e7%a4%be%e4%bc%9a%e3%82%92%e5%85%b1%e3%81%ab
LOCATION:星陵会館\, 永田町2-16-2\, 千代田区\, 東京都\, 日本
CATEGORIES:講座
ATTACH;FMTTYPE=image/jpeg:https://fujisawa-npo.jp/wp-content/uploads/2023/11/110970-scaled.jpg
END:VEVENT
END:VCALENDAR