BEGIN:VCALENDAR
VERSION:2.0
PRODID:-//藤沢市市民活動推進センター - ECPv6.15.11//NONSGML v1.0//EN
CALSCALE:GREGORIAN
METHOD:PUBLISH
X-WR-CALNAME:藤沢市市民活動推進センター
X-ORIGINAL-URL:https://fujisawa-npo.jp
X-WR-CALDESC:藤沢市市民活動推進センター のイベント
REFRESH-INTERVAL;VALUE=DURATION:PT1H
X-Robots-Tag:noindex
X-PUBLISHED-TTL:PT1H
BEGIN:VTIMEZONE
TZID:Asia/Tokyo
BEGIN:STANDARD
TZOFFSETFROM:+0900
TZOFFSETTO:+0900
TZNAME:JST
DTSTART:20220101T000000
END:STANDARD
END:VTIMEZONE
BEGIN:VEVENT
DTSTART;VALUE=DATE:20231120
DTEND;VALUE=DATE:20231121
DTSTAMP:20260420T130932
CREATED:20231030T123327Z
LAST-MODIFIED:20231030T123327Z
UID:10335-1700438400-1700524799@fujisawa-npo.jp
SUMMARY:生活困窮者の自立支援 申込締切11/20
DESCRIPTION:↑：申込締切\n日程：2024/1/24(水)～1/26(金)〈全3日間〉\nPDF情報No.110919 \n\nコロナ禍以降、様々な事情により生活困窮に陥る人が増加しており、支援の強化が求められています。\n本研修では、市町村に求められる包括的な支援体制のあリ方や、効果的な事業の進め方などを学び、地域の実績に応じた具体的な支援について考えます。
URL:https://fujisawa-npo.jp/event/%e7%94%9f%e6%b4%bb%e5%9b%b0%e7%aa%ae%e8%80%85%e3%81%ae%e8%87%aa%e7%ab%8b%e6%94%af%e6%8f%b4-%e7%94%b3%e8%be%bc%e7%b7%a0%e5%88%8711-20
LOCATION:全国市町村国際文化研修所\, 唐崎2-13-1\, 大津市\, 滋賀県\, 日本
CATEGORIES:講座
ATTACH;FMTTYPE=image/jpeg:https://fujisawa-npo.jp/wp-content/uploads/2023/10/110919-scaled.jpg
ORGANIZER;CN="%E5%85%A8%E5%9B%BD%E5%B8%82%E7%94%BA%E6%9D%91%E5%9B%BD%E9%9A%9B%E6%96%87%E5%8C%96%E7%A0%94%E4%BF%AE%E6%89%80(JIAM)%E6%95%99%E5%8B%99%E9%83%A8":MAILTO:kenshu@jiam.jp
END:VEVENT
BEGIN:VEVENT
DTSTART;VALUE=DATE:20231120
DTEND;VALUE=DATE:20231121
DTSTAMP:20260420T130932
CREATED:20230612T121104Z
LAST-MODIFIED:20230612T121154Z
UID:6653-1700438400-1700524799@fujisawa-npo.jp
SUMMARY:令和5年度 多文化共生の地域づくりコース 第2回申込締切11/20
DESCRIPTION:↑：第2回申込締切\n日程：\n第1回：8/21(月)～8/25(金)〈全5日間〉、申込締切7/7(金)\n第2回：2024/1/15(月)～1/19(金)〈全5日間〉、申込締切11/20(月)\nPDF情報No.110038 \n\nこの研修は、地域における多文化共生の課題を分野別に学び、自治体やその関係団体が施策を展開する際に、多文化共生に配慮できるよう理解を深めます。\nまた、外国人住民と共に、互いの地域づくりに必要な人材の養成を目的に実施します。
URL:https://fujisawa-npo.jp/event/%e4%bb%a4%e5%92%8c5%e5%b9%b4%e5%ba%a6-%e5%a4%9a%e6%96%87%e5%8c%96%e5%85%b1%e7%94%9f%e3%81%ae%e5%9c%b0%e5%9f%9f%e3%81%a5%e3%81%8f%e3%82%8a%e3%82%b3%e3%83%bc%e3%82%b9-%e7%ac%ac2%e5%9b%9e%e7%94%b3
LOCATION:全国市町村国際文化研修所\, 唐崎2-13-1\, 大津市\, 滋賀県\, 日本
CATEGORIES:講座
ATTACH;FMTTYPE=image/jpeg:https://fujisawa-npo.jp/wp-content/uploads/2023/06/110038-scaled.jpg
ORGANIZER;CN="%E5%85%A8%E5%9B%BD%E5%B8%82%E7%94%BA%E6%9D%91%E5%9B%BD%E9%9A%9B%E6%96%87%E5%8C%96%E7%A0%94%E4%BF%AE%E6%89%80(JIAM)%E6%95%99%E5%8B%99%E9%83%A8":MAILTO:kenshu@jiam.jp
END:VEVENT
BEGIN:VEVENT
DTSTART;TZID=Asia/Tokyo:20231119T140000
DTEND;TZID=Asia/Tokyo:20231119T160000
DTSTAMP:20260420T130932
CREATED:20231003T030726Z
LAST-MODIFIED:20231003T030726Z
UID:9760-1700402400-1700409600@fujisawa-npo.jp
SUMMARY:善行雑学大学「小田急線の歴史と沿線の都市化」
DESCRIPTION:参加費：一般500円、会員無料\n情報No.110705 \n\n1927年に東京と小田原・箱根方面の観光地を結石小田急本線（小田原線）が開通し、続く1929年には江ノ島線が開通し、江ノ島・鎌倉と直結する。\n小田急電鉄は沿線開発として、学園都市や遊園地の開発に取り組むが、戦時下になると相模原や大和の軍都計画の進行とともにその開発は大きく変わる。\n敗戦後は、東京西郊の急速な都市化とともに、通勤路線としての重要性を増し、今日では首都圏有数の通勤路線となっている。\n本講座では、こうした鉄道と地域の進展との関わりについて俯瞰してみたい。\n※申し込みはこちら
URL:https://fujisawa-npo.jp/event/%e5%96%84%e8%a1%8c%e9%9b%91%e5%ad%a6%e5%a4%a7%e5%ad%a6%e3%80%8c%e5%b0%8f%e7%94%b0%e6%80%a5%e7%b7%9a%e3%81%ae%e6%ad%b4%e5%8f%b2%e3%81%a8%e6%b2%bf%e7%b7%9a%e3%81%ae%e9%83%bd%e5%b8%82%e5%8c%96%e3%80%8d
LOCATION:善行市民センター\, 善行1-2-3\, 藤沢市\, 神奈川県
CATEGORIES:講座
ATTACH;FMTTYPE=image/jpeg:https://fujisawa-npo.jp/wp-content/uploads/2023/10/110705-scaled.jpg
ORGANIZER;CN="%E5%96%84%E8%A1%8C%E9%9B%91%E5%AD%A6%E5%A4%A7%E5%AD%A6":MAILTO:kataoka9@gmail.com
END:VEVENT
BEGIN:VEVENT
DTSTART;TZID=Asia/Tokyo:20231118T143000
DTEND;TZID=Asia/Tokyo:20231118T163000
DTSTAMP:20260420T130932
CREATED:20230918T104917Z
LAST-MODIFIED:20230918T104917Z
UID:9204-1700317800-1700325000@fujisawa-npo.jp
SUMMARY:子ども未来セミナー2023「貧困・虐待・いじめ」
DESCRIPTION:日程：10/14(土)～2024/1/20(土)〈全3回〉\n参加費：各回1000円、3回連続2500円\nPDF情報No.110614 \n\n認定NPO法人神奈川子ども未来ファンドでは、本年度も「虐待・貧困・いじめ」をテーマに、気づきと解決へのヒントにつながる講座を開催します。\n痛ましい児童虐待事件やいじめ被害等が報道されています。\nセミナーを通して、子どもの課題を多くの方と共有し、誰ひとり取り残さない社会への地図作りに取り組んでいきたいと思っています。\n第1回(10/14(土))：虐待からのSOS\n第2回(11/18(土))：貧困・広がる格差の中で\n第3回(2024/1/20(土))：いじめ・子どもの命と尊厳を守るために\n※申し込みはこちら
URL:https://fujisawa-npo.jp/event/%e5%ad%90%e3%81%a9%e3%82%82%e6%9c%aa%e6%9d%a5%e3%82%bb%e3%83%9f%e3%83%8a%e3%83%bc2023%e3%80%8c%e8%b2%a7%e5%9b%b0%e3%83%bb%e8%99%90%e5%be%85%e3%83%bb%e3%81%84%e3%81%98%e3%82%81%e3%80%8d-2
LOCATION:オンライン(Zoom)
CATEGORIES:講座
ATTACH;FMTTYPE=image/jpeg:https://fujisawa-npo.jp/wp-content/uploads/2023/09/110614-scaled.jpg
END:VEVENT
BEGIN:VEVENT
DTSTART;TZID=Asia/Tokyo:20231118T140000
DTEND;TZID=Asia/Tokyo:20231118T160000
DTSTAMP:20260420T130932
CREATED:20231023T085140Z
LAST-MODIFIED:20231023T085140Z
UID:10153-1700316000-1700323200@fujisawa-npo.jp
SUMMARY:食生活について考えよう
DESCRIPTION:情報No.110820 \n\n摂食障害には、拒食症や過食症などがあることや、なぜそうなるのか、また、高齢者のフレイル予防についても、お話しいただきます。
URL:https://fujisawa-npo.jp/event/%e9%a3%9f%e7%94%9f%e6%b4%bb%e3%81%ab%e3%81%a4%e3%81%84%e3%81%a6%e8%80%83%e3%81%88%e3%82%88%e3%81%86
LOCATION:鵠沼公民館\, 鵠沼海岸2-10-34\, 藤沢市\, 神奈川県\, 日本
CATEGORIES:講座
ATTACH;FMTTYPE=image/jpeg:https://fujisawa-npo.jp/wp-content/uploads/2023/10/110820-scaled.jpg
ORGANIZER;CN="NPO%E6%B3%95%E4%BA%BA %E6%B9%98%E5%8D%97%E6%A0%84%E9%A4%8A%E6%8C%87%E5%B0%8E%E3%82%BB%E3%83%B3%E3%82%BF%E3%83%BC":MAILTO:shonan-eishi@jcom.home.ne.jp
END:VEVENT
BEGIN:VEVENT
DTSTART;TZID=Asia/Tokyo:20231118T140000
DTEND;TZID=Asia/Tokyo:20231118T153000
DTSTAMP:20260420T130932
CREATED:20230831T105005Z
LAST-MODIFIED:20230831T105619Z
UID:8745-1700316000-1700321400@fujisawa-npo.jp
SUMMARY:外国人とともに生きるために 直近申込締切11/15
DESCRIPTION:日程：\nseminar1：11/18(土)、申込締切：11/15(水)\nseminar2：12/17(日)、申込締切：12/13(水)\n時間：14:00～15:30(seminar1・seminar2共通)\nPDF情報No.110492 \n\n異なる言語や文化を持った外国籍住民もともに担い手となるような多文化共生の地域社会の姿はどのようなものか、日本人はどのような事柄を知っでおく必要があるのかなど、多文化共生社会のあリ方を探るセミナーを開催します。\nseminar1：無国籍ってなに？～国籍のないわたしたちのはなし～\n※申し込みフォームはこちら\nseminar2：やさしい日本語(実践編)・やさしい日本語を使ってみる(応用編①)\n※申し込みフォームはこちら
URL:https://fujisawa-npo.jp/event/%e5%a4%96%e5%9b%bd%e4%ba%ba%e3%81%a8%e3%81%a8%e3%82%82%e3%81%ab%e7%94%9f%e3%81%8d%e3%82%8b%e3%81%9f%e3%82%81%e3%81%ab-%e7%9b%b4%e8%bf%91%e7%94%b3%e8%be%bc%e7%b7%a0%e5%88%8711-15
LOCATION:オンライン(Zoom)
CATEGORIES:講座
ATTACH;FMTTYPE=image/jpeg:https://fujisawa-npo.jp/wp-content/uploads/2023/08/110492-scaled.jpg
ORGANIZER;CN="(%E5%85%AC%E8%B2%A1)%E3%81%8B%E3%81%AA%E3%81%8C%E3%82%8F%E5%9B%BD%E9%9A%9B%E4%BA%A4%E6%B5%81%E8%B2%A1%E5%9B%A3":MAILTO:tabunkares@kifjp.org
END:VEVENT
BEGIN:VEVENT
DTSTART;TZID=Asia/Tokyo:20231118T103000
DTEND;TZID=Asia/Tokyo:20231118T120000
DTSTAMP:20260420T130932
CREATED:20231030T123856Z
LAST-MODIFIED:20231030T123856Z
UID:10337-1700303400-1700308800@fujisawa-npo.jp
SUMMARY:０から始める多言語のススメ
DESCRIPTION:多言語ワークショップ：11/18(土)・ココテラス湘南 5階、11/25(土)・藤沢商工会館ミナパーク\nオンライン講座：11/23(木)\nPDF情報No.110921 \n\n世界が広がる 日常が変わる\n家族で参加できるワークショップ＆講座 多言語で世界につながろう！\nこんな方におすすめ\n・子どもと自然に英語を・・・\n・いろんな言語に興味がある\n・育児をもっと楽しくしたい\n・親子で一緒に楽しめるもの\n・素敵な仲間が欲しい\n・ホームステイ・留学に興味がある
URL:https://fujisawa-npo.jp/event/%ef%bc%90%e3%81%8b%e3%82%89%e5%a7%8b%e3%82%81%e3%82%8b%e5%a4%9a%e8%a8%80%e8%aa%9e%e3%81%ae%e3%82%b9%e3%82%b9%e3%83%a1
LOCATION:神奈川県
CATEGORIES:イベント,講座
ATTACH;FMTTYPE=image/jpeg:https://fujisawa-npo.jp/wp-content/uploads/2023/10/110921-scaled.jpg
END:VEVENT
BEGIN:VEVENT
DTSTART;TZID=Asia/Tokyo:20231118T100000
DTEND;TZID=Asia/Tokyo:20231118T113000
DTSTAMP:20260420T130932
CREATED:20231108T085045Z
LAST-MODIFIED:20231108T085125Z
UID:10598-1700301600-1700307000@fujisawa-npo.jp
SUMMARY:マネーセミナー
DESCRIPTION:日程：11/18(土) 10:00～11:30、11/19(日) 10:00～11:30、11/22(水) 19:30～21:00\n情報No.110961 \n\n◆絶対に抑えておくべきお金の3つの秘密？\n①増やし方 ②貯め方 ③守り方\n◆以下に興味ある人にお勧め\n「NISA\,iDecoなどの資産運用」「老後2000万円問題」「年金」「保険」等
URL:https://fujisawa-npo.jp/event/%e3%83%9e%e3%83%8d%e3%83%bc%e3%82%bb%e3%83%9f%e3%83%8a%e3%83%bc
LOCATION:湘南MKホール\, 鵠沼花沢町2-4\, 藤沢市\, 神奈川県\, 日本
CATEGORIES:講座
ATTACH;FMTTYPE=image/jpeg:https://fujisawa-npo.jp/wp-content/uploads/2023/11/110961-scaled.jpg
END:VEVENT
BEGIN:VEVENT
DTSTART;TZID=Asia/Tokyo:20231117T130000
DTEND;TZID=Asia/Tokyo:20231117T175500
DTSTAMP:20260420T130932
CREATED:20231005T150605Z
LAST-MODIFIED:20231005T151122Z
UID:9843-1700226000-1700243700@fujisawa-npo.jp
SUMMARY:助成財団フォーラム「今こそ民間助成を考える～助成財団を取り巻く環境の大きな変化～」
DESCRIPTION:会場：AP虎ノ門 Room C･Dおよびオンライン(Zoomウェビナー)\n参加費：会員団体および個人参加 6600円、会員以外の団体 9900円\n情報No.110752 \n\n目的：\n地球温暖化と自然災害の頻発、ウイルス感染症やウクライナ侵攻の長期化、人工知能(AI)の急速な進化の影響等々、私たちを取り巻く国内外の環境は日々不安定さを増しています。\nこのような状況にあって、誰一人取り残さない社会の実現に向けて、私たちは、今一度“Think Globally\, Act Locally”の視点で社会に向き合う姿勢が求められていると考えます。\nそして、そのためのチャレンジングな取り組み(研究や活動)を率先して支え、応援していく主体こそが助成財団であり、これによる助成事業であると位置づけられるでしょう。\n翻って、現在の日本の助成財団を取り巻く状況は、政府による競争的資金の拡大、新たな奨学支援制度や休眠預金制度の動向、企業の社会貢献活動等の定着と進展、クラウドファンディングや遺贈にみられる寄付手段の多様化、コミュニティファンドの台頭など、急速に、かつ激しく変化しています。\nそこで、これからの助成財団や助成事業の在り方を国際社会の現状や動向も念頭に、大きな視野からじっくりと考える機会にしたいと考えます。\nこのフォーラムを契機に、それぞれの助成団体が、社会状況を先取りするためのより積極的な助成事業に取り組まれることを期待します。
URL:https://fujisawa-npo.jp/event/%e5%8a%a9%e6%88%90%e8%b2%a1%e5%9b%a3%e3%83%95%e3%82%a9%e3%83%bc%e3%83%a9%e3%83%a0%e3%80%8c%e4%bb%8a%e3%81%93%e3%81%9d%e6%b0%91%e9%96%93%e5%8a%a9%e6%88%90%e3%82%92%e8%80%83%e3%81%88%e3%82%8b%ef%bd%9e
LOCATION:AP虎ノ門 Room C･D(NS虎ノ門ビル 11F)\, 西新橋1-6-15\, 港区\, 東京都\, 日本
CATEGORIES:講座
ATTACH;FMTTYPE=image/jpeg:https://fujisawa-npo.jp/wp-content/uploads/2023/10/110752-scaled.jpg
END:VEVENT
BEGIN:VEVENT
DTSTART;TZID=Asia/Tokyo:20231116T190000
DTEND;TZID=Asia/Tokyo:20231116T203000
DTSTAMP:20260420T130932
CREATED:20231110T053854Z
LAST-MODIFIED:20231110T053854Z
UID:10679-1700161200-1700166600@fujisawa-npo.jp
SUMMARY:私たちの知らない世界「健常と障害の間」
DESCRIPTION:会場：仙台市市民活動サポートセンターおよびオンライン(Zoom)\n情報No.110993 \n\n健常と障害の違いとはなんなのだろう、健常と障害にそもそも違いが明確にあるのだろうか？\n誰が誰に対しどう感じることなのだろうか？\n今日を生きるという意味では何ら変わらない私たち。\n健常と障害という一見区別されたような言葉のその曖昧な部分を考え､話してみることで見えてくる間(あいだ)があるかもしれない。\n※申し込みはこちら
URL:https://fujisawa-npo.jp/event/%e7%a7%81%e3%81%9f%e3%81%a1%e3%81%ae%e7%9f%a5%e3%82%89%e3%81%aa%e3%81%84%e4%b8%96%e7%95%8c%e3%80%8c%e5%81%a5%e5%b8%b8%e3%81%a8%e9%9a%9c%e5%ae%b3%e3%81%ae%e9%96%93%e3%80%8d
LOCATION:仙台市市民活動サポートセンター\, 青葉区一番町4-1-3\, 仙台市\, 宮城県\, 日本
CATEGORIES:講座
ATTACH;FMTTYPE=image/jpeg:https://fujisawa-npo.jp/wp-content/uploads/2023/11/110993-scaled.jpg
ORGANIZER;CN="%E4%BB%99%E5%8F%B0%E5%B8%82%E5%B8%82%E6%B0%91%E6%B4%BB%E5%8B%95%E3%82%B5%E3%83%9D%E3%83%BC%E3%83%88%E3%82%BB%E3%83%B3%E3%82%BF%E3%83%BC":MAILTO:sendai@sapo-sen.jp
END:VEVENT
BEGIN:VEVENT
DTSTART;TZID=Asia/Tokyo:20231116T093000
DTEND;TZID=Asia/Tokyo:20231116T113000
DTSTAMP:20260420T130932
CREATED:20230928T104552Z
LAST-MODIFIED:20230928T104552Z
UID:9420-1700127000-1700134200@fujisawa-npo.jp
SUMMARY:NPOと行政の協働 申込締切11/13
DESCRIPTION:PDF情報No.110662 \n\n協働のまちづくり ポイントは「対話とコミュニケーション」\n家族のあり方や働き方の変化、コミュニティのつながりの希薄化によって市民生活の基盤が揺らいでいます。\nさらには人口減や少子化によって地域の担い手不足は深刻な課題となっています。\n地域で住民が安心して暮らしていくためには、限られた資源の中で何が出来るのか、そのためには行政とNPOが課題を共有し､様々な主体が連携して取り組むことがこれまで以上に求められています。\n本講座では行政職員と市民活動団体とが一堂に会し、協働を進める上で重要な「対話とコミュニケーション」をワークショップを通して学びます。
URL:https://fujisawa-npo.jp/event/npo%e3%81%a8%e8%a1%8c%e6%94%bf%e3%81%ae%e5%8d%94%e5%83%8d-%e7%94%b3%e8%be%bc%e7%b7%a0%e5%88%8711-13
LOCATION:平塚市教育会館\, 浅間町12-41\, 平塚市\, 神奈川県\, 日本
CATEGORIES:講座
ATTACH;FMTTYPE=image/jpeg:https://fujisawa-npo.jp/wp-content/uploads/2023/09/110662-scaled.jpg
ORGANIZER;CN="%E3%81%B2%E3%82%89%E3%81%A4%E3%81%8B%E5%B8%82%E6%B0%91%E6%B4%BB%E5%8B%95%E3%82%BB%E3%83%B3%E3%82%BF%E3%83%BC":MAILTO:info@hiratsuka-shimin.net
END:VEVENT
BEGIN:VEVENT
DTSTART;VALUE=DATE:20231115
DTEND;VALUE=DATE:20231116
DTSTAMP:20260420T130932
CREATED:20231023T093859Z
LAST-MODIFIED:20231023T093859Z
UID:10171-1700006400-1700092799@fujisawa-npo.jp
SUMMARY:はじめてのにほんご (もうしこみ11/15まで)
DESCRIPTION:↑：もうしこみ きげん\n情報No.110831 \n\nいつ：12/6～2024/2/28(すいようび・きんようび) 10:00～12:00〈20かい〉\nどこ：オンライン(Zoom)\nだれ：ひらがな・カタカナを よむことが できるひと\nおかね：￥0\n※もうしこみはこちら
URL:https://fujisawa-npo.jp/event/%e3%81%af%e3%81%98%e3%82%81%e3%81%a6%e3%81%ae%e3%81%ab%e3%81%bb%e3%82%93%e3%81%94-%e3%82%82%e3%81%86%e3%81%97%e3%81%93%e3%81%bf11-15%e3%81%be%e3%81%a7
LOCATION:オンライン(Zoom)
CATEGORIES:講座
ATTACH;FMTTYPE=image/jpeg:https://fujisawa-npo.jp/wp-content/uploads/2023/10/110831-scaled.jpg
ORGANIZER;CN="(%E5%85%AC%E8%B2%A1)%E3%81%8B%E3%81%AA%E3%81%8C%E3%82%8F%E5%9B%BD%E9%9A%9B%E4%BA%A4%E6%B5%81%E8%B2%A1%E5%9B%A3(%E5%A4%9A%E8%A8%80%E8%AA%9E%E6%94%AF%E6%8F%B4%E3%82%BB%E3%83%B3%E3%82%BF%E3%83%BC%E3%81%8B%E3%81%AA%E3%81%8C%E3%82%8F)":MAILTO:nihongo_join@kifjp.org
END:VEVENT
BEGIN:VEVENT
DTSTART;TZID=Asia/Tokyo:20231113T133000
DTEND;TZID=Asia/Tokyo:20231113T164500
DTSTAMP:20260420T130932
CREATED:20230928T105005Z
LAST-MODIFIED:20230928T105005Z
UID:9422-1699882200-1699893900@fujisawa-npo.jp
SUMMARY:セルフヘルプ・グループの可能性 申込締切11/2
DESCRIPTION:PDF情報No.110663 \n\nセルフヘルプ・ダループの活動には、日常生活の中で生きづらさを抱える人が、共通の問題や仲間出会うことで、気持ちや情報を分かち合い、生きる力に変えていく作用があります。\n専門職ではない、当事者同士だからできること。そのチカラや可能性について深堀していきます。\n※申し込みはこちら
URL:https://fujisawa-npo.jp/event/%e3%82%bb%e3%83%ab%e3%83%95%e3%83%98%e3%83%ab%e3%83%97%e3%83%bb%e3%82%b0%e3%83%ab%e3%83%bc%e3%83%97%e3%81%ae%e5%8f%af%e8%83%bd%e6%80%a7-%e7%94%b3%e8%be%bc%e7%b7%a0%e5%88%8711-2
LOCATION:かながわ県民センター\, 神奈川区鶴屋町2-24-2\, 横浜市\, 神奈川県\, 日本
CATEGORIES:講座
ATTACH;FMTTYPE=image/jpeg:https://fujisawa-npo.jp/wp-content/uploads/2023/09/110663-scaled.jpg
ORGANIZER;CN="%E7%A5%9E%E5%A5%88%E5%B7%9D%E7%9C%8C%E7%A4%BE%E4%BC%9A%E7%A6%8F%E7%A5%89%E5%8D%94%E8%AD%B0%E4%BC%9A %E3%81%8B%E3%81%AA%E3%81%8C%E3%82%8F%E3%83%9C%E3%83%A9%E3%83%B3%E3%83%86%E3%82%A3%E3%82%A2%E3%82%BB%E3%83%B3%E3%82%BF%E3%83%BC":MAILTO:kvc@knsyk.jp
END:VEVENT
BEGIN:VEVENT
DTSTART;TZID=Asia/Tokyo:20231112T100000
DTEND;TZID=Asia/Tokyo:20231112T113000
DTSTAMP:20260420T130932
CREATED:20231024T132459Z
LAST-MODIFIED:20231024T132531Z
UID:10211-1699783200-1699788600@fujisawa-npo.jp
SUMMARY:第26回 東洋医学市民講座「東洋医学で介護予防」 申込締切11/2
DESCRIPTION:情報No.110861 \n\n～つぼ療法を用いたフレイル予防の実践～\n一般社団法人藤沢市鍼灸・マッサージ師会では、市民の皆様の健康維持の一つの手助けとして、健康講座を開催致します。\n今回は、当会会員の2人が講師となり、前回好評だったツボ療法やフレイル予防に役立つ体の基礎知識、運動方法などのお話をしていきます。
URL:https://fujisawa-npo.jp/event/%e7%ac%ac26%e5%9b%9e-%e6%9d%b1%e6%b4%8b%e5%8c%bb%e5%ad%a6%e5%b8%82%e6%b0%91%e8%ac%9b%e5%ba%a7%e3%80%8c%e6%9d%b1%e6%b4%8b%e5%8c%bb%e5%ad%a6%e3%81%a7%e4%bb%8b%e8%ad%b7%e4%ba%88%e9%98%b2%e3%80%8d
LOCATION:藤沢商工会館ミナパーク\, 藤沢607-1\, 藤沢市\, 神奈川県\, 日本
CATEGORIES:講座
ATTACH;FMTTYPE=image/jpeg:https://fujisawa-npo.jp/wp-content/uploads/2023/10/110861-scaled.jpg
END:VEVENT
BEGIN:VEVENT
DTSTART;TZID=Asia/Tokyo:20231111T140000
DTEND;TZID=Asia/Tokyo:20231111T160000
DTSTAMP:20260420T130932
CREATED:20231003T040210Z
LAST-MODIFIED:20231003T040210Z
UID:9781-1699711200-1699718400@fujisawa-npo.jp
SUMMARY:市民協働推進シンポジウム「大切な人を亡くして、生きてゆくということ」
DESCRIPTION:PDF情報No.110732 \n\n～グリーフケアで、つながるまちへ～\nいつか誰もが経験するかもしれない、大きな悲しみ……。\n大切な人との死別は、心や体にさまざまな変化をもたらします。\nクリープケアとは、そんな悲しみの中にある人に寄り添い、サポートをすること。\n自分自身の辛い経験を経たのちに、支援活動に取り組んでいる人たち。\nその胸の奥にあるのは、どんな想いなのでしょうか。\n人と人とのつながりが、自分で自分を手当てする力を生んでいく。\n私たちのまちで少しずつ広がっているクリープケアの輪について、聞いてみませんか。\n※申し込みはこちら
URL:https://fujisawa-npo.jp/event/%e5%b8%82%e6%b0%91%e5%8d%94%e5%83%8d%e6%8e%a8%e9%80%b2%e3%82%b7%e3%83%b3%e3%83%9d%e3%82%b8%e3%82%a6%e3%83%a0%e3%80%8c%e5%a4%a7%e5%88%87%e3%81%aa%e4%ba%ba%e3%82%92%e4%ba%a1%e3%81%8f%e3%81%97%e3%81%a6
LOCATION:府中市市民活動センタープラッツ\, 宮町1-100-5\, 府中市\, 東京都\, 日本
CATEGORIES:講座
ATTACH;FMTTYPE=image/jpeg:https://fujisawa-npo.jp/wp-content/uploads/2023/10/110732-scaled.jpg
END:VEVENT
BEGIN:VEVENT
DTSTART;TZID=Asia/Tokyo:20231111T140000
DTEND;TZID=Asia/Tokyo:20231111T153000
DTSTAMP:20260420T130932
CREATED:20231009T133053Z
LAST-MODIFIED:20231009T133053Z
UID:9891-1699711200-1699716600@fujisawa-npo.jp
SUMMARY:湘南の風物詩「ボウフウ狩り」
DESCRIPTION:情報No.110775 \n\n～湘南海浜植物育成会の歩みとともに～\nかつて辻堂海岸にはセリ科の「ハマボウフウ」がたくさん自生し「ボウフウ狩り」という文化がありました。\n開発の流れの中で、一度なくなってしまったハマボウフウをもう一度よみがえらせようと、今から28年前、辻堂公民館の呼びかけで集まった男性たちのグループによリハマボウフウの復活が始められました。\nその後、湘南みちくさクラブとして活動が引き継がれ、25周年を機に湘南海浜植物育成会に名称を変更、これまでに多くの方々が関わり、活動の成果も得られました。\n今回、その歴史と成果、これからについて講演したいと思います。
URL:https://fujisawa-npo.jp/event/%e6%b9%98%e5%8d%97%e3%81%ae%e9%a2%a8%e7%89%a9%e8%a9%a9%e3%80%8c%e3%83%9c%e3%82%a6%e3%83%95%e3%82%a6%e7%8b%a9%e3%82%8a%e3%80%8d
LOCATION:辻堂公民館\, 辻堂東海岸1-1-41\, 藤沢市\, 神奈川県\, 日本
CATEGORIES:講座
ATTACH;FMTTYPE=image/jpeg:https://fujisawa-npo.jp/wp-content/uploads/2023/10/110775-scaled.jpg
END:VEVENT
BEGIN:VEVENT
DTSTART;VALUE=DATE:20231111
DTEND;VALUE=DATE:20231112
DTSTAMP:20260420T130932
CREATED:20230706T154601Z
LAST-MODIFIED:20230706T154601Z
UID:7413-1699660800-1699747199@fujisawa-npo.jp
SUMMARY:ふじさわ終活カフェ
DESCRIPTION:～開催日とテーマ～\n7/９(日)：総まとめ！ デジタル終活\n9/９(土)：40歳からのエンディングノート\n10/14(土)：生涯、変身！みんなで考える「変身資産」\n11/11(土)：「もしものとき」の話をしよう\n※開催時間・会場については主催者にご確認ください\n情報No.110186 \n\nカフェでくつろぐようなリラックスした気持ちで、人生100年時代の終活について一緒に学びませんか？\n「ふじさわ終活カフェ」は、ミニレクチャーとグループワークで人生100年時代の終活について考えていく「参加型勉強会」です。1～2ヵ月に1回、週末に藤沢エリアで開催中。
URL:https://fujisawa-npo.jp/event/%e3%81%b5%e3%81%98%e3%81%95%e3%82%8f%e7%b5%82%e6%b4%bb%e3%82%ab%e3%83%95%e3%82%a7-4
LOCATION:神奈川県
CATEGORIES:講座
ATTACH;FMTTYPE=image/jpeg:https://fujisawa-npo.jp/wp-content/uploads/2023/07/110186-scaled.jpg
ORGANIZER;CN="%E3%81%AA%E3%81%AA%E3%81%84%E3%82%8D%E3%82%A8%E3%83%B3%E3%83%87%E3%82%A3%E3%83%B3%E3%82%B0%E3%83%BB%E3%83%A9%E3%83%9C":MAILTO:contact@7end.org
END:VEVENT
BEGIN:VEVENT
DTSTART;TZID=Asia/Tokyo:20231110T140000
DTEND;TZID=Asia/Tokyo:20231110T160000
DTSTAMP:20260420T130932
CREATED:20230727T074144Z
LAST-MODIFIED:20230727T074358Z
UID:8055-1699624800-1699632000@fujisawa-npo.jp
SUMMARY:最新労働法改正の確認・対応と令和5年度改正のポイント
DESCRIPTION:会場：対面およびオンライン\nPDF情報No.110311 \n\n2020年4月より中小企業にも働き方改革への対応が求められるようになりました。\n長時間労働の是正や、有給休暇取得の対応、同一労働同一賃金等、まだまだ多くの企業が対応しきれていないのが実情です。\nそこで本講座では働き方改革の根幹をなす、労働法改正についておさらいと最新の内容を解説いたします。\n働き方改革を通じて生産性の高い会社組織を作り、経営の質の向上を目指しましよう。\nまた、環境改善に時間が必要な建設業者や運送業者は、令和6年(2024年)まで働き方改革の施行が猶予されていますが、今後対応が必要ですので、建設業や運送業の対応についても解説します。\n※申し込みはこちら
URL:https://fujisawa-npo.jp/event/%e6%9c%80%e6%96%b0%e5%8a%b4%e5%83%8d%e6%b3%95%e6%94%b9%e6%ad%a3%e3%81%ae%e7%a2%ba%e8%aa%8d%e3%83%bb%e5%af%be%e5%bf%9c%e3%81%a8%e4%bb%a4%e5%92%8c5%e5%b9%b4%e5%ba%a6%e6%94%b9%e6%ad%a3%e3%81%ae%e3%83%9d
LOCATION:藤沢商工会館ミナパーク\, 藤沢607-1\, 藤沢市\, 神奈川県\, 日本
CATEGORIES:講座
ATTACH;FMTTYPE=image/jpeg:https://fujisawa-npo.jp/wp-content/uploads/2023/07/110311-1-scaled.jpg
END:VEVENT
BEGIN:VEVENT
DTSTART;TZID=Asia/Tokyo:20231108T140000
DTEND;TZID=Asia/Tokyo:20231108T160000
DTSTAMP:20260420T130932
CREATED:20231024T125433Z
LAST-MODIFIED:20231024T125433Z
UID:10208-1699452000-1699459200@fujisawa-npo.jp
SUMMARY:助成金講座「申請手順とポイント」(緑区開催) 申込締切11/7
DESCRIPTION:PDF情報No.110859 \n\nNPOの秋は事業の実施準備で大忙し。\nしかし、少し立ち止まって次年度事業についても考えてみましょう。\n運営のため、事業実施のために「資金調達」は重要課題！この秋、助成金を視野に入れて、申請手順を学んでおきましょう。
URL:https://fujisawa-npo.jp/event/%e5%8a%a9%e6%88%90%e9%87%91%e8%ac%9b%e5%ba%a7%e3%80%8c%e7%94%b3%e8%ab%8b%e6%89%8b%e9%a0%86%e3%81%a8%e3%83%9d%e3%82%a4%e3%83%b3%e3%83%88%e3%80%8d%e7%b7%91%e5%8c%ba%e9%96%8b%e5%82%ac-%e7%94%b3
LOCATION:ソレイユさがみ(相模原市立男女共同参画推進センター)\, 緑区橋本6-2-1\, 相模原市\, 神奈川県\, 日本
CATEGORIES:講座
ATTACH;FMTTYPE=image/jpeg:https://fujisawa-npo.jp/wp-content/uploads/2023/10/110859-scaled.jpg
ORGANIZER;CN="%E3%81%95%E3%81%8C%E3%81%BF%E3%81%AF%E3%82%89%E5%B8%82%E6%B0%91%E6%B4%BB%E5%8B%95%E3%82%B5%E3%83%9D%E3%83%BC%E3%83%88%E3%82%BB%E3%83%B3%E3%82%BF%E3%83%BC":MAILTO:sagami.saposen@iris.ocn.ne.jp
END:VEVENT
BEGIN:VEVENT
DTSTART;TZID=Asia/Tokyo:20231108T140000
DTEND;TZID=Asia/Tokyo:20231108T160000
DTSTAMP:20260420T130932
CREATED:20230821T135452Z
LAST-MODIFIED:20230821T135452Z
UID:8664-1699452000-1699459200@fujisawa-npo.jp
SUMMARY:助成金講座「申請手順とポイント」 申込締切11/7
DESCRIPTION:日程：南区：9/9(土)、中央区：10/5(木)、緑区：11/8(水)\n※実施日の前日までにお申し込みください\nPDF情報No.110469 \n\nNPOの秋は事業の実施準備で大忙し。しかし、少し立ち止まって次年度事業についても考えてみましょう。\n運営のため、事業実施のために「資金調達」は重要課題！\nこの秋、助成金を視野に入れて、申請手順を学んでおきましょう。
URL:https://fujisawa-npo.jp/event/%e5%8a%a9%e6%88%90%e9%87%91%e8%ac%9b%e5%ba%a7%e3%80%8c%e7%94%b3%e8%ab%8b%e6%89%8b%e9%a0%86%e3%81%a8%e3%83%9d%e3%82%a4%e3%83%b3%e3%83%88%e3%80%8d-%e7%94%b3%e8%be%bc%e7%b7%a0%e5%88%8711-7
LOCATION:ソレイユさがみ(相模原市立男女共同参画推進センター)\, 緑区橋本6-2-1\, 相模原市\, 神奈川県\, 日本
CATEGORIES:講座
ATTACH;FMTTYPE=image/jpeg:https://fujisawa-npo.jp/wp-content/uploads/2023/08/110469-scaled.jpg
ORGANIZER;CN="%E3%81%95%E3%81%8C%E3%81%BF%E3%81%AF%E3%82%89%E5%B8%82%E6%B0%91%E6%B4%BB%E5%8B%95%E3%82%B5%E3%83%9D%E3%83%BC%E3%83%88%E3%82%BB%E3%83%B3%E3%82%BF%E3%83%BC":MAILTO:sagami.saposen@iris.ocn.ne.jp
END:VEVENT
BEGIN:VEVENT
DTSTART;TZID=Asia/Tokyo:20231107T180000
DTEND;TZID=Asia/Tokyo:20231107T200000
DTSTAMP:20260420T130932
CREATED:20230918T124547Z
LAST-MODIFIED:20230918T124547Z
UID:9219-1699380000-1699387200@fujisawa-npo.jp
SUMMARY:これからの高年齢者雇用のポイントと実務解説 申込締切11/6
DESCRIPTION:PDF情報No.110633 \n\n～70歳までの就業確保に向けて～\n令和3年4月から、高年齢者雇用安定法の改正に伴い、65歳までの雇用確保(義務)に加え、70歳までの就業確保措置を講じることが事業主の努力義務となりました。\n本講座では、今後の高年齢者雇用において押さえておくべき制度や実務上の要点について、わかりやすく解説します。
URL:https://fujisawa-npo.jp/event/%e3%81%93%e3%82%8c%e3%81%8b%e3%82%89%e3%81%ae%e9%ab%98%e5%b9%b4%e9%bd%a2%e8%80%85%e9%9b%87%e7%94%a8%e3%81%ae%e3%83%9d%e3%82%a4%e3%83%b3%e3%83%88%e3%81%a8%e5%ae%9f%e5%8b%99%e8%a7%a3%e8%aa%ac-%e7%94%b3
LOCATION:茅ヶ崎市勤労市民会館\, 新栄町13-32\, 茅ヶ崎市\, 神奈川県\, 日本
CATEGORIES:講座
ATTACH;FMTTYPE=image/jpeg:https://fujisawa-npo.jp/wp-content/uploads/2023/09/110633.jpg
END:VEVENT
BEGIN:VEVENT
DTSTART;TZID=Asia/Tokyo:20231107T133000
DTEND;TZID=Asia/Tokyo:20231107T153000
DTSTAMP:20260420T130932
CREATED:20231019T151847Z
LAST-MODIFIED:20231019T151847Z
UID:10080-1699363800-1699371000@fujisawa-npo.jp
SUMMARY:失語症講演会「演習で学ぼう！失語症の具体例支援方法」 申込締切11/2
DESCRIPTION:PDF情報No.110834 \n\n内容：\n1. 失語症の知識編\n2. 演習(具体的な支援方法)\n3. 質疑応答
URL:https://fujisawa-npo.jp/event/%e5%a4%b1%e8%aa%9e%e7%97%87%e8%ac%9b%e6%bc%94%e4%bc%9a%e3%80%8c%e6%bc%94%e7%bf%92%e3%81%a7%e5%ad%a6%e3%81%bc%e3%81%86%ef%bc%81%e5%a4%b1%e8%aa%9e%e7%97%87%e3%81%ae%e5%85%b7%e4%bd%93%e4%be%8b%e6%94%af
LOCATION:第一相澤ビル\, 南藤沢22-7\, 藤沢市\, 神奈川県\, 日本
CATEGORIES:講座
ATTACH;FMTTYPE=image/jpeg:https://fujisawa-npo.jp/wp-content/uploads/2023/10/110834-scaled.jpg
ORGANIZER;CN="%E5%A4%B1%E8%AA%9E%E7%97%87%E4%BC%9A%E8%A9%B1%E3%82%AB%E3%83%95%E3%82%A7":MAILTO:flower.ocean.harada@jcom.home.ne.jp
END:VEVENT
BEGIN:VEVENT
DTSTART;TZID=Asia/Tokyo:20231107T133000
DTEND;TZID=Asia/Tokyo:20231107T153000
DTSTAMP:20260420T130932
CREATED:20230928T104029Z
LAST-MODIFIED:20230928T104029Z
UID:9416-1699363800-1699371000@fujisawa-npo.jp
SUMMARY:歴史講座「勝海舟の子孫が語る 勝海舟ってどんな人」
DESCRIPTION:情報No.110658 \n\n講師：高山みな子(フリーランスライター・勝海舟子孫)
URL:https://fujisawa-npo.jp/event/%e6%ad%b4%e5%8f%b2%e8%ac%9b%e5%ba%a7%e3%80%8c%e5%8b%9d%e6%b5%b7%e8%88%9f%e3%81%ae%e5%ad%90%e5%ad%ab%e3%81%8c%e8%aa%9e%e3%82%8b-%e5%8b%9d%e6%b5%b7%e8%88%9f%e3%81%a3%e3%81%a6%e3%81%a9%e3%82%93%e3%81%aa
LOCATION:鵠沼公民館\, 鵠沼海岸2-10-34\, 藤沢市\, 神奈川県\, 日本
CATEGORIES:講座
ATTACH;FMTTYPE=image/jpeg:https://fujisawa-npo.jp/wp-content/uploads/2023/09/110658-scaled.jpg
END:VEVENT
BEGIN:VEVENT
DTSTART;TZID=Asia/Tokyo:20231106T140000
DTEND;TZID=Asia/Tokyo:20231106T160000
DTSTAMP:20260420T130932
CREATED:20231103T060312Z
LAST-MODIFIED:20231103T060312Z
UID:10454-1699279200-1699286400@fujisawa-npo.jp
SUMMARY:(社福)いきいき福祉会「ゆるゆるパソコン教室」
DESCRIPTION:情報No.110939 \n\n～知りたいな できたらいいな～\nパソコンが無くても パソコンに触ったことが無くても 仲間が楽しく教えてくれるから 初心者でも大丈夫です！！
URL:https://fujisawa-npo.jp/event/%e7%a4%be%e7%a6%8f%e3%81%84%e3%81%8d%e3%81%84%e3%81%8d%e7%a6%8f%e7%a5%89%e4%bc%9a%e3%80%8c%e3%82%86%e3%82%8b%e3%82%86%e3%82%8b%e3%83%91%e3%82%bd%e3%82%b3%e3%83%b3%e6%95%99%e5%ae%a4%e3%80%8d-2
LOCATION:ラポール城南かるがも\, 城南4-9-8\, 藤沢市\, 神奈川県\, 日本
CATEGORIES:講座
ATTACH;FMTTYPE=image/jpeg:https://fujisawa-npo.jp/wp-content/uploads/2023/11/110939-scaled.jpg
END:VEVENT
BEGIN:VEVENT
DTSTART;TZID=Asia/Tokyo:20231106T133000
DTEND;TZID=Asia/Tokyo:20231106T153000
DTSTAMP:20260420T130932
CREATED:20231013T045649Z
LAST-MODIFIED:20231013T045649Z
UID:9974-1699277400-1699284600@fujisawa-npo.jp
SUMMARY:NPO・市民活動団体のための会計講座(中級編)
DESCRIPTION:会場：ふじのくにNPO活動支援センターおよびオンライン(Zoom)\n日程：初級編 10/23(月)、中級編 11/6(月)\nPDF情報No.110800 \n\nNPO・市民活動団体が知っておきたい会計の基礎知識、日々の会計処理から決算手続き、特有の会計書類や税務等を、2回に分けて学びます。\n※申し込み(Google フォーム)はこちら
URL:https://fujisawa-npo.jp/event/npo%e3%83%bb%e5%b8%82%e6%b0%91%e6%b4%bb%e5%8b%95%e5%9b%a3%e4%bd%93%e3%81%ae%e3%81%9f%e3%82%81%e3%81%ae%e4%bc%9a%e8%a8%88%e8%ac%9b%e5%ba%a7%e4%b8%ad%e7%b4%9a%e7%b7%a8
LOCATION:ふじのくにNPO活動支援センター(水の森ビル 2F)\, 駿河区南町14-1\, 静岡市\, 静岡県\, 日本
CATEGORIES:講座
ATTACH;FMTTYPE=image/jpeg:https://fujisawa-npo.jp/wp-content/uploads/2023/10/110800-scaled.jpg
ORGANIZER;CN="%E3%81%B5%E3%81%98%E3%81%AE%E3%81%8F%E3%81%ABNPO%E6%B4%BB%E5%8B%95%E6%94%AF%E6%8F%B4%E3%82%BB%E3%83%B3%E3%82%BF%E3%83%BC":MAILTO:fnc@shizuokafund.org
END:VEVENT
BEGIN:VEVENT
DTSTART;TZID=Asia/Tokyo:20231106T093000
DTEND;TZID=Asia/Tokyo:20231106T101000
DTSTAMP:20260420T130932
CREATED:20231103T052245Z
LAST-MODIFIED:20231103T052245Z
UID:10446-1699263000-1699265400@fujisawa-npo.jp
SUMMARY:藤沢ピアノ音楽教室 藤沢駅前リトミック
DESCRIPTION:会場・日程：\n会場 Fプレイス、日程 11/6(月)\n会場 太陽ぬ荘てぃーだぬ、日程 11/13(月)・11/27(月)\n情報No.110938 \n\n1・2・3歳の心と頭を豊かにはぐくむ\n子供達は楽しい遊びが大好き！\nピアノの生演奏で、子供の大好きな歌や踊り、絵本を使って♪音感♪リズム感♪集中力♪注意力♪聴く力♪想像力♪社会性etc…を育んでいきます。\n楽しいから、ぐんぐん力が身につく\nそれが当教室のコンセプトです。
URL:https://fujisawa-npo.jp/event/%e8%97%a4%e6%b2%a2%e3%83%94%e3%82%a2%e3%83%8e%e9%9f%b3%e6%a5%bd%e6%95%99%e5%ae%a4-%e8%97%a4%e6%b2%a2%e9%a7%85%e5%89%8d%e3%83%aa%e3%83%88%e3%83%9f%e3%83%83%e3%82%af
LOCATION:Fプレイス\, 本町1丁目12-17\, 藤沢市\, 神奈川県\, 日本
CATEGORIES:講座
ATTACH;FMTTYPE=image/jpeg:https://fujisawa-npo.jp/wp-content/uploads/2023/11/110938-scaled.jpg
ORGANIZER;CN="%E8%97%A4%E6%B2%A2%E3%83%94%E3%82%A2%E3%83%8E%E9%9F%B3%E6%A5%BD%E6%95%99%E5%AE%A4":MAILTO:pianola@hotmail.co.jp
END:VEVENT
BEGIN:VEVENT
DTSTART;TZID=Asia/Tokyo:20231104T100000
DTEND;TZID=Asia/Tokyo:20231104T170000
DTSTAMP:20260420T130932
CREATED:20231017T141557Z
LAST-MODIFIED:20231019T102928Z
UID:10062-1699092000-1699117200@fujisawa-npo.jp
SUMMARY:海を渡ったニッポンの洋食器
DESCRIPTION:PDF情報No.110827 \n\n文明開化へ進む明治初期。コーヒーやグレービーソースなどのなんたるかを想像できなかった日本の陶工たちが、日本の伝統技術と心意気を世界に伝えようと作り上げた洋食器。\n海を超え、アメリカやイギリスの家庭で愛用され、代々受け継がれ、今や美術作品として展覧会が開催されるようになりました。\nそのような様々な日本の近代陶磁器を、国登録有形文化財の「松の杜くげぬま」で展示し、講演会を開催します。
URL:https://fujisawa-npo.jp/event/%e6%b5%b7%e3%82%92%e6%b8%a1%e3%81%a3%e3%81%9f%e3%83%8b%e3%83%83%e3%83%9d%e3%83%b3%e3%81%ae%e6%b4%8b%e9%a3%9f%e5%99%a8
LOCATION:松の杜くげぬま\, 鵠沼松が丘1-6-31\, 藤沢市\, 神奈川県\, 日本
CATEGORIES:講座
ATTACH;FMTTYPE=image/jpeg:https://fujisawa-npo.jp/wp-content/uploads/2023/10/110827-scaled.jpg
ORGANIZER;CN="%E9%B5%A0%E6%B2%BC%E6%96%87%E5%8C%96%E4%BC%9A":MAILTO:kugebun@gmail.com
END:VEVENT
BEGIN:VEVENT
DTSTART;TZID=Asia/Tokyo:20231102T190000
DTEND;TZID=Asia/Tokyo:20231102T201500
DTSTAMP:20260420T130932
CREATED:20231019T224411Z
LAST-MODIFIED:20231019T224529Z
UID:10108-1698951600-1698956100@fujisawa-npo.jp
SUMMARY:世界の動向、日本の現在を学ぶカフェ・インテグラル
DESCRIPTION:日程：\n①11/2(木)19:00～20:15、アーカイブ配信：11/7(火)～11/20(月)\n②11/11(土)14:00～15:30、アーカイブ配信：11/17(金)～11/30(木)\n関連イベント「第11回 NⅡ湘南会議 記念講演会」：\n日程：11/26(日) 14:30～16:00、会場：湘南国際村センター 国際会議場\n※PDF裏面をご覧ください\nPDF情報No.110844 \n\n湘南国際村の関連機関などと協力して、国際的な情勢や社会動向を踏まえたテーマを取り上げて、オンライン講演会を開催します(全2回)。\n各講演会の終了後、期間限定にてアーカイブ配信もしますので、当日ご都合がつかない方もお申込みお待ちしています。\n内容：\n①国際的な気候変動枠組み「パリ協定」の進捗 ～“地球沸騰化”と呼ばれる時代に学ぶ～\n②こどもまんなか社会を目指して ～私たち一人ひとりができること～\n※申し込みはこちら
URL:https://fujisawa-npo.jp/event/%e4%b8%96%e7%95%8c%e3%81%ae%e5%8b%95%e5%90%91%e3%80%81%e6%97%a5%e6%9c%ac%e3%81%ae%e7%8f%be%e5%9c%a8%e3%82%92%e5%ad%a6%e3%81%b6%e3%82%ab%e3%83%95%e3%82%a7%e3%83%bb%e3%82%a4%e3%83%b3%e3%83%86%e3%82%b0
LOCATION:オンライン(Zoom)
CATEGORIES:講座
ATTACH;FMTTYPE=image/jpeg:https://fujisawa-npo.jp/wp-content/uploads/2023/10/110844-scaled.jpg
ORGANIZER;CN="(%E5%85%AC%E8%B2%A1)%E3%81%8B%E3%81%AA%E3%81%8C%E3%82%8F%E5%9B%BD%E9%9A%9B%E4%BA%A4%E6%B5%81%E8%B2%A1%E5%9B%A3(%E6%B9%98%E5%8D%97%E5%9B%BD%E9%9A%9B%E6%9D%91%E3%82%A2%E3%82%AB%E3%83%87%E3%83%9F%E3%82%A2)":MAILTO:academia@kifjp.org
END:VEVENT
BEGIN:VEVENT
DTSTART;VALUE=DATE:20231031
DTEND;VALUE=DATE:20231101
DTSTAMP:20260420T130932
CREATED:20231030T123104Z
LAST-MODIFIED:20231030T123104Z
UID:10333-1698710400-1698796799@fujisawa-npo.jp
SUMMARY:上手な話し合いにはコツがある 申込締切10/31
DESCRIPTION:↑：申込締切\n日程：11/8(水)、11/15(水)〈全2回〉、時間：14:00～16:00\nPDF情報No.110902 \n\nオープンでフラットな関係づくりで人が集まる場をもっと楽しく面白く！\n全員が心地よく、納得感を持って参加できるようにするため手法や考え方を学んで自分が参加する話し合いをもっと良くしませんか。\n※申し込みはこちら
URL:https://fujisawa-npo.jp/event/%e4%b8%8a%e6%89%8b%e3%81%aa%e8%a9%b1%e3%81%97%e5%90%88%e3%81%84%e3%81%ab%e3%81%af%e3%82%b3%e3%83%84%e3%81%8c%e3%81%82%e3%82%8b-%e7%94%b3%e8%be%bc%e7%b7%a0%e5%88%8710-31
LOCATION:武蔵村山市民総合センター\, 学園4-5-1\, 武蔵村山市\, 東京都\, 日本
CATEGORIES:講座
ATTACH;FMTTYPE=image/jpeg:https://fujisawa-npo.jp/wp-content/uploads/2023/10/110902-scaled.jpg
ORGANIZER;CN="%E6%AD%A6%E8%94%B5%E6%9D%91%E5%B1%B1%E5%B8%82%E3%83%9C%E3%83%A9%E3%83%B3%E3%83%86%E3%82%A3%E3%82%A2%E3%83%BB%E5%B8%82%E6%B0%91%E6%B4%BB%E5%8B%95%E3%82%BB%E3%83%B3%E3%82%BF%E3%83%BC":MAILTO:v.shimin@musashimurayama.org
END:VEVENT
BEGIN:VEVENT
DTSTART;VALUE=DATE:20231031
DTEND;VALUE=DATE:20231101
DTSTAMP:20260420T130932
CREATED:20231003T040455Z
LAST-MODIFIED:20231003T040455Z
UID:9783-1698710400-1698796799@fujisawa-npo.jp
SUMMARY:地域防犯ボランティアセミナー(入門編) 申込締切10/31
DESCRIPTION:↑：申込締切\n開催日時：11/4(土) 14:00～16:00\nPDF情報No.110734 \n\nメイン講演「子どもを守るために今日からできること」\n第2部講演「横須賀市湘南鷹取地区の防犯活動などの状況について」\n※e-kanagawa電子申請システムはこちら
URL:https://fujisawa-npo.jp/event/%e5%9c%b0%e5%9f%9f%e9%98%b2%e7%8a%af%e3%83%9c%e3%83%a9%e3%83%b3%e3%83%86%e3%82%a3%e3%82%a2%e3%82%bb%e3%83%9f%e3%83%8a%e3%83%bc%e5%85%a5%e9%96%80%e7%b7%a8-%e7%94%b3%e8%be%bc%e7%b7%a0%e5%88%8710-31
LOCATION:神奈川県職員キャリア開発支援センター(県立地球市民かながわプラザ併設)\, 栄区小菅ヶ谷1-2-1\, 横浜市\, 神奈川県\, 日本
CATEGORIES:講座
ATTACH;FMTTYPE=image/jpeg:https://fujisawa-npo.jp/wp-content/uploads/2023/10/110734-scaled.jpg
END:VEVENT
END:VCALENDAR