BEGIN:VCALENDAR
VERSION:2.0
PRODID:-//藤沢市市民活動推進センター - ECPv6.15.11//NONSGML v1.0//EN
CALSCALE:GREGORIAN
METHOD:PUBLISH
X-WR-CALNAME:藤沢市市民活動推進センター
X-ORIGINAL-URL:https://fujisawa-npo.jp
X-WR-CALDESC:藤沢市市民活動推進センター のイベント
REFRESH-INTERVAL;VALUE=DURATION:PT1H
X-Robots-Tag:noindex
X-PUBLISHED-TTL:PT1H
BEGIN:VTIMEZONE
TZID:Asia/Tokyo
BEGIN:STANDARD
TZOFFSETFROM:+0900
TZOFFSETTO:+0900
TZNAME:JST
DTSTART:20220101T000000
END:STANDARD
END:VTIMEZONE
BEGIN:VEVENT
DTSTART;TZID=Asia/Tokyo:20230831T103000
DTEND;TZID=Asia/Tokyo:20230831T170000
DTSTAMP:20260421T130643
CREATED:20230713T120610Z
LAST-MODIFIED:20230713T120610Z
UID:7753-1693477800-1693501200@fujisawa-npo.jp
SUMMARY:NPOと行政の対話フォーラム’23
DESCRIPTION:参加費：一般7000円、日本NPOセンター正会員6000円\nPDF情報No.110242 \n\n多様な主体との協働で誰も取り残さない地域をつくる\n家族のあり方の変化や働き方の変化、コミュニティのつながりの希薄化によって、従来の市民の生活を支えてきた基盤が揺らいでいます。\nさらには人口減や少子化によって地域の担い手不足は深刻な課題となっています。\n困難を抱える人を含めて住民が地域でくらし続けるために、限られた資源の中でどのような取り組みができるのか。\nそのためには行政とNPOが課題を共有し、多様な主体が連携をして取り組む地域社会づくりがこれまで以上に求められています。\n本フォーラムでは、行政とNPOをはじめとする多様な主体が協働して取り組む、「誰も取り残さない地域づくり」についてともに考えます。\n※申し込みはこちら
URL:https://fujisawa-npo.jp/event/npo%e3%81%a8%e8%a1%8c%e6%94%bf%e3%81%ae%e5%af%be%e8%a9%b1%e3%83%95%e3%82%a9%e3%83%bc%e3%83%a9%e3%83%a023
LOCATION:かながわ県民センター\, 神奈川区鶴屋町2-24-2\, 横浜市\, 神奈川県\, 日本
CATEGORIES:講座
ATTACH;FMTTYPE=image/jpeg:https://fujisawa-npo.jp/wp-content/uploads/2023/07/110242-scaled.jpg
END:VEVENT
BEGIN:VEVENT
DTSTART;VALUE=DATE:20230831
DTEND;VALUE=DATE:20230901
DTSTAMP:20260421T130643
CREATED:20230814T141052Z
LAST-MODIFIED:20230814T141321Z
UID:8548-1693440000-1693526399@fujisawa-npo.jp
SUMMARY:これから災害支援を考える 北海道フォーラム 申込締切8/31
DESCRIPTION:↑：申込締切\n開催日時：9/5(火)10:00 ～17:00\n会場：市民活動プラザ星園およびオンライン(配信形式不明・午前のプログラムのみ)\nPDF情報No.110450 \n\n－災害から5年、あの時、今まで、そしてこれから－\n第4回目となる本年度は、5年前に発生した平成30年7月豪雨災害と平成30年北海道胆振東部地震の支援経過をふりかえりながら、多様な主体間の連携の必要性について考えるほか、地震災害と水害の支援の展開の視点と相違について整理しながら、災害時の円滑な支援につながる体制とあり方をテーマにフォーラムを開催します。\n※申し込みはこちら
URL:https://fujisawa-npo.jp/event/%e3%81%93%e3%82%8c%e3%81%8b%e3%82%89%e7%81%bd%e5%ae%b3%e6%94%af%e6%8f%b4%e3%82%92%e8%80%83%e3%81%88%e3%82%8b-%e5%8c%97%e6%b5%b7%e9%81%93%e3%83%95%e3%82%a9%e3%83%bc%e3%83%a9%e3%83%a0-%e7%94%b3%e8%be%bc
LOCATION:市民活動プラザ星園\, 中央区南8条西2丁目5-74\, 札幌市\, 北海道\, 日本
CATEGORIES:講座
ATTACH;FMTTYPE=image/jpeg:https://fujisawa-npo.jp/wp-content/uploads/2023/08/110450-scaled.jpg
ORGANIZER;CN="%E5%8C%97%E3%81%AE%E5%9B%BD%E7%81%BD%E5%AE%B3%E3%82%B5%E3%83%9D%E3%83%BC%E3%83%88%E3%83%81%E3%83%BC%E3%83%A0(%E5%8C%97%E6%B5%B7%E9%81%93NPO%E3%82%B5%E3%83%9D%E3%83%BC%E3%83%88%E3%82%BB%E3%83%B3%E3%82%BF%E3%83%BC%E5%86%85)":MAILTO:info@kitasapo.net
END:VEVENT
BEGIN:VEVENT
DTSTART;VALUE=DATE:20230831
DTEND;VALUE=DATE:20230901
DTSTAMP:20260421T130643
CREATED:20230720T123226Z
LAST-MODIFIED:20230720T123226Z
UID:7861-1693440000-1693526399@fujisawa-npo.jp
SUMMARY:大学ボランティアセンター職員セミナー2023 申込締切8/31
DESCRIPTION:↑：申込締切\n日程：9/7(木) 9:30～12:30「基礎セミナー」、9/8(金) 13:30～17:00「実践セミナー」\n参加費：基礎セミナー、実践セミナーともに4400円 (各日 JVCA正・準会員：3960円)\nPDF情報No.110283 \n\n私たちは“ボランティア”をなぜ推すか、どう押すか？\n学生生活への制限がほぼなくなり、学内に活気が戻ってきました。\n学生たちのボランティア活動もかつての活気を取り戻しつつあります。\nしかし、途切れてしまった地域での活動をどう再開するのか、ボランティアではなくインターンを選ぶ学生の増加について、体験程度のボランティア活動で終わってしまいがちの学生、等々‥･多様な課題も見えてきました。\nボランティア活動を通じた学生の成長や地域の活性を願う大学としての役割を、私達は十分に果たせているでしょうか。\n今回のセミナーでは、学生とボランティアとの関わり段階をいくつかに想定しながら、あらためて私達は“ボランティア”をなぜ推すか、どう押すか？をテーマに、課題や可能性について共に考えたいと思います。\n※申し込みフォームはこちら
URL:https://fujisawa-npo.jp/event/%e5%a4%a7%e5%ad%a6%e3%83%9c%e3%83%a9%e3%83%b3%e3%83%86%e3%82%a3%e3%82%a2%e3%82%bb%e3%83%b3%e3%82%bf%e3%83%bc%e8%81%b7%e5%93%a1%e3%82%bb%e3%83%9f%e3%83%8a%e3%83%bc2023-%e7%94%b3%e8%be%bc%e7%b7%a0
LOCATION:オンライン(Zoom)
CATEGORIES:講座
ATTACH;FMTTYPE=image/jpeg:https://fujisawa-npo.jp/wp-content/uploads/2023/07/110283-scaled.jpg
ORGANIZER;CN="%E6%97%A5%E6%9C%AC%E3%83%9C%E3%83%A9%E3%83%B3%E3%83%86%E3%82%A3%E3%82%A2%E3%82%B3%E3%83%BC%E3%83%87%E3%82%A3%E3%83%8D%E3%83%BC%E3%82%BF%E3%83%BC%E5%8D%94%E4%BC%9A(JVCA)%E4%BA%8B%E5%8B%99%E5%B1%80":MAILTO:jvca@jvca2001.org
END:VEVENT
BEGIN:VEVENT
DTSTART;VALUE=DATE:20230831
DTEND;VALUE=DATE:20230901
DTSTAMP:20260421T130643
CREATED:20230713T081613Z
LAST-MODIFIED:20230713T081613Z
UID:7717-1693440000-1693526399@fujisawa-npo.jp
SUMMARY:健康づくりサポーター養成講座 申込締切8/31
DESCRIPTION:↑：申込締切\n選択制 専門講座：9/5(火)～9/22(金)〈全5分野から1分野を選択〉、時間：各日とも10:00～12:00\n情報No.110238 \n\n健康づくりに関するボランティア「健康づくりサポーター」を養成する講座です。\n運動・お囗の健康・禁煙・食・女性の健康づくりの5分野から選択できます。\n※申し込みシステムはこちら
URL:https://fujisawa-npo.jp/event/%e5%81%a5%e5%ba%b7%e3%81%a5%e3%81%8f%e3%82%8a%e3%82%b5%e3%83%9d%e3%83%bc%e3%82%bf%e3%83%bc%e9%a4%8a%e6%88%90%e8%ac%9b%e5%ba%a7-%e7%94%b3%e8%be%bc%e7%b7%a0%e5%88%878-31
LOCATION:藤沢市保健所・南保健センター\, 鵠沼2131-1\, 藤沢市\, 神奈川県\, 日本
CATEGORIES:講座
ATTACH;FMTTYPE=image/jpeg:https://fujisawa-npo.jp/wp-content/uploads/2023/07/110238-scaled.jpg
END:VEVENT
BEGIN:VEVENT
DTSTART;VALUE=DATE:20230831
DTEND;VALUE=DATE:20230901
DTSTAMP:20260421T130643
CREATED:20230526T093612Z
LAST-MODIFIED:20230527T003257Z
UID:5828-1693440000-1693526399@fujisawa-npo.jp
SUMMARY:俳句初心者講座「令和5年度 受講生募集」 申込締切(後期)8/31
DESCRIPTION:↑：後期申込締切\n開催日時(前期と後期の内容は異なります)：\n前期：4/2(日)～9/3(日)〈全6回〉、申込締切：2/28(火)[締切]\n後期：10/1(日)～2024/3/3(日)〈全6回〉、申込締切：8/31(木)\n情報No.109375 \n\n世界で一番短い詩形である俳句。やってみたいな、と思ってもなかなかその一歩が踏み出せない方、テレビで見てご興珠が湧いた方。是非ご参加ください。全く初めての方、大歓迎です。\n講義と句会を行い、楽しみながら学べます。
URL:https://fujisawa-npo.jp/event/%e4%bf%b3%e5%8f%a5%e5%88%9d%e5%bf%83%e8%80%85%e8%ac%9b%e5%ba%a7%e3%80%8c%e4%bb%a4%e5%92%8c5%e5%b9%b4%e5%ba%a6-%e5%8f%97%e8%ac%9b%e7%94%9f%e5%8b%9f%e9%9b%86%e3%80%8d-%e7%94%b3%e8%be%bc%e7%b7%a0
LOCATION:かながわ県民センター\, 神奈川区鶴屋町2-24-2\, 横浜市\, 神奈川県\, 日本
CATEGORIES:講座
ATTACH;FMTTYPE=image/jpeg:https://fujisawa-npo.jp/wp-content/uploads/2023/05/109375-scaled.jpg
ORGANIZER;CN="%E7%A5%9E%E5%A5%88%E5%B7%9D%E7%9C%8C%E7%8F%BE%E4%BB%A3%E4%BF%B3%E5%8F%A5%E5%8D%94%E4%BC%9A":MAILTO:yk.haga@w3.dion.ne.jp
END:VEVENT
BEGIN:VEVENT
DTSTART;TZID=Asia/Tokyo:20230829T100000
DTEND;TZID=Asia/Tokyo:20230829T163000
DTSTAMP:20260421T130643
CREATED:20230720T122033Z
LAST-MODIFIED:20230720T122033Z
UID:7857-1693303200-1693326600@fujisawa-npo.jp
SUMMARY:ボランティアコーディネーター基礎研修 申込締切8/22
DESCRIPTION:PDF情報No.110280 \n\n新しいボランティア担当者になってからどうにがやってきたけど、わからないことがたくさん。\n周りには教えてくれるスタッフはいないし、一体どうすれば…\nごのような悩みを解消できるよう、基礎的な理念から実践ノウハウまで学びます。\n※申し込みフォームはこちら
URL:https://fujisawa-npo.jp/event/%e3%83%9c%e3%83%a9%e3%83%b3%e3%83%86%e3%82%a3%e3%82%a2%e3%82%b3%e3%83%bc%e3%83%87%e3%82%a3%e3%83%8d%e3%83%bc%e3%82%bf%e3%83%bc%e5%9f%ba%e7%a4%8e%e7%a0%94%e4%bf%ae-%e7%94%b3%e8%be%bc%e7%b7%a0%e5%88%878
LOCATION:オンライン(Zoom)
CATEGORIES:講座
ATTACH;FMTTYPE=image/jpeg:https://fujisawa-npo.jp/wp-content/uploads/2023/07/110280-scaled.jpg
ORGANIZER;CN="%E6%97%A5%E6%9C%AC%E3%83%9C%E3%83%A9%E3%83%B3%E3%83%86%E3%82%A3%E3%82%A2%E3%82%B3%E3%83%BC%E3%83%87%E3%82%A3%E3%83%8D%E3%83%BC%E3%82%BF%E3%83%BC%E5%8D%94%E4%BC%9A(JVCA)%E4%BA%8B%E5%8B%99%E5%B1%80":MAILTO:jvca@jvca2001.org
END:VEVENT
BEGIN:VEVENT
DTSTART;TZID=Asia/Tokyo:20230829T100000
DTEND;TZID=Asia/Tokyo:20230829T120000
DTSTAMP:20260421T130643
CREATED:20230717T153900Z
LAST-MODIFIED:20230717T153900Z
UID:7807-1693303200-1693310400@fujisawa-npo.jp
SUMMARY:理学療法士による講演会「暮らし続けるために」 申込締切8/20
DESCRIPTION:PDF情報No.110266 \n\n～脳卒中後の生活とサービス活用～\n今回は、脳卒中のリハビリと地域で生活するためのサービス活用についてをテーマに、地域保健分野の理学療法士の方を講師にお迎えして４年ぶりに開催します。
URL:https://fujisawa-npo.jp/event/%e7%90%86%e5%ad%a6%e7%99%82%e6%b3%95%e5%a3%ab%e3%81%ab%e3%82%88%e3%82%8b%e8%ac%9b%e6%bc%94%e4%bc%9a%e3%80%8c%e6%9a%ae%e3%82%89%e3%81%97%e7%b6%9a%e3%81%91%e3%82%8b%e3%81%9f%e3%82%81%e3%81%ab%e3%80%8d
LOCATION:第一相澤ビル\, 南藤沢22-7\, 藤沢市\, 神奈川県\, 日本
CATEGORIES:講座
ATTACH;FMTTYPE=image/jpeg:https://fujisawa-npo.jp/wp-content/uploads/2023/07/110266-scaled.jpg
ORGANIZER;CN="%E5%A4%B1%E8%AA%9E%E7%97%87%E4%BC%9A%E8%A9%B1%E3%82%AB%E3%83%95%E3%82%A7":MAILTO:flower.ocean.harada@jcom.home.ne.jp
END:VEVENT
BEGIN:VEVENT
DTSTART;TZID=Asia/Tokyo:20230827T140000
DTEND;TZID=Asia/Tokyo:20230827T160000
DTSTAMP:20260421T130643
CREATED:20230810T120033Z
LAST-MODIFIED:20230810T120140Z
UID:8494-1693144800-1693152000@fujisawa-npo.jp
SUMMARY:戦前の横須賀 PART2
DESCRIPTION:PDF情報No.110431 \n\n終戦直後から横須賀の中学校教師だった木村さんは、いつも平和を願ってきました。\n母が営む海軍指定下宿。訓練生のつぶやきは、今も木村さんの胸には鮮明です。\n1941年12月8日太平洋戦争へ突入。苛酷な青春に向き合った木村さんが、再び次の世代に語り継ぎます。 \nこれからは私たちが語り継ぐ番です。～被爆体験を語り継ぐ会～\n被爆者の方々は高齢になり、貴重な体験を聞くことが難しくなってきました。\nこの惨事を「だれが」「どう」伝えていけばよいでしょうか。\n今、私たちにできるのは・・・\n被爆者の方の代わりに「被爆体験」を語り継いでいくことだと思います。 \n私たち被爆体験を語り継ぐ会は、原爆のこと、被爆のこと、戦争のこと、平和のことなど、普段なんとなく話題にしにくい、でも大切なことを、鶴を折りながら気軽に話せる場を作りたいと考えています。
URL:https://fujisawa-npo.jp/event/%e6%88%a6%e5%89%8d%e3%81%ae%e6%a8%aa%e9%a0%88%e8%b3%80-part2
LOCATION:横須賀市生涯学習センター(ウェルシティ市民プラザ 4F・5F)\, 西逸見町1-38-11\, 横須賀市\, 神奈川県\, 日本
CATEGORIES:講座
ATTACH;FMTTYPE=image/jpeg:https://fujisawa-npo.jp/wp-content/uploads/2023/08/110431-scaled.jpg
END:VEVENT
BEGIN:VEVENT
DTSTART;TZID=Asia/Tokyo:20230826T133000
DTEND;TZID=Asia/Tokyo:20230826T160000
DTSTAMP:20260421T130643
CREATED:20230807T120741Z
LAST-MODIFIED:20230807T120835Z
UID:8437-1693056600-1693065600@fujisawa-npo.jp
SUMMARY:第7回 藤沢市平和の輪をひろげるつどい 申込締切8/24
DESCRIPTION:PDF情報No.110413 \n\n第7回 藤沢市平和の輪をひろげるつどいは、平和学習広島・長崎派遣プログラムの一環として、\n第1部では、今年度、藤沢市から広島・長崎に派遣された青少年が、被爆者や継承者から話を聞き、学んだことを報告します。\n第2部では、長崎市から被爆体験者をお招きし、被爆の実相と平和の尊さを改めて学ぶ機会にします。\n※申し込みはこちら
URL:https://fujisawa-npo.jp/event/%e7%ac%ac7%e5%9b%9e-%e8%97%a4%e6%b2%a2%e5%b8%82%e5%b9%b3%e5%92%8c%e3%81%ae%e8%bc%aa%e3%82%92%e3%81%b2%e3%82%8d%e3%81%92%e3%82%8b%e3%81%a4%e3%81%a9%e3%81%84-%e7%94%b3%e8%be%bc%e7%b7%a0%e5%88%878-24
LOCATION:Fプレイス\, 本町1丁目12-17\, 藤沢市\, 神奈川県\, 日本
CATEGORIES:講座
ATTACH;FMTTYPE=image/jpeg:https://fujisawa-npo.jp/wp-content/uploads/2023/08/110413-scaled.jpg
END:VEVENT
BEGIN:VEVENT
DTSTART;TZID=Asia/Tokyo:20230826T130000
DTEND;TZID=Asia/Tokyo:20230826T170000
DTSTAMP:20260421T130643
CREATED:20230702T122242Z
LAST-MODIFIED:20230702T122957Z
UID:7246-1693054800-1693069200@fujisawa-npo.jp
SUMMARY:マンション管理組合 研修交流会・無料相談会
DESCRIPTION:日程：\n◆無料相談会：毎月第4土曜日 13:00～15:00\n◆研修交流会(会員無料、一般500円)：\n開催日時=8/26(土) 15:10～17:00\n・座談会「湘南の管理組合のための座談会　その1・運営＆管理編」\n開催日時=9/23(土) 15:10～17:00\n・座談会「湘南の管理組合のための座談会　その2・維持＆修繕編」\n情報No.110123 \n\n湘南マンション管理組合ネットワークでは、マンション管理無料相談会や、マンション管理に袷宵つ情報提供・管理組合間の情報交換の場として活用して頂けるよう、研修交流会を行っていますので、ご案内いたします。
URL:https://fujisawa-npo.jp/event/%e3%83%9e%e3%83%b3%e3%82%b7%e3%83%a7%e3%83%b3%e7%ae%a1%e7%90%86%e7%b5%84%e5%90%88-%e7%a0%94%e4%bf%ae%e4%ba%a4%e6%b5%81%e4%bc%9a%e3%83%bb%e7%84%a1%e6%96%99%e7%9b%b8%e8%ab%87%e4%bc%9a-3
LOCATION:藤沢市市民活動推進センター(アーバンセンター藤沢 2F)\, 藤沢1031\, 藤沢市\, 神奈川県\, 日本
CATEGORIES:イベント,講座
ATTACH;FMTTYPE=image/jpeg:https://fujisawa-npo.jp/wp-content/uploads/2023/07/110123-scaled.jpg
END:VEVENT
BEGIN:VEVENT
DTSTART;TZID=Asia/Tokyo:20230826T103000
DTEND;TZID=Asia/Tokyo:20230826T120000
DTSTAMP:20260421T130643
CREATED:20230601T133728Z
LAST-MODIFIED:20230601T133728Z
UID:6406-1693045800-1693051200@fujisawa-npo.jp
SUMMARY:外国人とともに生きるために(seminar2) 申込締切8/23
DESCRIPTION:PDF情報No.109973 \n\n異なる言語や文化を持った外国籍住民もともに担い手となるような多文化共生の地域社会の姿はどのようなものか、日本人はどのような事を知っておく必要があるのかなど、多文化共生社会のあり方を探るセミナーを開催します。\nseminar2：やさしい日本語(実践編)・やさしい日本語の作り方\n～書きことば編～\nやさしい日本語の文章を作るときには､もともとの文章を日本人にも分かりやすいよう簡潔にすることが必要です。\n外国人に伝わりやすい文章の作り方の基本や､役立つツールをご紹介します。\n※申し込みフォームはこちら
URL:https://fujisawa-npo.jp/event/%e5%a4%96%e5%9b%bd%e4%ba%ba%e3%81%a8%e3%81%a8%e3%82%82%e3%81%ab%e7%94%9f%e3%81%8d%e3%82%8b%e3%81%9f%e3%82%81%e3%81%abseminar2-%e7%94%b3%e8%be%bc%e7%b7%a0%e5%88%878-23
LOCATION:オンライン(Zoom)
CATEGORIES:講座
ATTACH;FMTTYPE=image/jpeg:https://fujisawa-npo.jp/wp-content/uploads/2023/06/109973-scaled.jpg
ORGANIZER;CN="(%E5%85%AC%E8%B2%A1)%E3%81%8B%E3%81%AA%E3%81%8C%E3%82%8F%E5%9B%BD%E9%9A%9B%E4%BA%A4%E6%B5%81%E8%B2%A1%E5%9B%A3":MAILTO:tabunkares@kifjp.org
END:VEVENT
BEGIN:VEVENT
DTSTART;VALUE=DATE:20230824
DTEND;VALUE=DATE:20230825
DTSTAMP:20260421T130643
CREATED:20230713T053505Z
LAST-MODIFIED:20230713T053517Z
UID:7576-1692835200-1692921599@fujisawa-npo.jp
SUMMARY:子どもがいる家庭への訪問支援講座 申込締切8/24
DESCRIPTION:↑：申込締切\n日程〈全4回〉・内容：\n9/12(火)：誕生からの成長を地域で見守っていくための家庭支援\n子どもがいる家庭に入るということ～現代版家族を取り巻く環境の変遷～\n9/26(火)：\n①すべての子どもを支えるということ～乳児・幼児期・学童期を通して～\n②今の子育て～パパが語る編～\n10/10(火)：\n①家庭に入る支援の心構え～気持ちの準備、身の回りの準備、活動の準備～\n②活動実践者の声(ファミサポ/ヘルパー/こんにちは赤ちゃん訪問/学校支援員)\n10/24(火)：訪問で支える子育て支援～これから地域でできること～\n時間：各日とも9:30～12:40\n【講座実施団体】認定NPO法人 びーのびーの\nPDF情報No.110178 \n\n子どもたちの未来のために 自分を活かしたい方へ\n対象：子育て支援関係者とボランティア希望者向け
URL:https://fujisawa-npo.jp/event/%e5%ad%90%e3%81%a9%e3%82%82%e3%81%8c%e3%81%84%e3%82%8b%e5%ae%b6%e5%ba%ad%e3%81%b8%e3%81%ae%e8%a8%aa%e5%95%8f%e6%94%af%e6%8f%b4%e8%ac%9b%e5%ba%a7-%e7%94%b3%e8%be%bc%e7%b7%a0%e5%88%878-24
LOCATION:かながわ県民センター\, 神奈川区鶴屋町2-24-2\, 横浜市\, 神奈川県\, 日本
CATEGORIES:講座
ATTACH;FMTTYPE=image/jpeg:https://fujisawa-npo.jp/wp-content/uploads/2023/07/110178-scaled.jpg
END:VEVENT
BEGIN:VEVENT
DTSTART;VALUE=DATE:20230823
DTEND;VALUE=DATE:20230824
DTSTAMP:20260421T130643
CREATED:20230727T052306Z
LAST-MODIFIED:20230727T052559Z
UID:8006-1692748800-1692835199@fujisawa-npo.jp
SUMMARY:第2回 湘南セカンドキャリア地域起業セミナー 申込締切8/23
DESCRIPTION:↑：申込締切\n日程：9/2(土)～11/26(日)〈全7回〉\n※時間・内容はPDF裏面をご覧ください\n参加費：11000円、30歳以下は5500円\nPDF情報No.110302 \n\nボランティアもビジネスもイキガイも「なりわい」にする。\n人生100年時代が提唱され、これまでの仕事の常識が見直されてきました。\nボランティアしながら生計をつくる\nまちづくりを仕事にする\n利益と同じくらい生きがいを大事にする\nこれまで難しいと思われていた多くのことが「なりわい」になり始めています。\n「湘南セカンドキャリア地域起業セミナー」は、湘南・藤沢地域とつながり、そんな「なりわい」を生み出そうとする人たちの学びの場です。\nあなたの好きなこと、得意なことで、好きなまちを舞台に、あなたの価値を生かす。\n自分の殼をやぶって、自由に働くことを楽しむ。\nあなたもこの場所から、「なりわい」づくりを始めませんか？\n※詳細・お申し込みはこちら
URL:https://fujisawa-npo.jp/event/%e7%ac%ac2%e5%9b%9e-%e6%b9%98%e5%8d%97%e3%82%bb%e3%82%ab%e3%83%b3%e3%83%89%e3%82%ad%e3%83%a3%e3%83%aa%e3%82%a2%e5%9c%b0%e5%9f%9f%e8%b5%b7%e6%a5%ad%e3%82%bb%e3%83%9f%e3%83%8a%e3%83%bc-%e7%94%b3
LOCATION:Fプレイス\, 本町1丁目12-17\, 藤沢市\, 神奈川県\, 日本
CATEGORIES:講座
ATTACH;FMTTYPE=image/jpeg:https://fujisawa-npo.jp/wp-content/uploads/2023/07/110302-scaled.jpg
END:VEVENT
BEGIN:VEVENT
DTSTART;VALUE=DATE:20230823
DTEND;VALUE=DATE:20230824
DTSTAMP:20260421T130643
CREATED:20230713T122504Z
LAST-MODIFIED:20230713T122504Z
UID:7763-1692748800-1692835199@fujisawa-npo.jp
SUMMARY:東大 科学 実験 学習 申込締切8/18
DESCRIPTION:時間：\n・1年生～3年生(低学年)：10:00～11:00\n・4年生～6年生(高学年)：13:00～14:30\nPDF情報No.110262 \n\n内容：\n学ぶって楽しい♪\n低学年 テーマ：紙 ／ 高学年 テーマ：光\n実験を通して学習を好きになるきっかけづくり！\n学んだテーマで簡単な工作もしていきます！\n※申し込みシステムはこちら
URL:https://fujisawa-npo.jp/event/%e6%9d%b1%e5%a4%a7-%e7%a7%91%e5%ad%a6-%e5%ae%9f%e9%a8%93-%e5%ad%a6%e7%bf%92-%e7%94%b3%e8%be%bc%e7%b7%a0%e5%88%878-18
LOCATION:藤沢青少年会館\, 朝日町10-8\, 藤沢市\, 神奈川県\, 日本
CATEGORIES:講座
ATTACH;FMTTYPE=image/jpeg:https://fujisawa-npo.jp/wp-content/uploads/2023/07/110262-scaled.jpg
END:VEVENT
BEGIN:VEVENT
DTSTART;VALUE=DATE:20230823
DTEND;VALUE=DATE:20230824
DTSTAMP:20260421T130643
CREATED:20230713T052016Z
LAST-MODIFIED:20230713T052551Z
UID:7569-1692748800-1692835199@fujisawa-npo.jp
SUMMARY:NPO会計講座 申込締切8/23
DESCRIPTION:↑：申込締切\n日程：9/6(水)～9/27(水)〈全4回〉、時間：13:30～15:30\n【講座実施団体】(一社)ソーシャルコーディネートかながわ\nPDF情報No.110176 \n\n日々の会計処理や年間を通して必要となる会計事務、決算書の作成など、基本的な法人会計業務を学ぶ講座です。\nNPOなどで会計業務に携わる方や関心をもつ方が、日々の会計作業の一連の流れ(仕訳の仕方、帳簿のつけ方)、活動計算書の作成方法について理解を深め、実践に役立てることを目指します。
URL:https://fujisawa-npo.jp/event/npo%e4%bc%9a%e8%a8%88%e8%ac%9b%e5%ba%a7-%e7%94%b3%e8%be%bc%e7%b7%a0%e5%88%878-23
LOCATION:オンライン(Zoom)
CATEGORIES:講座
ATTACH;FMTTYPE=image/jpeg:https://fujisawa-npo.jp/wp-content/uploads/2023/07/110176-scaled.jpg
END:VEVENT
BEGIN:VEVENT
DTSTART;TZID=Asia/Tokyo:20230822T140000
DTEND;TZID=Asia/Tokyo:20230822T161500
DTSTAMP:20260421T130643
CREATED:20230803T064529Z
LAST-MODIFIED:20230803T064529Z
UID:8311-1692712800-1692720900@fujisawa-npo.jp
SUMMARY:学校はなにをするところ？～これからの学校教育のあり方を考える～
DESCRIPTION:情報No.110360 \n\n現在様々なメディアがこれからの学校教育のありかたについて報道しています。\nコロナ禍を経験した今、改めて学校の役割やこれからの学校教育について、教育研究家として数多くの講演をされている妹尾先生よりお話をいただきます。\n“これからの学校のありかた”や“未来を生きる子どもたちのための教育”について、教育文化講演会を通して一緒に考えませんか？\n※申し込みはこちら
URL:https://fujisawa-npo.jp/event/%e5%ad%a6%e6%a0%a1%e3%81%af%e3%81%aa%e3%81%ab%e3%82%92%e3%81%99%e3%82%8b%e3%81%a8%e3%81%93%e3%82%8d%ef%bc%9f%ef%bd%9e%e3%81%93%e3%82%8c%e3%81%8b%e3%82%89%e3%81%ae%e5%ad%a6%e6%a0%a1%e6%95%99%e8%82%b2
LOCATION:湘南台文化センター 市民シアター\, 湘南台1-8\, 藤沢市\, 神奈川県\, 日本
CATEGORIES:講座
ATTACH;FMTTYPE=image/jpeg:https://fujisawa-npo.jp/wp-content/uploads/2023/08/110360-scaled.jpg
END:VEVENT
BEGIN:VEVENT
DTSTART;VALUE=DATE:20230822
DTEND;VALUE=DATE:20230823
DTSTAMP:20260421T130643
CREATED:20230713T052958Z
LAST-MODIFIED:20230713T053115Z
UID:7574-1692662400-1692748799@fujisawa-npo.jp
SUMMARY:地域のつながりで始めるあなたのウェルビーイング 申込締切8/22
DESCRIPTION:↑：申込締切\n日程：9/8(金)～10/27(金)〈全6回〉、時間：19:00～20:30\n【講座実施団体】NPO法人 コミュニティサポートセンター\nPDF情報No.110177 \n\nコミュニティビジネスの視点をもって、地域で活躍するゲスト講師の話をヒントに、あなたらしい地域との関わり、働き方、生き方を、一緒に考えてみませんか。
URL:https://fujisawa-npo.jp/event/%e5%9c%b0%e5%9f%9f%e3%81%ae%e3%81%a4%e3%81%aa%e3%81%8c%e3%82%8a%e3%81%a7%e5%a7%8b%e3%82%81%e3%82%8b%e3%81%82%e3%81%aa%e3%81%9f%e3%81%ae%e3%82%a6%e3%82%a7%e3%83%ab%e3%83%93%e3%83%bc%e3%82%a4%e3%83%b3
LOCATION:かながわ県民センター\, 神奈川区鶴屋町2-24-2\, 横浜市\, 神奈川県\, 日本
CATEGORIES:講座
ATTACH;FMTTYPE=image/jpeg:https://fujisawa-npo.jp/wp-content/uploads/2023/07/110177-scaled.jpg
END:VEVENT
BEGIN:VEVENT
DTSTART;TZID=Asia/Tokyo:20230821T013000
DTEND;TZID=Asia/Tokyo:20230821T153000
DTSTAMP:20260421T130643
CREATED:20230727T051134Z
LAST-MODIFIED:20230727T051134Z
UID:8003-1692581400-1692631800@fujisawa-npo.jp
SUMMARY:NPO法人とインボイス制度
DESCRIPTION:会場：対面(ふじのくにNPO活動支援センター)およびオンライン(Zoom)\n情報No.110299 \n\n内容：\n令和5年10月から導入される消費税の適格請求書等保存様式(インボイス制度)はNPO法人も無関係ではありません。\n中間支援スタッフとして基本知識を習得します。\nこの講座では、NPOならではの注意点等を専門家からわかりやすく解説していただきます。\n※申し込みはこちら
URL:https://fujisawa-npo.jp/event/npo%e6%b3%95%e4%ba%ba%e3%81%a8%e3%82%a4%e3%83%b3%e3%83%9c%e3%82%a4%e3%82%b9%e5%88%b6%e5%ba%a6
LOCATION:ふじのくにNPO活動支援センター(水の森ビル 2F)\, 駿河区南町14-1\, 静岡市\, 静岡県\, 日本
CATEGORIES:講座
ATTACH;FMTTYPE=image/jpeg:https://fujisawa-npo.jp/wp-content/uploads/2023/07/110299-scaled.jpg
ORGANIZER;CN="%E3%81%B5%E3%81%98%E3%81%AE%E3%81%8F%E3%81%ABNPO%E6%B4%BB%E5%8B%95%E6%94%AF%E6%8F%B4%E3%82%BB%E3%83%B3%E3%82%BF%E3%83%BC":MAILTO:fnc@shizuokafund.org
END:VEVENT
BEGIN:VEVENT
DTSTART;TZID=Asia/Tokyo:20230820T140000
DTEND;TZID=Asia/Tokyo:20230820T160000
DTSTAMP:20260421T130643
CREATED:20230702T131312Z
LAST-MODIFIED:20230816T033623Z
UID:7272-1692540000-1692547200@fujisawa-npo.jp
SUMMARY:善行雑学大学「地域の魅力とSDGs」
DESCRIPTION:参加費：一般500円、会員無料\n情報No.110137 \n\n海水浴シーズン真っただ中。湘南のビーチには若者やファミリー層を中心に多くの観光客が訪れ、開放的な夏の日を謳歌していく。\n一方、観光地ならではの苦悩もある。自然環境に危害を及ぼすほどのゴミ問題や、経済活性と静穏な住環境それぞれを求める人々の間に生まれる対立などは、高度経済成長期以降いまだに地域社会において課題のままだ。\n2015年に国連総会で採択され、近年盛んに掲げられるSDGsとは、遠い国際社会のものだけではない。\n身近な問題解決のためのツールとして活かすことはできるのか。またそのメリットとは何か。\n2006年に創立したNPO法人地域魅力では「地域の魅力を伝える、高める。」をコンセプトに、魅力を切り囗として、シビックプライドの醸成や市民参加の促進につながる事業を行なってきた。\n本講演では神奈川県逗子市において複数の団体等が協働して地域課題に取り組む事例を紹介しながら、SDGsの持つ「共感のしやすさ」「共通言語化」の力を紐解いていく。
URL:https://fujisawa-npo.jp/event/%e5%96%84%e8%a1%8c%e9%9b%91%e5%ad%a6%e5%a4%a7%e5%ad%a6%e3%80%8c%e5%9c%b0%e5%9f%9f%e3%81%ae%e9%ad%85%e5%8a%9b%e3%81%a8sdgs%e3%80%8d
LOCATION:善行市民センター\, 善行1-2-3\, 藤沢市\, 神奈川県
CATEGORIES:講座
ATTACH;FMTTYPE=image/jpeg:https://fujisawa-npo.jp/wp-content/uploads/2023/07/110137-scaled.jpg
ORGANIZER;CN="%E5%96%84%E8%A1%8C%E9%9B%91%E5%AD%A6%E5%A4%A7%E5%AD%A6":MAILTO:kataoka9@gmail.com
END:VEVENT
BEGIN:VEVENT
DTSTART;TZID=Asia/Tokyo:20230820T133000
DTEND;TZID=Asia/Tokyo:20230820T153000
DTSTAMP:20260421T130643
CREATED:20230803T120535Z
LAST-MODIFIED:20230803T120535Z
UID:8365-1692538200-1692545400@fujisawa-npo.jp
SUMMARY:令和5年度 第1回 空家利活用セミナー「シェアハウスの見学会」 申込締切8/10
DESCRIPTION:※参加者に会場案内図を送ります。(鵠沼駅から徒歩3分)\n情報No.110387 \n\n人生100年時代の住まいと住まい方のかたち\n～シェアする暮らしと空き家の利活用を考える～\n人生100年時代とよく言われるようになりましたが、人々の暮らしや住まいはどう変わり、これからどうなるのでしょうか？\n持ちきれなくて空家になる「住まい」と、住みたいのに住めない「住まい」の問題をどのように解いていけばよいのでしょうか。\n今回は、国土交通省住まい環境整備モデル事業として、空家を利用してオープンした鵠沼の「コワーキング併設のシングルマザーシェアハウス」を見学し、シェアする暮らしと空家の利活用を考えてみます。\n※申し込みはこちら
URL:https://fujisawa-npo.jp/event/%e4%bb%a4%e5%92%8c5%e5%b9%b4%e5%ba%a6-%e7%ac%ac1%e5%9b%9e-%e7%a9%ba%e5%ae%b6%e5%88%a9%e6%b4%bb%e7%94%a8%e3%82%bb%e3%83%9f%e3%83%8a%e3%83%bc%e3%80%8c%e3%82%b7%e3%82%a7%e3%82%a2%e3%83%8f%e3%82%a6
LOCATION:鵠沼 藤が谷のシェアハウス
CATEGORIES:講座
ATTACH;FMTTYPE=image/jpeg:https://fujisawa-npo.jp/wp-content/uploads/2023/08/110387-scaled.jpg
ORGANIZER;CN="%E8%97%A4%E6%B2%A2%E5%B8%82 %E8%A8%88%E7%94%BB%E5%BB%BA%E7%AF%89%E9%83%A8 %E4%BD%8F%E3%81%BE%E3%81%84%E6%9A%AE%E3%82%89%E3%81%97%E6%94%BF%E7%AD%96%E8%AA%B2":MAILTO:fj-jutaku@city.fujisawa.lg.jp
END:VEVENT
BEGIN:VEVENT
DTSTART;TZID=Asia/Tokyo:20230819T130000
DTEND;TZID=Asia/Tokyo:20230819T160000
DTSTAMP:20260421T130643
CREATED:20230810T120919Z
LAST-MODIFIED:20230810T120919Z
UID:8499-1692450000-1692460800@fujisawa-npo.jp
SUMMARY:映像表現WORK SHOP
DESCRIPTION:日程：8/19(土)、8/26(土)〈全2回〉\nPDF情報No.110438 \n\n誰でも生涯に一つは心を打つ作品を作る事ができます。\nそんな作品作りの入り口として、映像表現 / 制作講座を開催します。\n※申し込みはこちら
URL:https://fujisawa-npo.jp/event/%e6%98%a0%e5%83%8f%e8%a1%a8%e7%8f%bework-shop
LOCATION:逗子文化プラザ 市民交流センター\, 逗子4-2-11\, 逗子市\, 神奈川県\, 日本
CATEGORIES:講座
ATTACH;FMTTYPE=image/jpeg:https://fujisawa-npo.jp/wp-content/uploads/2023/08/110438-scaled.jpg
ORGANIZER;CN="%E9%80%97%E5%AD%90%E6%96%87%E5%8C%96%E3%83%97%E3%83%A9%E3%82%B6%E5%B8%82%E6%B0%91%E4%BA%A4%E6%B5%81%E3%82%BB%E3%83%B3%E3%82%BF%E3%83%BC":MAILTO:ac-center@zushi-psc.org
END:VEVENT
BEGIN:VEVENT
DTSTART;VALUE=DATE:20230818
DTEND;VALUE=DATE:20230819
DTSTAMP:20260421T130643
CREATED:20230713T050701Z
LAST-MODIFIED:20230713T052115Z
UID:7557-1692316800-1692403199@fujisawa-npo.jp
SUMMARY:防災リーダーに必要な多様性に配慮した視点を学ぶ 申込締切8/18
DESCRIPTION:↑：申込締切\n日程：9/2(土)～9/30(土)〈全3回〉、時間：13:40～16:40\n【講座実施団体】特定非営利活動法人 男女共同参画おおた\nPDF情報No.110175 \n\n大規模災害時、性別、年齢、家族構成などによって直面する困りごとが異なります。\n「同じ支援でみな平等」では、長引く避難生活の中でつらい思いをする人もでてくるでしょうし、最悪の場合、関連死につながることも考えられます。\n避難行動要支援者のみならず多様な人々がいることを地域の防災リーダーが理解し、地域の暮らしと安全を守ることを目的とした3回連続講座です。
URL:https://fujisawa-npo.jp/event/%e9%98%b2%e7%81%bd%e3%83%aa%e3%83%bc%e3%83%80%e3%83%bc%e3%81%ab%e5%bf%85%e8%a6%81%e3%81%aa%e5%a4%9a%e6%a7%98%e6%80%a7%e3%81%ab%e9%85%8d%e6%85%ae%e3%81%97%e3%81%9f%e8%a6%96%e7%82%b9%e3%82%92%e5%ad%a6
LOCATION:かながわ県民センター\, 神奈川区鶴屋町2-24-2\, 横浜市\, 神奈川県\, 日本
CATEGORIES:講座
ATTACH;FMTTYPE=image/jpeg:https://fujisawa-npo.jp/wp-content/uploads/2023/07/110175-1-scaled.jpg
END:VEVENT
BEGIN:VEVENT
DTSTART;VALUE=DATE:20230817
DTEND;VALUE=DATE:20230818
DTSTAMP:20260421T130643
CREATED:20230526T060158Z
LAST-MODIFIED:20230527T003215Z
UID:5788-1692230400-1692316799@fujisawa-npo.jp
SUMMARY:「かなテラス カレッジ」第8期生募集 秋季申込締切8/17
DESCRIPTION:↑：秋季申込締切\n日程：\n春季：6/3(土)～7/15(土)〈全5回〉、申込締切：5/18[締切]\nオンライン：7/22(土)～9/16(土)〈全3回〉、申込締切：7/13\n秋季：9/2(土)～10/21(土)〈全5回〉、申込締切：8/17\n時間：春季・秋季ともに10:00～15:30、オンライン講座 7/22・9/16は13:30～15:00、8/5は10:00～11:30\nPDF情報No.109659 \n\n女性の参画(決める、行動する)が社会を変える\n～地域活動・社会活動に参画する意欲をもつ女性を対象としたプログラム～\n女性を取り巻く社会の現状などについて学び、望ましい社会づくりに自分らしくコミットするためのヒントや、地域社会の課題を発見し解決するための手法を身に付けます。
URL:https://fujisawa-npo.jp/event/%e3%80%8c%e3%81%8b%e3%81%aa%e3%83%86%e3%83%a9%e3%82%b9-%e3%82%ab%e3%83%ac%e3%83%83%e3%82%b8%e3%80%8d%e7%ac%ac8%e6%9c%9f%e7%94%9f%e5%8b%9f%e9%9b%86-%e7%a7%8b%e5%ad%a3%e7%94%b3%e8%be%bc%e7%b7%a0
LOCATION:かなテラス(県藤沢合同庁舎2階)\, 鵠沼石上2-7-1\, 藤沢市\, 神奈川県\, 日本
CATEGORIES:講座
ATTACH;FMTTYPE=image/jpeg:https://fujisawa-npo.jp/wp-content/uploads/2023/05/109659-scaled.jpg
END:VEVENT
BEGIN:VEVENT
DTSTART;VALUE=DATE:20230816
DTEND;VALUE=DATE:20230817
DTSTAMP:20260421T130643
CREATED:20230803T053738Z
LAST-MODIFIED:20230803T053738Z
UID:8298-1692144000-1692230399@fujisawa-npo.jp
SUMMARY:傾聴講座(入門編)② 申込締切8/16
DESCRIPTION:↑：申込締切\n日程：9/5(火)～10/17(火)〈全4回〉、時間：9:30～12:40\n【講座実施団体】特定非営利活動法人 シニアライフセラピー研究所\nPDF情報No.110354 \n\n～人と関わるボランティア活動に向けてのスタート～\n現代社会では、メンタルヘルスケアへの対策が課題となっています。\nその対策としても、傾聴を学ぶことは老若男女問わず、すべての人々にとって重要なスキルです。\n傾聴を学ぶ効果として、自分自身が成長し、家庭・職場・ボランティア活動の場など、人と関わる様々な場面で良い波及効果を生みます。\n入門コースでは傾聴の基本を学び、自分自身の成長や変化を感じていただきます。\n次の一歩を踏みだし、人と関わるあらゆる場面で活かしてみませんか。
URL:https://fujisawa-npo.jp/event/%e5%82%be%e8%81%b4%e8%ac%9b%e5%ba%a7%e5%85%a5%e9%96%80%e7%b7%a8%e2%91%a1-%e7%94%b3%e8%be%bc%e7%b7%a0%e5%88%878-16
LOCATION:かながわ県民センター\, 神奈川区鶴屋町2-24-2\, 横浜市\, 神奈川県\, 日本
CATEGORIES:講座
ATTACH;FMTTYPE=image/jpeg:https://fujisawa-npo.jp/wp-content/uploads/2023/08/110354-scaled.jpg
END:VEVENT
BEGIN:VEVENT
DTSTART;TZID=Asia/Tokyo:20230815T140000
DTEND;TZID=Asia/Tokyo:20230815T160000
DTSTAMP:20260421T130643
CREATED:20230717T160924Z
LAST-MODIFIED:20230717T160924Z
UID:7819-1692108000-1692115200@fujisawa-npo.jp
SUMMARY:第104回 教育セミナー「痛みって何だろう」 申込締切8/12
DESCRIPTION:情報No.110277 \n\n痛みを知れば社会も人も変わる\n開催趣旨：\n・痛みの患者さんは、痛みの原因が何かわからないことで不安になり具合を悪化させでます。\n・実は患者の7割が痛みが治っていないと感じていて、治療をあきらめる方もいます。それには古い考え方が未だに残る日本の痛み医療の問題も関係します。\n・私はNPO法人で、痛みの知識を増やす啓発活動を行っています。誰もが抱える可能性がある痛みの問題を、皆さんと解決していきたいと思います。\n※痛みや病気の診断や相談はできません。
URL:https://fujisawa-npo.jp/event/%e7%ac%ac104%e5%9b%9e-%e6%95%99%e8%82%b2%e3%82%bb%e3%83%9f%e3%83%8a%e3%83%bc%e3%80%8c%e7%97%9b%e3%81%bf%e3%81%a3%e3%81%a6%e4%bd%95%e3%81%a0%e3%82%8d%e3%81%86%e3%80%8d-%e7%94%b3%e8%be%bc%e7%b7%a0
LOCATION:大和市民活動センター(市民活動拠点ベテルギウス1F・2F)\, 深見西1-2-17\, 大和市\, 神奈川県\, 242-0018
CATEGORIES:講座
ATTACH;FMTTYPE=image/jpeg:https://fujisawa-npo.jp/wp-content/uploads/2023/07/110277-scaled.jpg
ORGANIZER;CN="%E5%A4%A7%E5%92%8C%E5%B8%82%E6%B0%91%E6%B4%BB%E5%8B%95%E3%82%BB%E3%83%B3%E3%82%BF%E3%83%BC":MAILTO:yamato@ar.wakwak.com
END:VEVENT
BEGIN:VEVENT
DTSTART;TZID=Asia/Tokyo:20230815T133000
DTEND;TZID=Asia/Tokyo:20230815T163000
DTSTAMP:20260421T130643
CREATED:20230713T062544Z
LAST-MODIFIED:20230713T062544Z
UID:7599-1692106200-1692117000@fujisawa-npo.jp
SUMMARY:楽しみながら発達障害のことを知ろう！
DESCRIPTION:日程：①8/15(火)、②9/19(火)、③9/24(日)\n参加費：①②100円、③500円\n情報No.110183 \n\n自分ごとに置き換えて考えると理解できる♪\n大人になって発達障がいを知った方・生きづらさを感じひきこもる方と家族が集い講師を招き共に学び合い、語り合う場です。\n①の内容(前半講義･後半お話合い)：\n「ADHDチームさんの困りごと｣　発達障がいの回\n②の内容(前半講義･後半お話合い)：\n「触れ合いよりも、言葉かけよりも大事な事②」(予定)\n③の内容：\n第1部：｢なないろのワーク｣\n第2部：｢それぞれの特性と困りごと｣\n※神奈川県立青少年センターひきこもり地域理解促進事業
URL:https://fujisawa-npo.jp/event/%e6%a5%bd%e3%81%97%e3%81%bf%e3%81%aa%e3%81%8c%e3%82%89%e7%99%ba%e9%81%94%e9%9a%9c%e5%ae%b3%e3%81%ae%e3%81%93%e3%81%a8%e3%82%92%e7%9f%a5%e3%82%8d%e3%81%86%ef%bc%81
LOCATION:藤沢市役所 分庁舎\, 朝日町1-1\, 藤沢市\, 神奈川県
CATEGORIES:講座
ATTACH;FMTTYPE=image/jpeg:https://fujisawa-npo.jp/wp-content/uploads/2023/07/110183-scaled.jpg
ORGANIZER;CN="%E3%81%B5%E3%82%8F%E3%81%B5%E3%82%8F%E3%81%AE%E4%BC%9A %E4%BA%8B%E5%8B%99%E5%B1%80":MAILTO:fuwafuwanokai@gmail.com
END:VEVENT
BEGIN:VEVENT
DTSTART;TZID=Asia/Tokyo:20230815T100000
DTEND;TZID=Asia/Tokyo:20230816T120000
DTSTAMP:20260421T130643
CREATED:20230713T075409Z
LAST-MODIFIED:20230713T075518Z
UID:7654-1692093600-1692187200@fujisawa-npo.jp
SUMMARY:やさしい手話レッスン 申込締切8/2
DESCRIPTION:日程：8/15(火)、8/16(水)〈全2回〉\n情報No.110221 \n\n手話って：\n手の動きやかたちで、気持ちや考えを表現できる大切なコミュニケーション方法です。\n手話を知って、おぽえて、ためして夏休みに新しいチャレンジしてみませんか。\n持ち物：すいとう(のみもの)\n※申し込みシステムはこちら
URL:https://fujisawa-npo.jp/event/%e3%82%84%e3%81%95%e3%81%97%e3%81%84%e6%89%8b%e8%a9%b1%e3%83%ac%e3%83%83%e3%82%b9%e3%83%b3-%e7%94%b3%e8%be%bc%e7%b7%a0%e5%88%878-2
LOCATION:藤沢青少年会館\, 朝日町10-8\, 藤沢市\, 神奈川県\, 日本
CATEGORIES:講座
ATTACH;FMTTYPE=image/jpeg:https://fujisawa-npo.jp/wp-content/uploads/2023/07/110221-1-scaled.jpg
END:VEVENT
BEGIN:VEVENT
DTSTART;TZID=Asia/Tokyo:20230812T130000
DTEND;TZID=Asia/Tokyo:20230930T133000
DTSTAMP:20260421T130643
CREATED:20230702T124352Z
LAST-MODIFIED:20230702T124352Z
UID:7255-1691845200-1696080600@fujisawa-npo.jp
SUMMARY:藤沢市生涯学習大学 放送通信コース「鵠沼〈東屋〉に集う文士たち～鵠沼文士村の世界」(再放送)
DESCRIPTION:放送日：8/8～9/26(毎週火曜日)、再放送 8/12～9/30(毎週土曜日)\nPDF情報No.110130 \n\n鵠沼は、明治20年頃から別荘地開発が始まり､保養地にもなりました。多くの文学者が寓居したり、〈東屋〉に滞在して執筆したり交流しました。\nその東屋を中心とした〈鵠沼文士村〉の世界を覗いてみませんか。\n※テキスト申込みやスクーリングもあります。詳しくはPDF裏面をご覧ください。\n※テキスト申し込み(電子申請)はこちら
URL:https://fujisawa-npo.jp/event/%e8%97%a4%e6%b2%a2%e5%b8%82%e7%94%9f%e6%b6%af%e5%ad%a6%e7%bf%92%e5%a4%a7%e5%ad%a6-%e6%94%be%e9%80%81%e9%80%9a%e4%bf%a1%e3%82%b3%e3%83%bc%e3%82%b9%e3%80%8c%e9%b5%a0%e6%b2%bc%e3%80%88%e6%9d%b1-2
LOCATION:FM放送(レディオ湘南 83.1MHz)
CATEGORIES:講座
ATTACH;FMTTYPE=image/jpeg:https://fujisawa-npo.jp/wp-content/uploads/2023/07/110130-scaled.jpg
ORGANIZER;CN="%E8%97%A4%E6%B2%A2%E5%B8%82%E7%94%9F%E6%B6%AF%E5%AD%A6%E7%BF%92%E6%B4%BB%E5%8B%95%E6%8E%A8%E9%80%B2%E5%AE%A4(F%E3%83%97%E3%83%AC%E3%82%A4%E3%82%B92%E9%9A%8E)":MAILTO:fj1-manabi@city.fujisawa.lg.jp
END:VEVENT
BEGIN:VEVENT
DTSTART;VALUE=DATE:20230810
DTEND;VALUE=DATE:20230811
DTSTAMP:20260421T130643
CREATED:20230717T154930Z
LAST-MODIFIED:20230717T154930Z
UID:7809-1691625600-1691711999@fujisawa-npo.jp
SUMMARY:令和5年度 藤沢まちゼミ 参加店舗大募集！ 申込締切8/10
DESCRIPTION:↑：申込締切\n開催期間：10/1(日)～10/31(火)\nPDF情報No.110269 \n\n店主とお客様がお店で空間・時間をシェアしてー体感を生み出す小さなお店ならではの、最強の新規顧客開拓ツールです。\nお店の新規顧客開拓、利益追求に「まちゼミ」で取り組んでみませんか。\n※まちゼミって、なぁに？\n店主とお客様がお店で空間・時間をシェアしてー体感を生み出す小さなお店ならではの、最強の新規顧客開拓ツールです。\nお店の新規顧客開拓、利益追求に「まちゼミ」で取り組んでみませんか。\n今年は、アフターコロナを見据えた「新たなお客様づくり」「新たな商品やサービスづくり」のきっかけを目指し開催いたします。\n※申し込みはこちら
URL:https://fujisawa-npo.jp/event/%e4%bb%a4%e5%92%8c5%e5%b9%b4%e5%ba%a6-%e8%97%a4%e6%b2%a2%e3%81%be%e3%81%a1%e3%82%bc%e3%83%9f-%e5%8f%82%e5%8a%a0%e5%ba%97%e8%88%97%e5%a4%a7%e5%8b%9f%e9%9b%86%ef%bc%81-%e7%94%b3%e8%be%bc%e7%b7%a0
LOCATION:神奈川県
CATEGORIES:講座
ATTACH;FMTTYPE=image/jpeg:https://fujisawa-npo.jp/wp-content/uploads/2023/07/110269-scaled.jpg
END:VEVENT
BEGIN:VEVENT
DTSTART;TZID=Asia/Tokyo:20230809T133000
DTEND;TZID=Asia/Tokyo:20230809T160000
DTSTAMP:20260421T130643
CREATED:20230623T001224Z
LAST-MODIFIED:20230623T001224Z
UID:6951-1691587800-1691596800@fujisawa-npo.jp
SUMMARY:動画制作講座「できる！動く団体PR」 申込締切8/5
DESCRIPTION:日程：8/9(水)、8/30(水)〈全2回〉、時間：13:30～16:00\nPDF情報No.110073 \n\n昨年、大好評の講座を今年も実施！「動画は難しい」「アナログタイプだから…」と思っている方向け。\n教えるプロがわかりやすく機器使用方法を伝授。\n皆さんの活動を若い世代に広めるためにも、デジタルデビューで効果的に！
URL:https://fujisawa-npo.jp/event/%e5%8b%95%e7%94%bb%e5%88%b6%e4%bd%9c%e8%ac%9b%e5%ba%a7%e3%80%8c%e3%81%a7%e3%81%8d%e3%82%8b%ef%bc%81%e5%8b%95%e3%81%8f%e5%9b%a3%e4%bd%93pr%e3%80%8d-%e7%94%b3%e8%be%bc%e7%b7%a0%e5%88%878-5
LOCATION:さがみはら市民活動サポートセンター(けやき会館3階)\, 富士見6-6-23\, 相模原市\, 神奈川県\, 日本
CATEGORIES:講座
ATTACH;FMTTYPE=image/jpeg:https://fujisawa-npo.jp/wp-content/uploads/2023/06/110073-scaled.jpg
ORGANIZER;CN="%E3%81%95%E3%81%8C%E3%81%BF%E3%81%AF%E3%82%89%E5%B8%82%E6%B0%91%E6%B4%BB%E5%8B%95%E3%82%B5%E3%83%9D%E3%83%BC%E3%83%88%E3%82%BB%E3%83%B3%E3%82%BF%E3%83%BC":MAILTO:sagami.saposen@iris.ocn.ne.jp
END:VEVENT
END:VCALENDAR