BEGIN:VCALENDAR
VERSION:2.0
PRODID:-//藤沢市市民活動推進センター - ECPv6.15.11//NONSGML v1.0//EN
CALSCALE:GREGORIAN
METHOD:PUBLISH
X-WR-CALNAME:藤沢市市民活動推進センター
X-ORIGINAL-URL:https://fujisawa-npo.jp
X-WR-CALDESC:藤沢市市民活動推進センター のイベント
REFRESH-INTERVAL;VALUE=DURATION:PT1H
X-Robots-Tag:noindex
X-PUBLISHED-TTL:PT1H
BEGIN:VTIMEZONE
TZID:Asia/Tokyo
BEGIN:STANDARD
TZOFFSETFROM:+0900
TZOFFSETTO:+0900
TZNAME:JST
DTSTART:20220101T000000
END:STANDARD
END:VTIMEZONE
BEGIN:VEVENT
DTSTART;TZID=Asia/Tokyo:20230416T093000
DTEND;TZID=Asia/Tokyo:20230416T180000
DTSTAMP:20260422T051231
CREATED:20230602T053230Z
LAST-MODIFIED:20230602T064333Z
UID:6419-1681637400-1681668000@fujisawa-npo.jp
SUMMARY:サードセクター組織コンサルタント養成講座
DESCRIPTION:日程：4/16(日)、4/23(日)\nPDF情報No.109253 \n\n地域課題、社会問題解決を担うサードセクター組織を育て、支援する影の立役者(コンサルタント)になろう！\nツリー型ロジック・モデル・シートの作成支援ができ、ビジョンに共感し、サードセクター組織を寄り添い支援ができる人材の養成講座です。\n資格認定の条件を満たされた方はJACEVO認定コンサルタントの認定証を交付します。\n社会的インパクト評価のツールとしてロジックモデルが注目されています。\nロジックモデルはいろいろありますが、ツリー型ロジックモデルは、評価のためだけのツールではありません。\nビジョン達成のために魅力ある事業を企画立案し、実践し、評価・改善するというP-D-C-Aのマネジメントサイクルに関係づけることで、成果をうみだす組織へと成長していきます。\nその活動を可視化していくことができます。
URL:https://fujisawa-npo.jp/event/%e3%82%b5%e3%83%bc%e3%83%89%e3%82%bb%e3%82%af%e3%82%bf%e3%83%bc%e7%b5%84%e7%b9%94%e3%82%b3%e3%83%b3%e3%82%b5%e3%83%ab%e3%82%bf%e3%83%b3%e3%83%88%e9%a4%8a%e6%88%90%e8%ac%9b%e5%ba%a7
LOCATION:オンライン(Zoom)
CATEGORIES:講座
ATTACH;FMTTYPE=image/jpeg:https://fujisawa-npo.jp/wp-content/uploads/2023/06/109253.jpg
ORGANIZER;CN="(%E5%85%AC%E7%A4%BE)%E6%97%A5%E6%9C%AC%E3%82%B5%E3%83%BC%E3%83%89%E3%82%BB%E3%82%AF%E3%82%BF%E3%83%BC%E7%B5%8C%E5%96%B6%E8%80%85%E5%8D%94%E4%BC%9A":MAILTO:support@jacevo.jp
END:VEVENT
END:VCALENDAR